BEGIN:VCALENDAR
VERSION:2.0
PRODID:-//Arbor Hospice - ECPv6.15.20//NONSGML v1.0//EN
CALSCALE:GREGORIAN
METHOD:PUBLISH
X-ORIGINAL-URL:https://arborhospice.org
X-WR-CALDESC:Events for Arbor Hospice
REFRESH-INTERVAL;VALUE=DURATION:PT1H
X-Robots-Tag:noindex
X-PUBLISHED-TTL:PT1H
BEGIN:VTIMEZONE
TZID:America/Detroit
BEGIN:DAYLIGHT
TZOFFSETFROM:-0500
TZOFFSETTO:-0400
TZNAME:EDT
DTSTART:20230312T070000
END:DAYLIGHT
BEGIN:STANDARD
TZOFFSETFROM:-0400
TZOFFSETTO:-0500
TZNAME:EST
DTSTART:20231105T060000
END:STANDARD
BEGIN:DAYLIGHT
TZOFFSETFROM:-0500
TZOFFSETTO:-0400
TZNAME:EDT
DTSTART:20240310T070000
END:DAYLIGHT
BEGIN:STANDARD
TZOFFSETFROM:-0400
TZOFFSETTO:-0500
TZNAME:EST
DTSTART:20241103T060000
END:STANDARD
BEGIN:DAYLIGHT
TZOFFSETFROM:-0500
TZOFFSETTO:-0400
TZNAME:EDT
DTSTART:20250309T070000
END:DAYLIGHT
BEGIN:STANDARD
TZOFFSETFROM:-0400
TZOFFSETTO:-0500
TZNAME:EST
DTSTART:20251102T060000
END:STANDARD
END:VTIMEZONE
BEGIN:VEVENT
DTSTART;TZID=America/Detroit:20240513T183000
DTEND;TZID=America/Detroit:20240513T200000
DTSTAMP:20260423T100119
CREATED:20231128T210945Z
LAST-MODIFIED:20240408T195933Z
UID:10001222-1715625000-1715630400@arborhospice.org
SUMMARY:Living On (Virtual)
DESCRIPTION:The focus of Living On support groups is to express feelings and experiences related to the loss of a loved one in a supportive\, caring\, and non-judgmental environment. Grief and loss topics are addressed as they arise\, depending on the interests of those attending the group. \nPlease RSVP with Margie Martin at 734.769.5821 or mmartin@arborhospice.org
URL:https://arborhospice.org/event/living-on-virtual-4/2024-05-13/
LOCATION:Meets Virtually
CATEGORIES:Grief Support
ORGANIZER;CN="Margie Martin":MAILTO:mmartin@arborhospice.org
END:VEVENT
BEGIN:VEVENT
DTSTART;TZID=America/Detroit:20240513T183000
DTEND;TZID=America/Detroit:20240513T194500
DTSTAMP:20260423T100119
CREATED:20240408T181452Z
LAST-MODIFIED:20240408T193914Z
UID:10001471-1715625000-1715629500@arborhospice.org
SUMMARY:Living On - Loss of Parents (Virtual)
DESCRIPTION:The focus of Living On support groups is to express feelings and experiences related to the loss of a loved one in a supportive\, caring\, and non-judgmental environment. Grief and loss topics are addressed as they arise\, depending on the interests of those attending the group. \nThis open\, ongoing group meets monthly to discuss grief and loss as it pertains to the death of a parent. \nThis group meets virtually the 2nd Monday of the month • 6:30pm – 7:45pm \nPlease RSVP with Melissa McCreedy • 734-794-5127 • mmccreedy@arborhospice.org
URL:https://arborhospice.org/event/living-on-loss-of-parents-virtual-2/2024-05-13/
LOCATION:Meets Virtually
CATEGORIES:Grief Support
ORGANIZER;CN="Melissa McCreedy":MAILTO:mmccreedy@arborhospice.org
END:VEVENT
BEGIN:VEVENT
DTSTART;TZID=America/Detroit:20240509T140000
DTEND;TZID=America/Detroit:20240509T153000
DTSTAMP:20260423T100119
CREATED:20231128T210249Z
LAST-MODIFIED:20240408T200640Z
UID:10001104-1715263200-1715268600@arborhospice.org
SUMMARY:Living On - Loss of Spouse/Partner (Virtual)
DESCRIPTION:The focus of Living On support groups is to express feelings and experiences related to the loss of a loved one in a supportive\, caring\, and non-judgmental environment. Grief and loss topics are addressed as they arise\, depending on the interests of those attending the group. \nCome and share\, or simply listen as we discuss the various intricacies and many facets of grief after the loss of a spouse or partner. \nThis group meets virtually the 2nd & 4th Thursday of the month • 2pm – 3:30pm \nPlease RSVP with Kjirsten Boeve • 231-929-1557 • kboeve@hom.org \n 
URL:https://arborhospice.org/event/living-on-loss-of-spouse-partner-virtual-3/2024-05-09/
LOCATION:Meets Virtually
CATEGORIES:Grief Support
ORGANIZER;CN="Kjirsten Boeve":MAILTO:kboeve@hom.org
END:VEVENT
BEGIN:VEVENT
DTSTART;TZID=America/Detroit:20240509T103000
DTEND;TZID=America/Detroit:20240509T113000
DTSTAMP:20260423T100119
CREATED:20240409T145851Z
LAST-MODIFIED:20240409T145851Z
UID:10001924-1715250600-1715254200@arborhospice.org
SUMMARY:Living On - Adult Child (Virtual)
DESCRIPTION:This virtual Grief Support Group is an open\, ongoing group that meets monthly to discuss grief and loss as it pertains to the death of an adult child. \nThis group meets the 2nd Thursday of the month • 10:30am – 11:30am \nPlease RSVP with Will Gasper • 231-444-3350 • wgasper@hom.org
URL:https://arborhospice.org/event/living-on-adult-child-virtual-3/2024-05-09/
LOCATION:Meets Virtually
CATEGORIES:Grief Support
ORGANIZER;CN="Will Gasper":MAILTO:wgasper@hom.org
END:VEVENT
BEGIN:VEVENT
DTSTART;TZID=America/Detroit:20240507T180000
DTEND;TZID=America/Detroit:20240507T193000
DTSTAMP:20260423T100119
CREATED:20240408T201953Z
LAST-MODIFIED:20240408T201953Z
UID:10001728-1715104800-1715110200@arborhospice.org
SUMMARY:Living On Grief Support Group (Virtual)
DESCRIPTION:The focus of Living On support groups is to express feelings and experiences related to the loss of a loved one in a supportive\, caring\, and non-judgmental environment. Grief and loss topics are addressed as they arise\, depending on the interests of those attending the group. \nThis Living On group is facilitated by Hospice of Michigan staff. \nThis virtual group meets the 1st Tuesday of the month • 6pm – 7:30pm \nPlease RSVP with Cindy Palmer • 231-527-0913 • cpalmer@hom.org
URL:https://arborhospice.org/event/living-on-grief-support-group-virtual-3/2024-05-07/
LOCATION:Meets Virtually
CATEGORIES:Grief Support
ORGANIZER;CN="Cynthia Palmer":MAILTO:cpalmer@hom.org
END:VEVENT
BEGIN:VEVENT
DTSTART;TZID=America/Detroit:20240507T180000
DTEND;TZID=America/Detroit:20240507T191500
DTSTAMP:20260423T100119
CREATED:20240408T203644Z
LAST-MODIFIED:20240408T204257Z
UID:10001798-1715104800-1715109300@arborhospice.org
SUMMARY:Living On - Loss of Spouse/Partner Grief Support Group (Virtual)
DESCRIPTION:The focus of Living On support groups is to express feelings and experiences related to the loss of a loved one in a supportive\, caring\, and non-judgmental environment. Grief and loss topics are addressed as they arise\, depending on the interests of those attending the group. \nShare\, or simply listen\, as we discuss the various intricacies and many facets of grief after the loss of a spouse or partner. \nThis Living On group is facilitated by Hospice of Michigan staff. \n1st & 3rd Tuesday of the month • 6pm – 7:15pm \nPlease RSVP for this virtual group with Stacy Malenfant • 989-358-4295 • smalenfa@hom.org \n 
URL:https://arborhospice.org/event/living-on-loss-of-spouse-partner-grief-support-group-virtual/2024-05-07/
LOCATION:Meets Virtually
CATEGORIES:Grief Support
ORGANIZER;CN="Stacey Malenfant":MAILTO:smalenfa@hom.org
END:VEVENT
BEGIN:VEVENT
DTSTART;TZID=America/Detroit:20240506T180000
DTEND;TZID=America/Detroit:20240506T191500
DTSTAMP:20260423T100119
CREATED:20240409T145525Z
LAST-MODIFIED:20240409T145525Z
UID:10001863-1715018400-1715022900@arborhospice.org
SUMMARY:Living On - Young Adults (Virtual)
DESCRIPTION:This Living On Grief Support Group is an open\, ongoing support group for people in their 20s and 30s who are mourning any loss. Each group will consist of a time of education\, sharing and support. This group is facilitated by Hospice of Michigan and Arbor Hospice Grief Counselors and is largely peer-supported. \n  \nThis group meets virtually the 1st Monday of the month • 6pm – 7:15pm \nPlease RSVP with Ryan Miller • 616-356-5228 • rymiller@hom.org
URL:https://arborhospice.org/event/living-on-young-adults-virtual-2/2024-05-06/
LOCATION:Meets Virtually
CATEGORIES:Grief Support
ORGANIZER;CN="Ryan Miller":MAILTO:rymiller@hom.org
END:VEVENT
BEGIN:VEVENT
DTSTART;TZID=America/Detroit:20240425T140000
DTEND;TZID=America/Detroit:20240425T153000
DTSTAMP:20260423T100119
CREATED:20231128T210415Z
LAST-MODIFIED:20240409T150428Z
UID:10001162-1714053600-1714059000@arborhospice.org
SUMMARY:Living On - Loss of Spouse/Partner (Virtual)
DESCRIPTION:Come and share\, or simply listen as we discuss the various intricacies and many facets of grief after the loss of a spouse or partner. \nPlease RSVP with Kjirsten Boeve at 231.929.1557 or kboeve@hom.org
URL:https://arborhospice.org/event/living-on-loss-of-spouse-partner-virtual-4/2024-04-25/
LOCATION:Meets Virtually
CATEGORIES:Grief Support
ORGANIZER;CN="Kjirsten Boeve":MAILTO:kboeve@hom.org
END:VEVENT
BEGIN:VEVENT
DTSTART;TZID=America/Detroit:20240416T180000
DTEND;TZID=America/Detroit:20240416T193000
DTSTAMP:20260423T100119
CREATED:20231128T203740Z
LAST-MODIFIED:20231128T204005Z
UID:10000973-1713290400-1713295800@arborhospice.org
SUMMARY:Men Overcoming Loss (Virtual)
DESCRIPTION:This grief support group is designed for men grieving the death of a loved one. This is both a virtual group–join from your computer or mobile device. \nPlease RSVP to Will Gasper at 231.444.3350 or wgasper@hom.org
URL:https://arborhospice.org/event/men-overcoming-loss-virtual-2-2/2024-04-16/
LOCATION:Meets Virtually
CATEGORIES:Grief Support
ORGANIZER;CN="Will Gasper":MAILTO:wgasper@hom.org
END:VEVENT
BEGIN:VEVENT
DTSTART;TZID=America/Detroit:20240416T180000
DTEND;TZID=America/Detroit:20240416T191500
DTSTAMP:20260423T100119
CREATED:20240408T203644Z
LAST-MODIFIED:20240408T204257Z
UID:10001797-1713290400-1713294900@arborhospice.org
SUMMARY:Living On - Loss of Spouse/Partner Grief Support Group (Virtual)
DESCRIPTION:The focus of Living On support groups is to express feelings and experiences related to the loss of a loved one in a supportive\, caring\, and non-judgmental environment. Grief and loss topics are addressed as they arise\, depending on the interests of those attending the group. \nShare\, or simply listen\, as we discuss the various intricacies and many facets of grief after the loss of a spouse or partner. \nThis Living On group is facilitated by Hospice of Michigan staff. \n1st & 3rd Tuesday of the month • 6pm – 7:15pm \nPlease RSVP for this virtual group with Stacy Malenfant • 989-358-4295 • smalenfa@hom.org \n 
URL:https://arborhospice.org/event/living-on-loss-of-spouse-partner-grief-support-group-virtual/2024-04-16/
LOCATION:Meets Virtually
CATEGORIES:Grief Support
ORGANIZER;CN="Stacey Malenfant":MAILTO:smalenfa@hom.org
END:VEVENT
BEGIN:VEVENT
DTSTART;TZID=America/Detroit:20240411T140000
DTEND;TZID=America/Detroit:20240411T153000
DTSTAMP:20260423T100119
CREATED:20231128T210249Z
LAST-MODIFIED:20240408T200640Z
UID:10001103-1712844000-1712849400@arborhospice.org
SUMMARY:Living On - Loss of Spouse/Partner (Virtual)
DESCRIPTION:The focus of Living On support groups is to express feelings and experiences related to the loss of a loved one in a supportive\, caring\, and non-judgmental environment. Grief and loss topics are addressed as they arise\, depending on the interests of those attending the group. \nCome and share\, or simply listen as we discuss the various intricacies and many facets of grief after the loss of a spouse or partner. \nThis group meets virtually the 2nd & 4th Thursday of the month • 2pm – 3:30pm \nPlease RSVP with Kjirsten Boeve • 231-929-1557 • kboeve@hom.org \n 
URL:https://arborhospice.org/event/living-on-loss-of-spouse-partner-virtual-3/2024-04-11/
LOCATION:Meets Virtually
CATEGORIES:Grief Support
ORGANIZER;CN="Kjirsten Boeve":MAILTO:kboeve@hom.org
END:VEVENT
BEGIN:VEVENT
DTSTART;TZID=America/Detroit:20240411T103000
DTEND;TZID=America/Detroit:20240411T113000
DTSTAMP:20260423T100119
CREATED:20240409T145851Z
LAST-MODIFIED:20240409T145851Z
UID:10001923-1712831400-1712835000@arborhospice.org
SUMMARY:Living On - Adult Child (Virtual)
DESCRIPTION:This virtual Grief Support Group is an open\, ongoing group that meets monthly to discuss grief and loss as it pertains to the death of an adult child. \nThis group meets the 2nd Thursday of the month • 10:30am – 11:30am \nPlease RSVP with Will Gasper • 231-444-3350 • wgasper@hom.org
URL:https://arborhospice.org/event/living-on-adult-child-virtual-3/2024-04-11/
LOCATION:Meets Virtually
CATEGORIES:Grief Support
ORGANIZER;CN="Will Gasper":MAILTO:wgasper@hom.org
END:VEVENT
BEGIN:VEVENT
DTSTART;TZID=America/Detroit:20240409T183000
DTEND;TZID=America/Detroit:20240409T193000
DTSTAMP:20260423T100119
CREATED:20240409T150126Z
LAST-MODIFIED:20240409T150126Z
UID:10001983-1712687400-1712691000@arborhospice.org
SUMMARY:Grief After Dementia (Virtual)
DESCRIPTION:Losing someone after a dementia-related illness can be a unique grief experience. This program is presented in partnership with the Alzheimer’s Association of Michigan. \nThis group meets virtually the 2nd Tuesday of the month 6:30pm – 7:30pm \nPlease RSVP with Alexandra Irwin 231-527-0913 • airwin@hom.org
URL:https://arborhospice.org/event/grief-after-dementia-virtual/2024-04-09/
LOCATION:Meets Virtually
CATEGORIES:Grief Support
ORGANIZER;CN="Alexandra Irwin":MAILTO:airwin@hom.org
END:VEVENT
BEGIN:VEVENT
DTSTART;TZID=America/Detroit:20240408T183000
DTEND;TZID=America/Detroit:20240408T200000
DTSTAMP:20260423T100119
CREATED:20231128T210945Z
LAST-MODIFIED:20240408T195933Z
UID:10001221-1712601000-1712606400@arborhospice.org
SUMMARY:Living On (Virtual)
DESCRIPTION:The focus of Living On support groups is to express feelings and experiences related to the loss of a loved one in a supportive\, caring\, and non-judgmental environment. Grief and loss topics are addressed as they arise\, depending on the interests of those attending the group. \nPlease RSVP with Margie Martin at 734.769.5821 or mmartin@arborhospice.org
URL:https://arborhospice.org/event/living-on-virtual-4/2024-04-08/
LOCATION:Meets Virtually
CATEGORIES:Grief Support
ORGANIZER;CN="Margie Martin":MAILTO:mmartin@arborhospice.org
END:VEVENT
BEGIN:VEVENT
DTSTART;TZID=America/Detroit:20240408T183000
DTEND;TZID=America/Detroit:20240408T194500
DTSTAMP:20260423T100119
CREATED:20240408T181452Z
LAST-MODIFIED:20240408T193914Z
UID:10001470-1712601000-1712605500@arborhospice.org
SUMMARY:Living On - Loss of Parents (Virtual)
DESCRIPTION:The focus of Living On support groups is to express feelings and experiences related to the loss of a loved one in a supportive\, caring\, and non-judgmental environment. Grief and loss topics are addressed as they arise\, depending on the interests of those attending the group. \nThis open\, ongoing group meets monthly to discuss grief and loss as it pertains to the death of a parent. \nThis group meets virtually the 2nd Monday of the month • 6:30pm – 7:45pm \nPlease RSVP with Melissa McCreedy • 734-794-5127 • mmccreedy@arborhospice.org
URL:https://arborhospice.org/event/living-on-loss-of-parents-virtual-2/2024-04-08/
LOCATION:Meets Virtually
CATEGORIES:Grief Support
ORGANIZER;CN="Melissa McCreedy":MAILTO:mmccreedy@arborhospice.org
END:VEVENT
BEGIN:VEVENT
DTSTART;TZID=America/Detroit:20240402T180000
DTEND;TZID=America/Detroit:20240402T193000
DTSTAMP:20260423T100119
CREATED:20240408T201953Z
LAST-MODIFIED:20240408T201953Z
UID:10001727-1712080800-1712086200@arborhospice.org
SUMMARY:Living On Grief Support Group (Virtual)
DESCRIPTION:The focus of Living On support groups is to express feelings and experiences related to the loss of a loved one in a supportive\, caring\, and non-judgmental environment. Grief and loss topics are addressed as they arise\, depending on the interests of those attending the group. \nThis Living On group is facilitated by Hospice of Michigan staff. \nThis virtual group meets the 1st Tuesday of the month • 6pm – 7:30pm \nPlease RSVP with Cindy Palmer • 231-527-0913 • cpalmer@hom.org
URL:https://arborhospice.org/event/living-on-grief-support-group-virtual-3/2024-04-02/
LOCATION:Meets Virtually
CATEGORIES:Grief Support
ORGANIZER;CN="Cynthia Palmer":MAILTO:cpalmer@hom.org
END:VEVENT
BEGIN:VEVENT
DTSTART;TZID=America/Detroit:20240328T140000
DTEND;TZID=America/Detroit:20240328T153000
DTSTAMP:20260423T100119
CREATED:20231128T210415Z
LAST-MODIFIED:20240409T150428Z
UID:10001161-1711634400-1711639800@arborhospice.org
SUMMARY:Living On - Loss of Spouse/Partner (Virtual)
DESCRIPTION:Come and share\, or simply listen as we discuss the various intricacies and many facets of grief after the loss of a spouse or partner. \nPlease RSVP with Kjirsten Boeve at 231.929.1557 or kboeve@hom.org
URL:https://arborhospice.org/event/living-on-loss-of-spouse-partner-virtual-4/2024-03-28/
LOCATION:Meets Virtually
CATEGORIES:Grief Support
ORGANIZER;CN="Kjirsten Boeve":MAILTO:kboeve@hom.org
END:VEVENT
BEGIN:VEVENT
DTSTART;TZID=America/Detroit:20240319T180000
DTEND;TZID=America/Detroit:20240319T193000
DTSTAMP:20260423T100119
CREATED:20231128T203740Z
LAST-MODIFIED:20231128T204005Z
UID:10000972-1710871200-1710876600@arborhospice.org
SUMMARY:Men Overcoming Loss (Virtual)
DESCRIPTION:This grief support group is designed for men grieving the death of a loved one. This is both a virtual group–join from your computer or mobile device. \nPlease RSVP to Will Gasper at 231.444.3350 or wgasper@hom.org
URL:https://arborhospice.org/event/men-overcoming-loss-virtual-2-2/2024-03-19/
LOCATION:Meets Virtually
CATEGORIES:Grief Support
ORGANIZER;CN="Will Gasper":MAILTO:wgasper@hom.org
END:VEVENT
BEGIN:VEVENT
DTSTART;TZID=America/Detroit:20240319T180000
DTEND;TZID=America/Detroit:20240319T191500
DTSTAMP:20260423T100119
CREATED:20231130T210905Z
LAST-MODIFIED:20231130T211037Z
UID:10000891-1710871200-1710875700@arborhospice.org
SUMMARY:Living On - Loss of Spouse or Partner (Virtual)
DESCRIPTION:The focus of Living On support groups is to express feelings and experiences related to the loss of a loved one in a supportive\, caring\, and non-judgmental environment. Grief and loss topics are addressed as they arise\, depending on the interests of those attending the group. \nCome and share\, or simply listen\, as we discuss the various intricacies and many facets of grief after the loss of a spouse or partner. \nJoin virtually from your computer or mobile device.\nThis group meets the 1st & 3rd Tuesdays of the month • 6pm – 7:15pm\nPlease RSVP with Stacy Malenfant • 989-358-4295 • smalenfa@hom.org
URL:https://arborhospice.org/event/living-on-loss-of-spouse-or-partner-virtual-2/2024-03-19/
LOCATION:Meets Virtually
CATEGORIES:Grief Support
ORGANIZER;CN="Stacey Malenfant":MAILTO:smalenfa@hom.org
END:VEVENT
BEGIN:VEVENT
DTSTART;TZID=America/Detroit:20240314T140000
DTEND;TZID=America/Detroit:20240314T153000
DTSTAMP:20260423T100119
CREATED:20231128T210249Z
LAST-MODIFIED:20240408T200640Z
UID:10001102-1710424800-1710430200@arborhospice.org
SUMMARY:Living On - Loss of Spouse/Partner (Virtual)
DESCRIPTION:The focus of Living On support groups is to express feelings and experiences related to the loss of a loved one in a supportive\, caring\, and non-judgmental environment. Grief and loss topics are addressed as they arise\, depending on the interests of those attending the group. \nCome and share\, or simply listen as we discuss the various intricacies and many facets of grief after the loss of a spouse or partner. \nThis group meets virtually the 2nd & 4th Thursday of the month • 2pm – 3:30pm \nPlease RSVP with Kjirsten Boeve • 231-929-1557 • kboeve@hom.org \n 
URL:https://arborhospice.org/event/living-on-loss-of-spouse-partner-virtual-3/2024-03-14/
LOCATION:Meets Virtually
CATEGORIES:Grief Support
ORGANIZER;CN="Kjirsten Boeve":MAILTO:kboeve@hom.org
END:VEVENT
BEGIN:VEVENT
DTSTART;TZID=America/Detroit:20240314T103000
DTEND;TZID=America/Detroit:20240314T113000
DTSTAMP:20260423T100119
CREATED:20230726T170538Z
LAST-MODIFIED:20230726T180532Z
UID:10000898-1710412200-1710415800@arborhospice.org
SUMMARY:Living On - Adult Child (Virtual)
DESCRIPTION:The focus of Living On support groups is to express feelings and experiences related to the loss of a loved one in a supportive\, caring\, and non-judgmental environment. Grief and loss topics are addressed as they arise\, depending on the interests of those attending the group. \nThis is an open\, ongoing group that meets monthly to discuss grief and loss as it pertains to the\ndeath of an adult child. Join virtually from your computer or mobile device. \nThis group is facilitated by Arbor Hospice staff.  \nThis group meets the 2nd Thursday of the month • 10:30am – 11:30am\nPlease RSVP with Will Gasper • 231-444-3350 • wgasper@hom.org
URL:https://arborhospice.org/event/living-on-adult-child-virtual/2024-03-14/
LOCATION:Meets Virtually
CATEGORIES:Grief Support
ORGANIZER;CN="Will Gasper":MAILTO:wgasper@hom.org
END:VEVENT
BEGIN:VEVENT
DTSTART;TZID=America/Detroit:20240312T183000
DTEND;TZID=America/Detroit:20240312T193000
DTSTAMP:20260423T100119
CREATED:20230726T170759Z
LAST-MODIFIED:20230726T170759Z
UID:10000905-1710268200-1710271800@arborhospice.org
SUMMARY:Grief After Dementia
DESCRIPTION:Losing someone after a dementia-related illness can be a unique grief experience. This program is presented in partnership with the Alzheimer’s Association of Michigan. \nJoin virtually from your computer or mobile device.  \nThis program meets virtually on the 2nd Tuesday of the month\, from 6:30pm – 7:30pm\nPlease RSVP with Alexandra Irwin 989-705-2603 • airwin@hom.or
URL:https://arborhospice.org/event/grief-after-dementia/2024-03-12/
LOCATION:Meets Virtually
CATEGORIES:Grief Support
ORGANIZER;CN="Alexandra Irwin":MAILTO:airwin@hom.org
END:VEVENT
BEGIN:VEVENT
DTSTART;TZID=America/Detroit:20240311T183000
DTEND;TZID=America/Detroit:20240311T200000
DTSTAMP:20260423T100119
CREATED:20231128T210945Z
LAST-MODIFIED:20240408T195933Z
UID:10001220-1710181800-1710187200@arborhospice.org
SUMMARY:Living On (Virtual)
DESCRIPTION:The focus of Living On support groups is to express feelings and experiences related to the loss of a loved one in a supportive\, caring\, and non-judgmental environment. Grief and loss topics are addressed as they arise\, depending on the interests of those attending the group. \nPlease RSVP with Margie Martin at 734.769.5821 or mmartin@arborhospice.org
URL:https://arborhospice.org/event/living-on-virtual-4/2024-03-11/
LOCATION:Meets Virtually
CATEGORIES:Grief Support
ORGANIZER;CN="Margie Martin":MAILTO:mmartin@arborhospice.org
END:VEVENT
BEGIN:VEVENT
DTSTART;TZID=America/Detroit:20240306T140000
DTEND;TZID=America/Detroit:20240306T150000
DTSTAMP:20260423T100119
CREATED:20231128T215036Z
LAST-MODIFIED:20231128T215036Z
UID:10001403-1709733600-1709737200@arborhospice.org
SUMMARY:Winter Warmth (Virtual)
DESCRIPTION:The cold and gray often makes it difficult to grieve during the winter months. This seminar is designed to help you learn more about the importance of cherishing your memories and will focus on how carrying on your loved one’s legacy can help in your healing. \nPlease RSVP with Margie Martin at 734.769.5821 or mmartin@arborhospice.org
URL:https://arborhospice.org/event/winter-warmth-virtual/
LOCATION:Meets Virtually
CATEGORIES:Grief Support
ORGANIZER;CN="Margie Martin":MAILTO:mmartin@arborhospice.org
END:VEVENT
BEGIN:VEVENT
DTSTART;TZID=America/Detroit:20240305T180000
DTEND;TZID=America/Detroit:20240305T193000
DTSTAMP:20260423T100119
CREATED:20230726T155740Z
LAST-MODIFIED:20230726T155740Z
UID:10000855-1709661600-1709667000@arborhospice.org
SUMMARY:Living On (Virtual)
DESCRIPTION:The focus of Living On support groups is to express feelings and experiences related to the loss of a loved one in a supportive\, caring\, and non-judgmental environment. Grief and loss topics are addressed as they arise\, depending on the interests of those attending the group. \nThis group is facilitated by Arbor Hospice staff. \nThis group meets virtually the 1st Tuesday of the month from 6pm – 7:30pm\nJoin virtually from your computer or mobile device.\nPlease RSVP with Cindy Palmer at 248-334-1323 • cpalmer@hom.org
URL:https://arborhospice.org/event/living-on-virtual-2/2024-03-05/
LOCATION:Meets Virtually
CATEGORIES:Grief Support
ORGANIZER;CN="Cynthia Palmer":MAILTO:cpalmer@hom.org
END:VEVENT
BEGIN:VEVENT
DTSTART;TZID=America/Detroit:20240305T180000
DTEND;TZID=America/Detroit:20240305T191500
DTSTAMP:20260423T100119
CREATED:20231130T210905Z
LAST-MODIFIED:20231130T211037Z
UID:10001091-1709661600-1709666100@arborhospice.org
SUMMARY:Living On - Loss of Spouse or Partner (Virtual)
DESCRIPTION:The focus of Living On support groups is to express feelings and experiences related to the loss of a loved one in a supportive\, caring\, and non-judgmental environment. Grief and loss topics are addressed as they arise\, depending on the interests of those attending the group. \nCome and share\, or simply listen\, as we discuss the various intricacies and many facets of grief after the loss of a spouse or partner. \nJoin virtually from your computer or mobile device.\nThis group meets the 1st & 3rd Tuesdays of the month • 6pm – 7:15pm\nPlease RSVP with Stacy Malenfant • 989-358-4295 • smalenfa@hom.org
URL:https://arborhospice.org/event/living-on-loss-of-spouse-or-partner-virtual-2/2024-03-05/
LOCATION:Meets Virtually
CATEGORIES:Grief Support
ORGANIZER;CN="Stacey Malenfant":MAILTO:smalenfa@hom.org
END:VEVENT
BEGIN:VEVENT
DTSTART;TZID=America/Detroit:20240304T180000
DTEND;TZID=America/Detroit:20240304T191500
DTSTAMP:20260423T100119
CREATED:20230726T165346Z
LAST-MODIFIED:20230726T165346Z
UID:10000876-1709575200-1709579700@arborhospice.org
SUMMARY:Living On - Young Adults (Virtual)
DESCRIPTION:This is an open\, ongoing support group for people in their 20s and 30s who are mourning any loss. Each group will consist of a time of education\, sharing and support. This group is facilitated by a Arbor Hospice Grief Counselor and is largely peer-supported.  \nJoin virtually from your computer or mobile device. \nThis group meets the 1st Monday of the month • 6pm – 7:15pm\nPlease RSVP with Ryan Miller • 616-356-5228 • rymiller@hom.org
URL:https://arborhospice.org/event/living-on-young-adults-virtual/2024-03-04/
LOCATION:Meets Virtually
CATEGORIES:Grief Support
ORGANIZER;CN="Ryan Miller":MAILTO:rymiller@hom.org
END:VEVENT
BEGIN:VEVENT
DTSTART;TZID=America/Detroit:20240222T140000
DTEND;TZID=America/Detroit:20240222T153000
DTSTAMP:20260423T100119
CREATED:20231128T210415Z
LAST-MODIFIED:20240409T150428Z
UID:10001160-1708610400-1708615800@arborhospice.org
SUMMARY:Living On - Loss of Spouse/Partner (Virtual)
DESCRIPTION:Come and share\, or simply listen as we discuss the various intricacies and many facets of grief after the loss of a spouse or partner. \nPlease RSVP with Kjirsten Boeve at 231.929.1557 or kboeve@hom.org
URL:https://arborhospice.org/event/living-on-loss-of-spouse-partner-virtual-4/2024-02-22/
LOCATION:Meets Virtually
CATEGORIES:Grief Support
ORGANIZER;CN="Kjirsten Boeve":MAILTO:kboeve@hom.org
END:VEVENT
BEGIN:VEVENT
DTSTART;TZID=America/Detroit:20240220T180000
DTEND;TZID=America/Detroit:20240220T193000
DTSTAMP:20260423T100119
CREATED:20231128T203740Z
LAST-MODIFIED:20231128T204005Z
UID:10000971-1708452000-1708457400@arborhospice.org
SUMMARY:Men Overcoming Loss (Virtual)
DESCRIPTION:This grief support group is designed for men grieving the death of a loved one. This is both a virtual group–join from your computer or mobile device. \nPlease RSVP to Will Gasper at 231.444.3350 or wgasper@hom.org
URL:https://arborhospice.org/event/men-overcoming-loss-virtual-2-2/2024-02-20/
LOCATION:Meets Virtually
CATEGORIES:Grief Support
ORGANIZER;CN="Will Gasper":MAILTO:wgasper@hom.org
END:VEVENT
BEGIN:VEVENT
DTSTART;TZID=America/Detroit:20240220T180000
DTEND;TZID=America/Detroit:20240220T191500
DTSTAMP:20260423T100119
CREATED:20231130T210905Z
LAST-MODIFIED:20231130T211037Z
UID:10000889-1708452000-1708456500@arborhospice.org
SUMMARY:Living On - Loss of Spouse or Partner (Virtual)
DESCRIPTION:The focus of Living On support groups is to express feelings and experiences related to the loss of a loved one in a supportive\, caring\, and non-judgmental environment. Grief and loss topics are addressed as they arise\, depending on the interests of those attending the group. \nCome and share\, or simply listen\, as we discuss the various intricacies and many facets of grief after the loss of a spouse or partner. \nJoin virtually from your computer or mobile device.\nThis group meets the 1st & 3rd Tuesdays of the month • 6pm – 7:15pm\nPlease RSVP with Stacy Malenfant • 989-358-4295 • smalenfa@hom.org
URL:https://arborhospice.org/event/living-on-loss-of-spouse-or-partner-virtual-2/2024-02-20/
LOCATION:Meets Virtually
CATEGORIES:Grief Support
ORGANIZER;CN="Stacey Malenfant":MAILTO:smalenfa@hom.org
END:VEVENT
END:VCALENDAR