BEGIN:VCALENDAR
VERSION:2.0
PRODID:-//Arbor Hospice - ECPv6.15.20//NONSGML v1.0//EN
CALSCALE:GREGORIAN
METHOD:PUBLISH
X-ORIGINAL-URL:https://arborhospice.org
X-WR-CALDESC:Events for Arbor Hospice
REFRESH-INTERVAL;VALUE=DURATION:PT1H
X-Robots-Tag:noindex
X-PUBLISHED-TTL:PT1H
BEGIN:VTIMEZONE
TZID:America/Detroit
BEGIN:DAYLIGHT
TZOFFSETFROM:-0500
TZOFFSETTO:-0400
TZNAME:EDT
DTSTART:20230312T070000
END:DAYLIGHT
BEGIN:STANDARD
TZOFFSETFROM:-0400
TZOFFSETTO:-0500
TZNAME:EST
DTSTART:20231105T060000
END:STANDARD
BEGIN:DAYLIGHT
TZOFFSETFROM:-0500
TZOFFSETTO:-0400
TZNAME:EDT
DTSTART:20240310T070000
END:DAYLIGHT
BEGIN:STANDARD
TZOFFSETFROM:-0400
TZOFFSETTO:-0500
TZNAME:EST
DTSTART:20241103T060000
END:STANDARD
BEGIN:DAYLIGHT
TZOFFSETFROM:-0500
TZOFFSETTO:-0400
TZNAME:EDT
DTSTART:20250309T070000
END:DAYLIGHT
BEGIN:STANDARD
TZOFFSETFROM:-0400
TZOFFSETTO:-0500
TZNAME:EST
DTSTART:20251102T060000
END:STANDARD
BEGIN:DAYLIGHT
TZOFFSETFROM:-0500
TZOFFSETTO:-0400
TZNAME:EDT
DTSTART:20260308T070000
END:DAYLIGHT
BEGIN:STANDARD
TZOFFSETFROM:-0400
TZOFFSETTO:-0500
TZNAME:EST
DTSTART:20261101T060000
END:STANDARD
BEGIN:DAYLIGHT
TZOFFSETFROM:-0500
TZOFFSETTO:-0400
TZNAME:EDT
DTSTART:20270314T070000
END:DAYLIGHT
BEGIN:STANDARD
TZOFFSETFROM:-0400
TZOFFSETTO:-0500
TZNAME:EST
DTSTART:20271107T060000
END:STANDARD
END:VTIMEZONE
BEGIN:VEVENT
DTSTART;TZID=America/Detroit:20260420T180000
DTEND;TZID=America/Detroit:20260420T191500
DTSTAMP:20260422T022934
CREATED:20231128T211146Z
LAST-MODIFIED:20231128T211146Z
UID:10001304-1776708000-1776712500@arborhospice.org
SUMMARY:Living On (In Person)
DESCRIPTION:The focus of Living On support groups is to express feelings and experiences related to the loss of a loved one in a supportive\, caring\, and non-judgmental environment. Grief and loss topics are addressed as they arise\, depending on the interests of those attending the group. \nPlease RSVP with Melissa McCreedy at 734.794.5127 or mmccreedy@arborhospice.org
URL:https://arborhospice.org/event/living-on-in-person-4/2026-04-20/
LOCATION:Arbor Hospice – Ann Arbor\, 2366 Oak Valley Drive\, Ann Arbor\, MI\, 48103
CATEGORIES:Grief Support
ORGANIZER;CN="Melissa McCreedy":MAILTO:mmccreedy@arborhospice.org
END:VEVENT
BEGIN:VEVENT
DTSTART;TZID=America/Detroit:20260316T180000
DTEND;TZID=America/Detroit:20260316T191500
DTSTAMP:20260422T022934
CREATED:20231128T211146Z
LAST-MODIFIED:20231128T211146Z
UID:10001303-1773684000-1773688500@arborhospice.org
SUMMARY:Living On (In Person)
DESCRIPTION:The focus of Living On support groups is to express feelings and experiences related to the loss of a loved one in a supportive\, caring\, and non-judgmental environment. Grief and loss topics are addressed as they arise\, depending on the interests of those attending the group. \nPlease RSVP with Melissa McCreedy at 734.794.5127 or mmccreedy@arborhospice.org
URL:https://arborhospice.org/event/living-on-in-person-4/2026-03-16/
LOCATION:Arbor Hospice – Ann Arbor\, 2366 Oak Valley Drive\, Ann Arbor\, MI\, 48103
CATEGORIES:Grief Support
ORGANIZER;CN="Melissa McCreedy":MAILTO:mmccreedy@arborhospice.org
END:VEVENT
BEGIN:VEVENT
DTSTART;TZID=America/Detroit:20260216T180000
DTEND;TZID=America/Detroit:20260216T191500
DTSTAMP:20260422T022934
CREATED:20231128T211146Z
LAST-MODIFIED:20231128T211146Z
UID:10001302-1771264800-1771269300@arborhospice.org
SUMMARY:Living On (In Person)
DESCRIPTION:The focus of Living On support groups is to express feelings and experiences related to the loss of a loved one in a supportive\, caring\, and non-judgmental environment. Grief and loss topics are addressed as they arise\, depending on the interests of those attending the group. \nPlease RSVP with Melissa McCreedy at 734.794.5127 or mmccreedy@arborhospice.org
URL:https://arborhospice.org/event/living-on-in-person-4/2026-02-16/
LOCATION:Arbor Hospice – Ann Arbor\, 2366 Oak Valley Drive\, Ann Arbor\, MI\, 48103
CATEGORIES:Grief Support
ORGANIZER;CN="Melissa McCreedy":MAILTO:mmccreedy@arborhospice.org
END:VEVENT
BEGIN:VEVENT
DTSTART;TZID=America/Detroit:20260119T180000
DTEND;TZID=America/Detroit:20260119T191500
DTSTAMP:20260422T022934
CREATED:20231128T211146Z
LAST-MODIFIED:20231128T211146Z
UID:10001301-1768845600-1768850100@arborhospice.org
SUMMARY:Living On (In Person)
DESCRIPTION:The focus of Living On support groups is to express feelings and experiences related to the loss of a loved one in a supportive\, caring\, and non-judgmental environment. Grief and loss topics are addressed as they arise\, depending on the interests of those attending the group. \nPlease RSVP with Melissa McCreedy at 734.794.5127 or mmccreedy@arborhospice.org
URL:https://arborhospice.org/event/living-on-in-person-4/2026-01-19/
LOCATION:Arbor Hospice – Ann Arbor\, 2366 Oak Valley Drive\, Ann Arbor\, MI\, 48103
CATEGORIES:Grief Support
ORGANIZER;CN="Melissa McCreedy":MAILTO:mmccreedy@arborhospice.org
END:VEVENT
BEGIN:VEVENT
DTSTART;TZID=America/Detroit:20251215T180000
DTEND;TZID=America/Detroit:20251215T191500
DTSTAMP:20260422T022934
CREATED:20231128T211146Z
LAST-MODIFIED:20231128T211146Z
UID:10001300-1765821600-1765826100@arborhospice.org
SUMMARY:Living On (In Person)
DESCRIPTION:The focus of Living On support groups is to express feelings and experiences related to the loss of a loved one in a supportive\, caring\, and non-judgmental environment. Grief and loss topics are addressed as they arise\, depending on the interests of those attending the group. \nPlease RSVP with Melissa McCreedy at 734.794.5127 or mmccreedy@arborhospice.org
URL:https://arborhospice.org/event/living-on-in-person-4/2025-12-15/
LOCATION:Arbor Hospice – Ann Arbor\, 2366 Oak Valley Drive\, Ann Arbor\, MI\, 48103
CATEGORIES:Grief Support
ORGANIZER;CN="Melissa McCreedy":MAILTO:mmccreedy@arborhospice.org
END:VEVENT
BEGIN:VEVENT
DTSTART;TZID=America/Detroit:20251117T180000
DTEND;TZID=America/Detroit:20251117T191500
DTSTAMP:20260422T022934
CREATED:20231128T211146Z
LAST-MODIFIED:20231128T211146Z
UID:10001299-1763402400-1763406900@arborhospice.org
SUMMARY:Living On (In Person)
DESCRIPTION:The focus of Living On support groups is to express feelings and experiences related to the loss of a loved one in a supportive\, caring\, and non-judgmental environment. Grief and loss topics are addressed as they arise\, depending on the interests of those attending the group. \nPlease RSVP with Melissa McCreedy at 734.794.5127 or mmccreedy@arborhospice.org
URL:https://arborhospice.org/event/living-on-in-person-4/2025-11-17/
LOCATION:Arbor Hospice – Ann Arbor\, 2366 Oak Valley Drive\, Ann Arbor\, MI\, 48103
CATEGORIES:Grief Support
ORGANIZER;CN="Melissa McCreedy":MAILTO:mmccreedy@arborhospice.org
END:VEVENT
BEGIN:VEVENT
DTSTART;TZID=America/Detroit:20251020T180000
DTEND;TZID=America/Detroit:20251020T191500
DTSTAMP:20260422T022934
CREATED:20231128T211146Z
LAST-MODIFIED:20231128T211146Z
UID:10001298-1760983200-1760987700@arborhospice.org
SUMMARY:Living On (In Person)
DESCRIPTION:The focus of Living On support groups is to express feelings and experiences related to the loss of a loved one in a supportive\, caring\, and non-judgmental environment. Grief and loss topics are addressed as they arise\, depending on the interests of those attending the group. \nPlease RSVP with Melissa McCreedy at 734.794.5127 or mmccreedy@arborhospice.org
URL:https://arborhospice.org/event/living-on-in-person-4/2025-10-20/
LOCATION:Arbor Hospice – Ann Arbor\, 2366 Oak Valley Drive\, Ann Arbor\, MI\, 48103
CATEGORIES:Grief Support
ORGANIZER;CN="Melissa McCreedy":MAILTO:mmccreedy@arborhospice.org
END:VEVENT
BEGIN:VEVENT
DTSTART;TZID=America/Detroit:20250915T180000
DTEND;TZID=America/Detroit:20250915T191500
DTSTAMP:20260422T022934
CREATED:20231128T211146Z
LAST-MODIFIED:20231128T211146Z
UID:10001297-1757959200-1757963700@arborhospice.org
SUMMARY:Living On (In Person)
DESCRIPTION:The focus of Living On support groups is to express feelings and experiences related to the loss of a loved one in a supportive\, caring\, and non-judgmental environment. Grief and loss topics are addressed as they arise\, depending on the interests of those attending the group. \nPlease RSVP with Melissa McCreedy at 734.794.5127 or mmccreedy@arborhospice.org
URL:https://arborhospice.org/event/living-on-in-person-4/2025-09-15/
LOCATION:Arbor Hospice – Ann Arbor\, 2366 Oak Valley Drive\, Ann Arbor\, MI\, 48103
CATEGORIES:Grief Support
ORGANIZER;CN="Melissa McCreedy":MAILTO:mmccreedy@arborhospice.org
END:VEVENT
BEGIN:VEVENT
DTSTART;TZID=America/Detroit:20250818T180000
DTEND;TZID=America/Detroit:20250818T191500
DTSTAMP:20260422T022934
CREATED:20231128T211146Z
LAST-MODIFIED:20231128T211146Z
UID:10001296-1755540000-1755544500@arborhospice.org
SUMMARY:Living On (In Person)
DESCRIPTION:The focus of Living On support groups is to express feelings and experiences related to the loss of a loved one in a supportive\, caring\, and non-judgmental environment. Grief and loss topics are addressed as they arise\, depending on the interests of those attending the group. \nPlease RSVP with Melissa McCreedy at 734.794.5127 or mmccreedy@arborhospice.org
URL:https://arborhospice.org/event/living-on-in-person-4/2025-08-18/
LOCATION:Arbor Hospice – Ann Arbor\, 2366 Oak Valley Drive\, Ann Arbor\, MI\, 48103
CATEGORIES:Grief Support
ORGANIZER;CN="Melissa McCreedy":MAILTO:mmccreedy@arborhospice.org
END:VEVENT
BEGIN:VEVENT
DTSTART;TZID=America/Detroit:20250721T180000
DTEND;TZID=America/Detroit:20250721T191500
DTSTAMP:20260422T022934
CREATED:20231128T211146Z
LAST-MODIFIED:20231128T211146Z
UID:10001295-1753120800-1753125300@arborhospice.org
SUMMARY:Living On (In Person)
DESCRIPTION:The focus of Living On support groups is to express feelings and experiences related to the loss of a loved one in a supportive\, caring\, and non-judgmental environment. Grief and loss topics are addressed as they arise\, depending on the interests of those attending the group. \nPlease RSVP with Melissa McCreedy at 734.794.5127 or mmccreedy@arborhospice.org
URL:https://arborhospice.org/event/living-on-in-person-4/2025-07-21/
LOCATION:Arbor Hospice – Ann Arbor\, 2366 Oak Valley Drive\, Ann Arbor\, MI\, 48103
CATEGORIES:Grief Support
ORGANIZER;CN="Melissa McCreedy":MAILTO:mmccreedy@arborhospice.org
END:VEVENT
BEGIN:VEVENT
DTSTART;TZID=America/Detroit:20250621T110000
DTEND;TZID=America/Detroit:20250621T130000
DTSTAMP:20260422T022934
CREATED:20250529T133618Z
LAST-MODIFIED:20250529T133618Z
UID:10002690-1750503600-1750510800@arborhospice.org
SUMMARY:Fly and Remember
DESCRIPTION:Remember the fond memories you shared with your loved one who died by personalizing and flying a kite in their honor. Kites and materials for decorating will be provided. We invite all families who have experienced the loss of a person who died to attend; all ages are welcome. \nPlease Join Us Saturday\, June 21\, 2025\, 11 am – 1 pm \nLOCATION: 2366 Oak Valley Dr.\, Ann Arbor\, MI 48103 \nFor questions\, please call or email: Melissa McCreedy • 734-794-5127 mmccreedy@arborhospice.org  \nREGISTER ONLINE TODAY!  \nhttps://forms.office.com/r/702WQzHSyH
URL:https://arborhospice.org/event/fly-and-remember-3/
LOCATION:Arbor Hospice – Ann Arbor\, 2366 Oak Valley Drive\, Ann Arbor\, MI\, 48103
ORGANIZER;CN="Melissa McCreedy":MAILTO:mmccreedy@arborhospice.org
END:VEVENT
BEGIN:VEVENT
DTSTART;TZID=America/Detroit:20250616T180000
DTEND;TZID=America/Detroit:20250616T191500
DTSTAMP:20260422T022934
CREATED:20231128T211146Z
LAST-MODIFIED:20231128T211146Z
UID:10001294-1750096800-1750101300@arborhospice.org
SUMMARY:Living On (In Person)
DESCRIPTION:The focus of Living On support groups is to express feelings and experiences related to the loss of a loved one in a supportive\, caring\, and non-judgmental environment. Grief and loss topics are addressed as they arise\, depending on the interests of those attending the group. \nPlease RSVP with Melissa McCreedy at 734.794.5127 or mmccreedy@arborhospice.org
URL:https://arborhospice.org/event/living-on-in-person-4/2025-06-16/
LOCATION:Arbor Hospice – Ann Arbor\, 2366 Oak Valley Drive\, Ann Arbor\, MI\, 48103
CATEGORIES:Grief Support
ORGANIZER;CN="Melissa McCreedy":MAILTO:mmccreedy@arborhospice.org
END:VEVENT
BEGIN:VEVENT
DTSTART;TZID=America/Detroit:20250519T180000
DTEND;TZID=America/Detroit:20250519T191500
DTSTAMP:20260422T022934
CREATED:20231128T211146Z
LAST-MODIFIED:20231128T211146Z
UID:10001293-1747677600-1747682100@arborhospice.org
SUMMARY:Living On (In Person)
DESCRIPTION:The focus of Living On support groups is to express feelings and experiences related to the loss of a loved one in a supportive\, caring\, and non-judgmental environment. Grief and loss topics are addressed as they arise\, depending on the interests of those attending the group. \nPlease RSVP with Melissa McCreedy at 734.794.5127 or mmccreedy@arborhospice.org
URL:https://arborhospice.org/event/living-on-in-person-4/2025-05-19/
LOCATION:Arbor Hospice – Ann Arbor\, 2366 Oak Valley Drive\, Ann Arbor\, MI\, 48103
CATEGORIES:Grief Support
ORGANIZER;CN="Melissa McCreedy":MAILTO:mmccreedy@arborhospice.org
END:VEVENT
BEGIN:VEVENT
DTSTART;TZID=America/Detroit:20250421T180000
DTEND;TZID=America/Detroit:20250421T191500
DTSTAMP:20260422T022934
CREATED:20231128T211146Z
LAST-MODIFIED:20231128T211146Z
UID:10001292-1745258400-1745262900@arborhospice.org
SUMMARY:Living On (In Person)
DESCRIPTION:The focus of Living On support groups is to express feelings and experiences related to the loss of a loved one in a supportive\, caring\, and non-judgmental environment. Grief and loss topics are addressed as they arise\, depending on the interests of those attending the group. \nPlease RSVP with Melissa McCreedy at 734.794.5127 or mmccreedy@arborhospice.org
URL:https://arborhospice.org/event/living-on-in-person-4/2025-04-21/
LOCATION:Arbor Hospice – Ann Arbor\, 2366 Oak Valley Drive\, Ann Arbor\, MI\, 48103
CATEGORIES:Grief Support
ORGANIZER;CN="Melissa McCreedy":MAILTO:mmccreedy@arborhospice.org
END:VEVENT
BEGIN:VEVENT
DTSTART;TZID=America/Detroit:20250317T180000
DTEND;TZID=America/Detroit:20250317T191500
DTSTAMP:20260422T022934
CREATED:20231128T211146Z
LAST-MODIFIED:20231128T211146Z
UID:10001291-1742234400-1742238900@arborhospice.org
SUMMARY:Living On (In Person)
DESCRIPTION:The focus of Living On support groups is to express feelings and experiences related to the loss of a loved one in a supportive\, caring\, and non-judgmental environment. Grief and loss topics are addressed as they arise\, depending on the interests of those attending the group. \nPlease RSVP with Melissa McCreedy at 734.794.5127 or mmccreedy@arborhospice.org
URL:https://arborhospice.org/event/living-on-in-person-4/2025-03-17/
LOCATION:Arbor Hospice – Ann Arbor\, 2366 Oak Valley Drive\, Ann Arbor\, MI\, 48103
CATEGORIES:Grief Support
ORGANIZER;CN="Melissa McCreedy":MAILTO:mmccreedy@arborhospice.org
END:VEVENT
BEGIN:VEVENT
DTSTART;TZID=America/Detroit:20250217T180000
DTEND;TZID=America/Detroit:20250217T191500
DTSTAMP:20260422T022934
CREATED:20231128T211146Z
LAST-MODIFIED:20231128T211146Z
UID:10001290-1739815200-1739819700@arborhospice.org
SUMMARY:Living On (In Person)
DESCRIPTION:The focus of Living On support groups is to express feelings and experiences related to the loss of a loved one in a supportive\, caring\, and non-judgmental environment. Grief and loss topics are addressed as they arise\, depending on the interests of those attending the group. \nPlease RSVP with Melissa McCreedy at 734.794.5127 or mmccreedy@arborhospice.org
URL:https://arborhospice.org/event/living-on-in-person-4/2025-02-17/
LOCATION:Arbor Hospice – Ann Arbor\, 2366 Oak Valley Drive\, Ann Arbor\, MI\, 48103
CATEGORIES:Grief Support
ORGANIZER;CN="Melissa McCreedy":MAILTO:mmccreedy@arborhospice.org
END:VEVENT
BEGIN:VEVENT
DTSTART;TZID=America/Detroit:20250210T113000
DTEND;TZID=America/Detroit:20250210T130000
DTSTAMP:20260422T022934
CREATED:20241218T195230Z
LAST-MODIFIED:20241218T195230Z
UID:10002627-1739187000-1739192400@arborhospice.org
SUMMARY:Healing Hearts Luncheon
DESCRIPTION:This program is designed to offer support to those grieving the death\nof a spouse or partner. We will exchange ideas on how to approach\nthe Valentine’s Day Holiday. Suggestions for how to cope with the\ngrief of losing your love and life partner will be discussed. A lunch\nwill be provided. \nMonday\, February 10\, 2025 • 11:30am – 1pm\nArbor Hospice office • 2366 Oak Valley Dr.\, Ann Arbor\nRSVP with Meredith Hartmann\n734-709-3088 • mhartmann@arborhospice.org
URL:https://arborhospice.org/event/healing-hearts-luncheon-2/
LOCATION:Arbor Hospice – Ann Arbor\, 2366 Oak Valley Drive\, Ann Arbor\, MI\, 48103
CATEGORIES:Grief Support
ORGANIZER;CN="Meredith Hartmann":MAILTO:mhartmann@arborhospice.org
END:VEVENT
BEGIN:VEVENT
DTSTART;TZID=America/Detroit:20250120T180000
DTEND;TZID=America/Detroit:20250120T191500
DTSTAMP:20260422T022934
CREATED:20231128T211146Z
LAST-MODIFIED:20231128T211146Z
UID:10001289-1737396000-1737400500@arborhospice.org
SUMMARY:Living On (In Person)
DESCRIPTION:The focus of Living On support groups is to express feelings and experiences related to the loss of a loved one in a supportive\, caring\, and non-judgmental environment. Grief and loss topics are addressed as they arise\, depending on the interests of those attending the group. \nPlease RSVP with Melissa McCreedy at 734.794.5127 or mmccreedy@arborhospice.org
URL:https://arborhospice.org/event/living-on-in-person-4/2025-01-20/
LOCATION:Arbor Hospice – Ann Arbor\, 2366 Oak Valley Drive\, Ann Arbor\, MI\, 48103
CATEGORIES:Grief Support
ORGANIZER;CN="Melissa McCreedy":MAILTO:mmccreedy@arborhospice.org
END:VEVENT
BEGIN:VEVENT
DTSTART;TZID=America/Detroit:20241216T180000
DTEND;TZID=America/Detroit:20241216T191500
DTSTAMP:20260422T022934
CREATED:20231128T211146Z
LAST-MODIFIED:20231128T211146Z
UID:10001288-1734372000-1734376500@arborhospice.org
SUMMARY:Living On (In Person)
DESCRIPTION:The focus of Living On support groups is to express feelings and experiences related to the loss of a loved one in a supportive\, caring\, and non-judgmental environment. Grief and loss topics are addressed as they arise\, depending on the interests of those attending the group. \nPlease RSVP with Melissa McCreedy at 734.794.5127 or mmccreedy@arborhospice.org
URL:https://arborhospice.org/event/living-on-in-person-4/2024-12-16/
LOCATION:Arbor Hospice – Ann Arbor\, 2366 Oak Valley Drive\, Ann Arbor\, MI\, 48103
CATEGORIES:Grief Support
ORGANIZER;CN="Melissa McCreedy":MAILTO:mmccreedy@arborhospice.org
END:VEVENT
BEGIN:VEVENT
DTSTART;TZID=America/Detroit:20241118T180000
DTEND;TZID=America/Detroit:20241118T191500
DTSTAMP:20260422T022934
CREATED:20231128T211146Z
LAST-MODIFIED:20231128T211146Z
UID:10001287-1731952800-1731957300@arborhospice.org
SUMMARY:Living On (In Person)
DESCRIPTION:The focus of Living On support groups is to express feelings and experiences related to the loss of a loved one in a supportive\, caring\, and non-judgmental environment. Grief and loss topics are addressed as they arise\, depending on the interests of those attending the group. \nPlease RSVP with Melissa McCreedy at 734.794.5127 or mmccreedy@arborhospice.org
URL:https://arborhospice.org/event/living-on-in-person-4/2024-11-18/
LOCATION:Arbor Hospice – Ann Arbor\, 2366 Oak Valley Drive\, Ann Arbor\, MI\, 48103
CATEGORIES:Grief Support
ORGANIZER;CN="Melissa McCreedy":MAILTO:mmccreedy@arborhospice.org
END:VEVENT
BEGIN:VEVENT
DTSTART;TZID=America/Detroit:20241021T180000
DTEND;TZID=America/Detroit:20241021T191500
DTSTAMP:20260422T022934
CREATED:20231128T211146Z
LAST-MODIFIED:20231128T211146Z
UID:10001286-1729533600-1729538100@arborhospice.org
SUMMARY:Living On (In Person)
DESCRIPTION:The focus of Living On support groups is to express feelings and experiences related to the loss of a loved one in a supportive\, caring\, and non-judgmental environment. Grief and loss topics are addressed as they arise\, depending on the interests of those attending the group. \nPlease RSVP with Melissa McCreedy at 734.794.5127 or mmccreedy@arborhospice.org
URL:https://arborhospice.org/event/living-on-in-person-4/2024-10-21/
LOCATION:Arbor Hospice – Ann Arbor\, 2366 Oak Valley Drive\, Ann Arbor\, MI\, 48103
CATEGORIES:Grief Support
ORGANIZER;CN="Melissa McCreedy":MAILTO:mmccreedy@arborhospice.org
END:VEVENT
BEGIN:VEVENT
DTSTART;TZID=America/Detroit:20240916T180000
DTEND;TZID=America/Detroit:20240916T191500
DTSTAMP:20260422T022934
CREATED:20231128T211146Z
LAST-MODIFIED:20231128T211146Z
UID:10001285-1726509600-1726514100@arborhospice.org
SUMMARY:Living On (In Person)
DESCRIPTION:The focus of Living On support groups is to express feelings and experiences related to the loss of a loved one in a supportive\, caring\, and non-judgmental environment. Grief and loss topics are addressed as they arise\, depending on the interests of those attending the group. \nPlease RSVP with Melissa McCreedy at 734.794.5127 or mmccreedy@arborhospice.org
URL:https://arborhospice.org/event/living-on-in-person-4/2024-09-16/
LOCATION:Arbor Hospice – Ann Arbor\, 2366 Oak Valley Drive\, Ann Arbor\, MI\, 48103
CATEGORIES:Grief Support
ORGANIZER;CN="Melissa McCreedy":MAILTO:mmccreedy@arborhospice.org
END:VEVENT
BEGIN:VEVENT
DTSTART;TZID=America/Detroit:20240819T180000
DTEND;TZID=America/Detroit:20240819T191500
DTSTAMP:20260422T022934
CREATED:20231128T211146Z
LAST-MODIFIED:20231128T211146Z
UID:10001284-1724090400-1724094900@arborhospice.org
SUMMARY:Living On (In Person)
DESCRIPTION:The focus of Living On support groups is to express feelings and experiences related to the loss of a loved one in a supportive\, caring\, and non-judgmental environment. Grief and loss topics are addressed as they arise\, depending on the interests of those attending the group. \nPlease RSVP with Melissa McCreedy at 734.794.5127 or mmccreedy@arborhospice.org
URL:https://arborhospice.org/event/living-on-in-person-4/2024-08-19/
LOCATION:Arbor Hospice – Ann Arbor\, 2366 Oak Valley Drive\, Ann Arbor\, MI\, 48103
CATEGORIES:Grief Support
ORGANIZER;CN="Melissa McCreedy":MAILTO:mmccreedy@arborhospice.org
END:VEVENT
BEGIN:VEVENT
DTSTART;TZID=America/Detroit:20240715T180000
DTEND;TZID=America/Detroit:20240715T191500
DTSTAMP:20260422T022934
CREATED:20231128T211146Z
LAST-MODIFIED:20231128T211146Z
UID:10001283-1721066400-1721070900@arborhospice.org
SUMMARY:Living On (In Person)
DESCRIPTION:The focus of Living On support groups is to express feelings and experiences related to the loss of a loved one in a supportive\, caring\, and non-judgmental environment. Grief and loss topics are addressed as they arise\, depending on the interests of those attending the group. \nPlease RSVP with Melissa McCreedy at 734.794.5127 or mmccreedy@arborhospice.org
URL:https://arborhospice.org/event/living-on-in-person-4/2024-07-15/
LOCATION:Arbor Hospice – Ann Arbor\, 2366 Oak Valley Drive\, Ann Arbor\, MI\, 48103
CATEGORIES:Grief Support
ORGANIZER;CN="Melissa McCreedy":MAILTO:mmccreedy@arborhospice.org
END:VEVENT
BEGIN:VEVENT
DTSTART;TZID=America/Detroit:20240617T180000
DTEND;TZID=America/Detroit:20240617T191500
DTSTAMP:20260422T022934
CREATED:20231128T211146Z
LAST-MODIFIED:20231128T211146Z
UID:10001282-1718647200-1718651700@arborhospice.org
SUMMARY:Living On (In Person)
DESCRIPTION:The focus of Living On support groups is to express feelings and experiences related to the loss of a loved one in a supportive\, caring\, and non-judgmental environment. Grief and loss topics are addressed as they arise\, depending on the interests of those attending the group. \nPlease RSVP with Melissa McCreedy at 734.794.5127 or mmccreedy@arborhospice.org
URL:https://arborhospice.org/event/living-on-in-person-4/2024-06-17/
LOCATION:Arbor Hospice – Ann Arbor\, 2366 Oak Valley Drive\, Ann Arbor\, MI\, 48103
CATEGORIES:Grief Support
ORGANIZER;CN="Melissa McCreedy":MAILTO:mmccreedy@arborhospice.org
END:VEVENT
BEGIN:VEVENT
DTSTART;TZID=America/Detroit:20240520T180000
DTEND;TZID=America/Detroit:20240520T191500
DTSTAMP:20260422T022934
CREATED:20231128T211146Z
LAST-MODIFIED:20231128T211146Z
UID:10001281-1716228000-1716232500@arborhospice.org
SUMMARY:Living On (In Person)
DESCRIPTION:The focus of Living On support groups is to express feelings and experiences related to the loss of a loved one in a supportive\, caring\, and non-judgmental environment. Grief and loss topics are addressed as they arise\, depending on the interests of those attending the group. \nPlease RSVP with Melissa McCreedy at 734.794.5127 or mmccreedy@arborhospice.org
URL:https://arborhospice.org/event/living-on-in-person-4/2024-05-20/
LOCATION:Arbor Hospice – Ann Arbor\, 2366 Oak Valley Drive\, Ann Arbor\, MI\, 48103
CATEGORIES:Grief Support
ORGANIZER;CN="Melissa McCreedy":MAILTO:mmccreedy@arborhospice.org
END:VEVENT
BEGIN:VEVENT
DTSTART;TZID=America/Detroit:20240415T180000
DTEND;TZID=America/Detroit:20240415T191500
DTSTAMP:20260422T022934
CREATED:20231128T211146Z
LAST-MODIFIED:20231128T211146Z
UID:10001280-1713204000-1713208500@arborhospice.org
SUMMARY:Living On (In Person)
DESCRIPTION:The focus of Living On support groups is to express feelings and experiences related to the loss of a loved one in a supportive\, caring\, and non-judgmental environment. Grief and loss topics are addressed as they arise\, depending on the interests of those attending the group. \nPlease RSVP with Melissa McCreedy at 734.794.5127 or mmccreedy@arborhospice.org
URL:https://arborhospice.org/event/living-on-in-person-4/2024-04-15/
LOCATION:Arbor Hospice – Ann Arbor\, 2366 Oak Valley Drive\, Ann Arbor\, MI\, 48103
CATEGORIES:Grief Support
ORGANIZER;CN="Melissa McCreedy":MAILTO:mmccreedy@arborhospice.org
END:VEVENT
BEGIN:VEVENT
DTSTART;TZID=America/Detroit:20240318T180000
DTEND;TZID=America/Detroit:20240318T191500
DTSTAMP:20260422T022934
CREATED:20231128T211146Z
LAST-MODIFIED:20231128T211146Z
UID:10001279-1710784800-1710789300@arborhospice.org
SUMMARY:Living On (In Person)
DESCRIPTION:The focus of Living On support groups is to express feelings and experiences related to the loss of a loved one in a supportive\, caring\, and non-judgmental environment. Grief and loss topics are addressed as they arise\, depending on the interests of those attending the group. \nPlease RSVP with Melissa McCreedy at 734.794.5127 or mmccreedy@arborhospice.org
URL:https://arborhospice.org/event/living-on-in-person-4/2024-03-18/
LOCATION:Arbor Hospice – Ann Arbor\, 2366 Oak Valley Drive\, Ann Arbor\, MI\, 48103
CATEGORIES:Grief Support
ORGANIZER;CN="Melissa McCreedy":MAILTO:mmccreedy@arborhospice.org
END:VEVENT
BEGIN:VEVENT
DTSTART;TZID=America/Detroit:20240219T180000
DTEND;TZID=America/Detroit:20240219T191500
DTSTAMP:20260422T022934
CREATED:20231128T211146Z
LAST-MODIFIED:20231128T211146Z
UID:10001278-1708365600-1708370100@arborhospice.org
SUMMARY:Living On (In Person)
DESCRIPTION:The focus of Living On support groups is to express feelings and experiences related to the loss of a loved one in a supportive\, caring\, and non-judgmental environment. Grief and loss topics are addressed as they arise\, depending on the interests of those attending the group. \nPlease RSVP with Melissa McCreedy at 734.794.5127 or mmccreedy@arborhospice.org
URL:https://arborhospice.org/event/living-on-in-person-4/2024-02-19/
LOCATION:Arbor Hospice – Ann Arbor\, 2366 Oak Valley Drive\, Ann Arbor\, MI\, 48103
CATEGORIES:Grief Support
ORGANIZER;CN="Melissa McCreedy":MAILTO:mmccreedy@arborhospice.org
END:VEVENT
BEGIN:VEVENT
DTSTART;TZID=America/Detroit:20240115T180000
DTEND;TZID=America/Detroit:20240115T191500
DTSTAMP:20260422T022934
CREATED:20231128T211146Z
LAST-MODIFIED:20231128T211146Z
UID:10001277-1705341600-1705346100@arborhospice.org
SUMMARY:Living On (In Person)
DESCRIPTION:The focus of Living On support groups is to express feelings and experiences related to the loss of a loved one in a supportive\, caring\, and non-judgmental environment. Grief and loss topics are addressed as they arise\, depending on the interests of those attending the group. \nPlease RSVP with Melissa McCreedy at 734.794.5127 or mmccreedy@arborhospice.org
URL:https://arborhospice.org/event/living-on-in-person-4/2024-01-15/
LOCATION:Arbor Hospice – Ann Arbor\, 2366 Oak Valley Drive\, Ann Arbor\, MI\, 48103
CATEGORIES:Grief Support
ORGANIZER;CN="Melissa McCreedy":MAILTO:mmccreedy@arborhospice.org
END:VEVENT
END:VCALENDAR