BEGIN:VCALENDAR
VERSION:2.0
PRODID:-//Arbor Hospice - ECPv6.15.20//NONSGML v1.0//EN
CALSCALE:GREGORIAN
METHOD:PUBLISH
X-ORIGINAL-URL:https://arborhospice.org
X-WR-CALDESC:Events for Arbor Hospice
REFRESH-INTERVAL;VALUE=DURATION:PT1H
X-Robots-Tag:noindex
X-PUBLISHED-TTL:PT1H
BEGIN:VTIMEZONE
TZID:America/Detroit
BEGIN:DAYLIGHT
TZOFFSETFROM:-0500
TZOFFSETTO:-0400
TZNAME:EDT
DTSTART:20270314T070000
END:DAYLIGHT
BEGIN:STANDARD
TZOFFSETFROM:-0400
TZOFFSETTO:-0500
TZNAME:EST
DTSTART:20271107T060000
END:STANDARD
BEGIN:DAYLIGHT
TZOFFSETFROM:-0500
TZOFFSETTO:-0400
TZNAME:EDT
DTSTART:20280312T070000
END:DAYLIGHT
BEGIN:STANDARD
TZOFFSETFROM:-0400
TZOFFSETTO:-0500
TZNAME:EST
DTSTART:20281105T060000
END:STANDARD
BEGIN:DAYLIGHT
TZOFFSETFROM:-0500
TZOFFSETTO:-0400
TZNAME:EDT
DTSTART:20290311T070000
END:DAYLIGHT
BEGIN:STANDARD
TZOFFSETFROM:-0400
TZOFFSETTO:-0500
TZNAME:EST
DTSTART:20291104T060000
END:STANDARD
BEGIN:DAYLIGHT
TZOFFSETFROM:-0500
TZOFFSETTO:-0400
TZNAME:EDT
DTSTART:20300310T070000
END:DAYLIGHT
BEGIN:STANDARD
TZOFFSETFROM:-0400
TZOFFSETTO:-0500
TZNAME:EST
DTSTART:20301103T060000
END:STANDARD
END:VTIMEZONE
BEGIN:VEVENT
DTSTART;TZID=America/Detroit:20280113T103000
DTEND;TZID=America/Detroit:20280113T113000
DTSTAMP:20260422T070431
CREATED:20240814T203615Z
LAST-MODIFIED:20240814T203626Z
UID:10001968-1831372200-1831375800@arborhospice.org
SUMMARY:Living On - Loss of Adult Child (Virtual)
DESCRIPTION:This virtual Grief Support Group is an open\, ongoing group that meets monthly to discuss grief and loss as it pertains to the death of an adult child. \nThis group meets the 2nd Thursday of the month • 10:30am – 11:30am \nPlease RSVP with Will Gasper • 231-444-3350 • wgasper@hom.org
URL:https://arborhospice.org/event/living-on-adult-child-virtual-3-2/2028-01-13/
LOCATION:Meets Virtually
CATEGORIES:Grief Support
ORGANIZER;CN="Will Gasper":MAILTO:wgasper@hom.org
END:VEVENT
BEGIN:VEVENT
DTSTART;TZID=America/Detroit:20280118T180000
DTEND;TZID=America/Detroit:20280118T193000
DTSTAMP:20260422T070431
CREATED:20231128T203740Z
LAST-MODIFIED:20231128T204005Z
UID:10001018-1831831200-1831836600@arborhospice.org
SUMMARY:Men Overcoming Loss (Virtual)
DESCRIPTION:This grief support group is designed for men grieving the death of a loved one. This is both a virtual group–join from your computer or mobile device. \nPlease RSVP to Will Gasper at 231.444.3350 or wgasper@hom.org
URL:https://arborhospice.org/event/men-overcoming-loss-virtual-2-2/2028-01-18/
LOCATION:Meets Virtually
CATEGORIES:Grief Support
ORGANIZER;CN="Will Gasper":MAILTO:wgasper@hom.org
END:VEVENT
BEGIN:VEVENT
DTSTART;TZID=America/Detroit:20280210T103000
DTEND;TZID=America/Detroit:20280210T113000
DTSTAMP:20260422T070431
CREATED:20240814T203615Z
LAST-MODIFIED:20240814T203626Z
UID:10001969-1833791400-1833795000@arborhospice.org
SUMMARY:Living On - Loss of Adult Child (Virtual)
DESCRIPTION:This virtual Grief Support Group is an open\, ongoing group that meets monthly to discuss grief and loss as it pertains to the death of an adult child. \nThis group meets the 2nd Thursday of the month • 10:30am – 11:30am \nPlease RSVP with Will Gasper • 231-444-3350 • wgasper@hom.org
URL:https://arborhospice.org/event/living-on-adult-child-virtual-3-2/2028-02-10/
LOCATION:Meets Virtually
CATEGORIES:Grief Support
ORGANIZER;CN="Will Gasper":MAILTO:wgasper@hom.org
END:VEVENT
BEGIN:VEVENT
DTSTART;TZID=America/Detroit:20280215T180000
DTEND;TZID=America/Detroit:20280215T193000
DTSTAMP:20260422T070431
CREATED:20231128T203740Z
LAST-MODIFIED:20231128T204005Z
UID:10001019-1834250400-1834255800@arborhospice.org
SUMMARY:Men Overcoming Loss (Virtual)
DESCRIPTION:This grief support group is designed for men grieving the death of a loved one. This is both a virtual group–join from your computer or mobile device. \nPlease RSVP to Will Gasper at 231.444.3350 or wgasper@hom.org
URL:https://arborhospice.org/event/men-overcoming-loss-virtual-2-2/2028-02-15/
LOCATION:Meets Virtually
CATEGORIES:Grief Support
ORGANIZER;CN="Will Gasper":MAILTO:wgasper@hom.org
END:VEVENT
BEGIN:VEVENT
DTSTART;TZID=America/Detroit:20280309T103000
DTEND;TZID=America/Detroit:20280309T113000
DTSTAMP:20260422T070431
CREATED:20240814T203615Z
LAST-MODIFIED:20240814T203626Z
UID:10001970-1836210600-1836214200@arborhospice.org
SUMMARY:Living On - Loss of Adult Child (Virtual)
DESCRIPTION:This virtual Grief Support Group is an open\, ongoing group that meets monthly to discuss grief and loss as it pertains to the death of an adult child. \nThis group meets the 2nd Thursday of the month • 10:30am – 11:30am \nPlease RSVP with Will Gasper • 231-444-3350 • wgasper@hom.org
URL:https://arborhospice.org/event/living-on-adult-child-virtual-3-2/2028-03-09/
LOCATION:Meets Virtually
CATEGORIES:Grief Support
ORGANIZER;CN="Will Gasper":MAILTO:wgasper@hom.org
END:VEVENT
BEGIN:VEVENT
DTSTART;TZID=America/Detroit:20280321T180000
DTEND;TZID=America/Detroit:20280321T193000
DTSTAMP:20260422T070431
CREATED:20231128T203740Z
LAST-MODIFIED:20231128T204005Z
UID:10001020-1837274400-1837279800@arborhospice.org
SUMMARY:Men Overcoming Loss (Virtual)
DESCRIPTION:This grief support group is designed for men grieving the death of a loved one. This is both a virtual group–join from your computer or mobile device. \nPlease RSVP to Will Gasper at 231.444.3350 or wgasper@hom.org
URL:https://arborhospice.org/event/men-overcoming-loss-virtual-2-2/2028-03-21/
LOCATION:Meets Virtually
CATEGORIES:Grief Support
ORGANIZER;CN="Will Gasper":MAILTO:wgasper@hom.org
END:VEVENT
BEGIN:VEVENT
DTSTART;TZID=America/Detroit:20280413T103000
DTEND;TZID=America/Detroit:20280413T113000
DTSTAMP:20260422T070431
CREATED:20240814T203615Z
LAST-MODIFIED:20240814T203626Z
UID:10001971-1839234600-1839238200@arborhospice.org
SUMMARY:Living On - Loss of Adult Child (Virtual)
DESCRIPTION:This virtual Grief Support Group is an open\, ongoing group that meets monthly to discuss grief and loss as it pertains to the death of an adult child. \nThis group meets the 2nd Thursday of the month • 10:30am – 11:30am \nPlease RSVP with Will Gasper • 231-444-3350 • wgasper@hom.org
URL:https://arborhospice.org/event/living-on-adult-child-virtual-3-2/2028-04-13/
LOCATION:Meets Virtually
CATEGORIES:Grief Support
ORGANIZER;CN="Will Gasper":MAILTO:wgasper@hom.org
END:VEVENT
BEGIN:VEVENT
DTSTART;TZID=America/Detroit:20280418T180000
DTEND;TZID=America/Detroit:20280418T193000
DTSTAMP:20260422T070431
CREATED:20231128T203740Z
LAST-MODIFIED:20231128T204005Z
UID:10001021-1839693600-1839699000@arborhospice.org
SUMMARY:Men Overcoming Loss (Virtual)
DESCRIPTION:This grief support group is designed for men grieving the death of a loved one. This is both a virtual group–join from your computer or mobile device. \nPlease RSVP to Will Gasper at 231.444.3350 or wgasper@hom.org
URL:https://arborhospice.org/event/men-overcoming-loss-virtual-2-2/2028-04-18/
LOCATION:Meets Virtually
CATEGORIES:Grief Support
ORGANIZER;CN="Will Gasper":MAILTO:wgasper@hom.org
END:VEVENT
BEGIN:VEVENT
DTSTART;TZID=America/Detroit:20280511T103000
DTEND;TZID=America/Detroit:20280511T113000
DTSTAMP:20260422T070431
CREATED:20240814T203615Z
LAST-MODIFIED:20240814T203626Z
UID:10001972-1841653800-1841657400@arborhospice.org
SUMMARY:Living On - Loss of Adult Child (Virtual)
DESCRIPTION:This virtual Grief Support Group is an open\, ongoing group that meets monthly to discuss grief and loss as it pertains to the death of an adult child. \nThis group meets the 2nd Thursday of the month • 10:30am – 11:30am \nPlease RSVP with Will Gasper • 231-444-3350 • wgasper@hom.org
URL:https://arborhospice.org/event/living-on-adult-child-virtual-3-2/2028-05-11/
LOCATION:Meets Virtually
CATEGORIES:Grief Support
ORGANIZER;CN="Will Gasper":MAILTO:wgasper@hom.org
END:VEVENT
BEGIN:VEVENT
DTSTART;TZID=America/Detroit:20280516T180000
DTEND;TZID=America/Detroit:20280516T193000
DTSTAMP:20260422T070431
CREATED:20231128T203740Z
LAST-MODIFIED:20231128T204005Z
UID:10001022-1842112800-1842118200@arborhospice.org
SUMMARY:Men Overcoming Loss (Virtual)
DESCRIPTION:This grief support group is designed for men grieving the death of a loved one. This is both a virtual group–join from your computer or mobile device. \nPlease RSVP to Will Gasper at 231.444.3350 or wgasper@hom.org
URL:https://arborhospice.org/event/men-overcoming-loss-virtual-2-2/2028-05-16/
LOCATION:Meets Virtually
CATEGORIES:Grief Support
ORGANIZER;CN="Will Gasper":MAILTO:wgasper@hom.org
END:VEVENT
BEGIN:VEVENT
DTSTART;TZID=America/Detroit:20280608T103000
DTEND;TZID=America/Detroit:20280608T113000
DTSTAMP:20260422T070431
CREATED:20240814T203615Z
LAST-MODIFIED:20240814T203626Z
UID:10001973-1844073000-1844076600@arborhospice.org
SUMMARY:Living On - Loss of Adult Child (Virtual)
DESCRIPTION:This virtual Grief Support Group is an open\, ongoing group that meets monthly to discuss grief and loss as it pertains to the death of an adult child. \nThis group meets the 2nd Thursday of the month • 10:30am – 11:30am \nPlease RSVP with Will Gasper • 231-444-3350 • wgasper@hom.org
URL:https://arborhospice.org/event/living-on-adult-child-virtual-3-2/2028-06-08/
LOCATION:Meets Virtually
CATEGORIES:Grief Support
ORGANIZER;CN="Will Gasper":MAILTO:wgasper@hom.org
END:VEVENT
BEGIN:VEVENT
DTSTART;TZID=America/Detroit:20280620T180000
DTEND;TZID=America/Detroit:20280620T193000
DTSTAMP:20260422T070431
CREATED:20231128T203740Z
LAST-MODIFIED:20231128T204005Z
UID:10001023-1845136800-1845142200@arborhospice.org
SUMMARY:Men Overcoming Loss (Virtual)
DESCRIPTION:This grief support group is designed for men grieving the death of a loved one. This is both a virtual group–join from your computer or mobile device. \nPlease RSVP to Will Gasper at 231.444.3350 or wgasper@hom.org
URL:https://arborhospice.org/event/men-overcoming-loss-virtual-2-2/2028-06-20/
LOCATION:Meets Virtually
CATEGORIES:Grief Support
ORGANIZER;CN="Will Gasper":MAILTO:wgasper@hom.org
END:VEVENT
BEGIN:VEVENT
DTSTART;TZID=America/Detroit:20280713T103000
DTEND;TZID=America/Detroit:20280713T113000
DTSTAMP:20260422T070431
CREATED:20240814T203615Z
LAST-MODIFIED:20240814T203626Z
UID:10001974-1847097000-1847100600@arborhospice.org
SUMMARY:Living On - Loss of Adult Child (Virtual)
DESCRIPTION:This virtual Grief Support Group is an open\, ongoing group that meets monthly to discuss grief and loss as it pertains to the death of an adult child. \nThis group meets the 2nd Thursday of the month • 10:30am – 11:30am \nPlease RSVP with Will Gasper • 231-444-3350 • wgasper@hom.org
URL:https://arborhospice.org/event/living-on-adult-child-virtual-3-2/2028-07-13/
LOCATION:Meets Virtually
CATEGORIES:Grief Support
ORGANIZER;CN="Will Gasper":MAILTO:wgasper@hom.org
END:VEVENT
BEGIN:VEVENT
DTSTART;TZID=America/Detroit:20280718T180000
DTEND;TZID=America/Detroit:20280718T193000
DTSTAMP:20260422T070431
CREATED:20231128T203740Z
LAST-MODIFIED:20231128T204005Z
UID:10001024-1847556000-1847561400@arborhospice.org
SUMMARY:Men Overcoming Loss (Virtual)
DESCRIPTION:This grief support group is designed for men grieving the death of a loved one. This is both a virtual group–join from your computer or mobile device. \nPlease RSVP to Will Gasper at 231.444.3350 or wgasper@hom.org
URL:https://arborhospice.org/event/men-overcoming-loss-virtual-2-2/2028-07-18/
LOCATION:Meets Virtually
CATEGORIES:Grief Support
ORGANIZER;CN="Will Gasper":MAILTO:wgasper@hom.org
END:VEVENT
BEGIN:VEVENT
DTSTART;TZID=America/Detroit:20280810T103000
DTEND;TZID=America/Detroit:20280810T113000
DTSTAMP:20260422T070431
CREATED:20240814T203615Z
LAST-MODIFIED:20240814T203626Z
UID:10001975-1849516200-1849519800@arborhospice.org
SUMMARY:Living On - Loss of Adult Child (Virtual)
DESCRIPTION:This virtual Grief Support Group is an open\, ongoing group that meets monthly to discuss grief and loss as it pertains to the death of an adult child. \nThis group meets the 2nd Thursday of the month • 10:30am – 11:30am \nPlease RSVP with Will Gasper • 231-444-3350 • wgasper@hom.org
URL:https://arborhospice.org/event/living-on-adult-child-virtual-3-2/2028-08-10/
LOCATION:Meets Virtually
CATEGORIES:Grief Support
ORGANIZER;CN="Will Gasper":MAILTO:wgasper@hom.org
END:VEVENT
BEGIN:VEVENT
DTSTART;TZID=America/Detroit:20280815T180000
DTEND;TZID=America/Detroit:20280815T193000
DTSTAMP:20260422T070431
CREATED:20231128T203740Z
LAST-MODIFIED:20231128T204005Z
UID:10001025-1849975200-1849980600@arborhospice.org
SUMMARY:Men Overcoming Loss (Virtual)
DESCRIPTION:This grief support group is designed for men grieving the death of a loved one. This is both a virtual group–join from your computer or mobile device. \nPlease RSVP to Will Gasper at 231.444.3350 or wgasper@hom.org
URL:https://arborhospice.org/event/men-overcoming-loss-virtual-2-2/2028-08-15/
LOCATION:Meets Virtually
CATEGORIES:Grief Support
ORGANIZER;CN="Will Gasper":MAILTO:wgasper@hom.org
END:VEVENT
BEGIN:VEVENT
DTSTART;TZID=America/Detroit:20280914T103000
DTEND;TZID=America/Detroit:20280914T113000
DTSTAMP:20260422T070431
CREATED:20240814T203615Z
LAST-MODIFIED:20240814T203626Z
UID:10001976-1852540200-1852543800@arborhospice.org
SUMMARY:Living On - Loss of Adult Child (Virtual)
DESCRIPTION:This virtual Grief Support Group is an open\, ongoing group that meets monthly to discuss grief and loss as it pertains to the death of an adult child. \nThis group meets the 2nd Thursday of the month • 10:30am – 11:30am \nPlease RSVP with Will Gasper • 231-444-3350 • wgasper@hom.org
URL:https://arborhospice.org/event/living-on-adult-child-virtual-3-2/2028-09-14/
LOCATION:Meets Virtually
CATEGORIES:Grief Support
ORGANIZER;CN="Will Gasper":MAILTO:wgasper@hom.org
END:VEVENT
BEGIN:VEVENT
DTSTART;TZID=America/Detroit:20280919T180000
DTEND;TZID=America/Detroit:20280919T193000
DTSTAMP:20260422T070431
CREATED:20231128T203740Z
LAST-MODIFIED:20231128T204005Z
UID:10001026-1852999200-1853004600@arborhospice.org
SUMMARY:Men Overcoming Loss (Virtual)
DESCRIPTION:This grief support group is designed for men grieving the death of a loved one. This is both a virtual group–join from your computer or mobile device. \nPlease RSVP to Will Gasper at 231.444.3350 or wgasper@hom.org
URL:https://arborhospice.org/event/men-overcoming-loss-virtual-2-2/2028-09-19/
LOCATION:Meets Virtually
CATEGORIES:Grief Support
ORGANIZER;CN="Will Gasper":MAILTO:wgasper@hom.org
END:VEVENT
BEGIN:VEVENT
DTSTART;TZID=America/Detroit:20281012T103000
DTEND;TZID=America/Detroit:20281012T113000
DTSTAMP:20260422T070431
CREATED:20240814T203615Z
LAST-MODIFIED:20240814T203626Z
UID:10001977-1854959400-1854963000@arborhospice.org
SUMMARY:Living On - Loss of Adult Child (Virtual)
DESCRIPTION:This virtual Grief Support Group is an open\, ongoing group that meets monthly to discuss grief and loss as it pertains to the death of an adult child. \nThis group meets the 2nd Thursday of the month • 10:30am – 11:30am \nPlease RSVP with Will Gasper • 231-444-3350 • wgasper@hom.org
URL:https://arborhospice.org/event/living-on-adult-child-virtual-3-2/2028-10-12/
LOCATION:Meets Virtually
CATEGORIES:Grief Support
ORGANIZER;CN="Will Gasper":MAILTO:wgasper@hom.org
END:VEVENT
BEGIN:VEVENT
DTSTART;TZID=America/Detroit:20281017T180000
DTEND;TZID=America/Detroit:20281017T193000
DTSTAMP:20260422T070431
CREATED:20231128T203740Z
LAST-MODIFIED:20231128T204005Z
UID:10001027-1855418400-1855423800@arborhospice.org
SUMMARY:Men Overcoming Loss (Virtual)
DESCRIPTION:This grief support group is designed for men grieving the death of a loved one. This is both a virtual group–join from your computer or mobile device. \nPlease RSVP to Will Gasper at 231.444.3350 or wgasper@hom.org
URL:https://arborhospice.org/event/men-overcoming-loss-virtual-2-2/2028-10-17/
LOCATION:Meets Virtually
CATEGORIES:Grief Support
ORGANIZER;CN="Will Gasper":MAILTO:wgasper@hom.org
END:VEVENT
BEGIN:VEVENT
DTSTART;TZID=America/Detroit:20281109T103000
DTEND;TZID=America/Detroit:20281109T113000
DTSTAMP:20260422T070431
CREATED:20240814T203615Z
LAST-MODIFIED:20240814T203626Z
UID:10001978-1857378600-1857382200@arborhospice.org
SUMMARY:Living On - Loss of Adult Child (Virtual)
DESCRIPTION:This virtual Grief Support Group is an open\, ongoing group that meets monthly to discuss grief and loss as it pertains to the death of an adult child. \nThis group meets the 2nd Thursday of the month • 10:30am – 11:30am \nPlease RSVP with Will Gasper • 231-444-3350 • wgasper@hom.org
URL:https://arborhospice.org/event/living-on-adult-child-virtual-3-2/2028-11-09/
LOCATION:Meets Virtually
CATEGORIES:Grief Support
ORGANIZER;CN="Will Gasper":MAILTO:wgasper@hom.org
END:VEVENT
BEGIN:VEVENT
DTSTART;TZID=America/Detroit:20281121T180000
DTEND;TZID=America/Detroit:20281121T193000
DTSTAMP:20260422T070431
CREATED:20231128T203740Z
LAST-MODIFIED:20231128T204005Z
UID:10001028-1858442400-1858447800@arborhospice.org
SUMMARY:Men Overcoming Loss (Virtual)
DESCRIPTION:This grief support group is designed for men grieving the death of a loved one. This is both a virtual group–join from your computer or mobile device. \nPlease RSVP to Will Gasper at 231.444.3350 or wgasper@hom.org
URL:https://arborhospice.org/event/men-overcoming-loss-virtual-2-2/2028-11-21/
LOCATION:Meets Virtually
CATEGORIES:Grief Support
ORGANIZER;CN="Will Gasper":MAILTO:wgasper@hom.org
END:VEVENT
BEGIN:VEVENT
DTSTART;TZID=America/Detroit:20281214T103000
DTEND;TZID=America/Detroit:20281214T113000
DTSTAMP:20260422T070431
CREATED:20240814T203615Z
LAST-MODIFIED:20240814T203626Z
UID:10001979-1860402600-1860406200@arborhospice.org
SUMMARY:Living On - Loss of Adult Child (Virtual)
DESCRIPTION:This virtual Grief Support Group is an open\, ongoing group that meets monthly to discuss grief and loss as it pertains to the death of an adult child. \nThis group meets the 2nd Thursday of the month • 10:30am – 11:30am \nPlease RSVP with Will Gasper • 231-444-3350 • wgasper@hom.org
URL:https://arborhospice.org/event/living-on-adult-child-virtual-3-2/2028-12-14/
LOCATION:Meets Virtually
CATEGORIES:Grief Support
ORGANIZER;CN="Will Gasper":MAILTO:wgasper@hom.org
END:VEVENT
BEGIN:VEVENT
DTSTART;TZID=America/Detroit:20290111T103000
DTEND;TZID=America/Detroit:20290111T113000
DTSTAMP:20260422T070431
CREATED:20240814T203615Z
LAST-MODIFIED:20240814T203626Z
UID:10001980-1862821800-1862825400@arborhospice.org
SUMMARY:Living On - Loss of Adult Child (Virtual)
DESCRIPTION:This virtual Grief Support Group is an open\, ongoing group that meets monthly to discuss grief and loss as it pertains to the death of an adult child. \nThis group meets the 2nd Thursday of the month • 10:30am – 11:30am \nPlease RSVP with Will Gasper • 231-444-3350 • wgasper@hom.org
URL:https://arborhospice.org/event/living-on-adult-child-virtual-3-2/2029-01-11/
LOCATION:Meets Virtually
CATEGORIES:Grief Support
ORGANIZER;CN="Will Gasper":MAILTO:wgasper@hom.org
END:VEVENT
BEGIN:VEVENT
DTSTART;TZID=America/Detroit:20290208T103000
DTEND;TZID=America/Detroit:20290208T113000
DTSTAMP:20260422T070431
CREATED:20240814T203615Z
LAST-MODIFIED:20240814T203626Z
UID:10001981-1865241000-1865244600@arborhospice.org
SUMMARY:Living On - Loss of Adult Child (Virtual)
DESCRIPTION:This virtual Grief Support Group is an open\, ongoing group that meets monthly to discuss grief and loss as it pertains to the death of an adult child. \nThis group meets the 2nd Thursday of the month • 10:30am – 11:30am \nPlease RSVP with Will Gasper • 231-444-3350 • wgasper@hom.org
URL:https://arborhospice.org/event/living-on-adult-child-virtual-3-2/2029-02-08/
LOCATION:Meets Virtually
CATEGORIES:Grief Support
ORGANIZER;CN="Will Gasper":MAILTO:wgasper@hom.org
END:VEVENT
BEGIN:VEVENT
DTSTART;TZID=America/Detroit:20290308T103000
DTEND;TZID=America/Detroit:20290308T113000
DTSTAMP:20260422T070431
CREATED:20240814T203615Z
LAST-MODIFIED:20240814T203626Z
UID:10001982-1867660200-1867663800@arborhospice.org
SUMMARY:Living On - Loss of Adult Child (Virtual)
DESCRIPTION:This virtual Grief Support Group is an open\, ongoing group that meets monthly to discuss grief and loss as it pertains to the death of an adult child. \nThis group meets the 2nd Thursday of the month • 10:30am – 11:30am \nPlease RSVP with Will Gasper • 231-444-3350 • wgasper@hom.org
URL:https://arborhospice.org/event/living-on-adult-child-virtual-3-2/2029-03-08/
LOCATION:Meets Virtually
CATEGORIES:Grief Support
ORGANIZER;CN="Will Gasper":MAILTO:wgasper@hom.org
END:VEVENT
BEGIN:VEVENT
DTSTART;TZID=America/Detroit:20290412T103000
DTEND;TZID=America/Detroit:20290412T113000
DTSTAMP:20260422T070431
CREATED:20240814T203615Z
LAST-MODIFIED:20240814T203626Z
UID:10002265-1870684200-1870687800@arborhospice.org
SUMMARY:Living On - Loss of Adult Child (Virtual)
DESCRIPTION:This virtual Grief Support Group is an open\, ongoing group that meets monthly to discuss grief and loss as it pertains to the death of an adult child. \nThis group meets the 2nd Thursday of the month • 10:30am – 11:30am \nPlease RSVP with Will Gasper • 231-444-3350 • wgasper@hom.org
URL:https://arborhospice.org/event/living-on-adult-child-virtual-3-2/2029-04-12/
LOCATION:Meets Virtually
CATEGORIES:Grief Support
ORGANIZER;CN="Will Gasper":MAILTO:wgasper@hom.org
END:VEVENT
BEGIN:VEVENT
DTSTART;TZID=America/Detroit:20290510T103000
DTEND;TZID=America/Detroit:20290510T113000
DTSTAMP:20260422T070431
CREATED:20240814T203615Z
LAST-MODIFIED:20240814T203626Z
UID:10002266-1873103400-1873107000@arborhospice.org
SUMMARY:Living On - Loss of Adult Child (Virtual)
DESCRIPTION:This virtual Grief Support Group is an open\, ongoing group that meets monthly to discuss grief and loss as it pertains to the death of an adult child. \nThis group meets the 2nd Thursday of the month • 10:30am – 11:30am \nPlease RSVP with Will Gasper • 231-444-3350 • wgasper@hom.org
URL:https://arborhospice.org/event/living-on-adult-child-virtual-3-2/2029-05-10/
LOCATION:Meets Virtually
CATEGORIES:Grief Support
ORGANIZER;CN="Will Gasper":MAILTO:wgasper@hom.org
END:VEVENT
BEGIN:VEVENT
DTSTART;TZID=America/Detroit:20290614T103000
DTEND;TZID=America/Detroit:20290614T113000
DTSTAMP:20260422T070431
CREATED:20240814T203615Z
LAST-MODIFIED:20240814T203626Z
UID:10002267-1876127400-1876131000@arborhospice.org
SUMMARY:Living On - Loss of Adult Child (Virtual)
DESCRIPTION:This virtual Grief Support Group is an open\, ongoing group that meets monthly to discuss grief and loss as it pertains to the death of an adult child. \nThis group meets the 2nd Thursday of the month • 10:30am – 11:30am \nPlease RSVP with Will Gasper • 231-444-3350 • wgasper@hom.org
URL:https://arborhospice.org/event/living-on-adult-child-virtual-3-2/2029-06-14/
LOCATION:Meets Virtually
CATEGORIES:Grief Support
ORGANIZER;CN="Will Gasper":MAILTO:wgasper@hom.org
END:VEVENT
BEGIN:VEVENT
DTSTART;TZID=America/Detroit:20290712T103000
DTEND;TZID=America/Detroit:20290712T113000
DTSTAMP:20260422T070431
CREATED:20240814T203615Z
LAST-MODIFIED:20240814T203626Z
UID:10002268-1878546600-1878550200@arborhospice.org
SUMMARY:Living On - Loss of Adult Child (Virtual)
DESCRIPTION:This virtual Grief Support Group is an open\, ongoing group that meets monthly to discuss grief and loss as it pertains to the death of an adult child. \nThis group meets the 2nd Thursday of the month • 10:30am – 11:30am \nPlease RSVP with Will Gasper • 231-444-3350 • wgasper@hom.org
URL:https://arborhospice.org/event/living-on-adult-child-virtual-3-2/2029-07-12/
LOCATION:Meets Virtually
CATEGORIES:Grief Support
ORGANIZER;CN="Will Gasper":MAILTO:wgasper@hom.org
END:VEVENT
END:VCALENDAR