BEGIN:VCALENDAR
VERSION:2.0
PRODID:-//Arbor Hospice - ECPv6.15.20//NONSGML v1.0//EN
CALSCALE:GREGORIAN
METHOD:PUBLISH
X-ORIGINAL-URL:https://arborhospice.org
X-WR-CALDESC:Events for Arbor Hospice
REFRESH-INTERVAL;VALUE=DURATION:PT1H
X-Robots-Tag:noindex
X-PUBLISHED-TTL:PT1H
BEGIN:VTIMEZONE
TZID:America/Detroit
BEGIN:DAYLIGHT
TZOFFSETFROM:-0500
TZOFFSETTO:-0400
TZNAME:EDT
DTSTART:20280312T070000
END:DAYLIGHT
BEGIN:STANDARD
TZOFFSETFROM:-0400
TZOFFSETTO:-0500
TZNAME:EST
DTSTART:20281105T060000
END:STANDARD
BEGIN:DAYLIGHT
TZOFFSETFROM:-0500
TZOFFSETTO:-0400
TZNAME:EDT
DTSTART:20290311T070000
END:DAYLIGHT
BEGIN:STANDARD
TZOFFSETFROM:-0400
TZOFFSETTO:-0500
TZNAME:EST
DTSTART:20291104T060000
END:STANDARD
BEGIN:DAYLIGHT
TZOFFSETFROM:-0500
TZOFFSETTO:-0400
TZNAME:EDT
DTSTART:20300310T070000
END:DAYLIGHT
BEGIN:STANDARD
TZOFFSETFROM:-0400
TZOFFSETTO:-0500
TZNAME:EST
DTSTART:20301103T060000
END:STANDARD
BEGIN:DAYLIGHT
TZOFFSETFROM:-0500
TZOFFSETTO:-0400
TZNAME:EDT
DTSTART:20310309T070000
END:DAYLIGHT
BEGIN:STANDARD
TZOFFSETFROM:-0400
TZOFFSETTO:-0500
TZNAME:EST
DTSTART:20311102T060000
END:STANDARD
BEGIN:DAYLIGHT
TZOFFSETFROM:-0500
TZOFFSETTO:-0400
TZNAME:EDT
DTSTART:20320314T070000
END:DAYLIGHT
BEGIN:STANDARD
TZOFFSETFROM:-0400
TZOFFSETTO:-0500
TZNAME:EST
DTSTART:20321107T060000
END:STANDARD
END:VTIMEZONE
BEGIN:VEVENT
DTSTART;TZID=America/Detroit:20290802T110000
DTEND;TZID=America/Detroit:20290802T123000
DTSTAMP:20260422T130045
CREATED:20240409T151644Z
LAST-MODIFIED:20241218T183822Z
UID:10002534-1880362800-1880368200@arborhospice.org
SUMMARY:Walking Through Grief - Walking Group
DESCRIPTION:Social support and physical activity are two of the most important components of mental health\, especially while grieving. This monthly\, socially-focused group gives grieving adults the opportunity to socialize\, support one another in grief\, while getting fresh air and exercise. All activity levels are welcome. Individuals can walk at their own pace. \n  \nThis group meets the 1st Thursday of the month • 11am – 12:30pm County Farm Park • 2230 Platt Rd.\, Ann Arbor \nPlease RSVP with Melissa McCreedy • 734-794-5127 mmccreedy@arborhospice.org
URL:https://arborhospice.org/event/walking-through-grief-walking-group/2029-08-02/
LOCATION:County Farm Park\, 2230 Platt Road\, Ann Arbor\, MI\, 48103\, United States
CATEGORIES:Grief Support
ORGANIZER;CN="Melissa McCreedy":MAILTO:mmccreedy@arborhospice.org
END:VEVENT
BEGIN:VEVENT
DTSTART;TZID=America/Detroit:20290816T113000
DTEND;TZID=America/Detroit:20290816T130000
DTSTAMP:20260422T130045
CREATED:20260306T184702Z
LAST-MODIFIED:20260306T184727Z
UID:10002773-1881574200-1881579600@arborhospice.org
SUMMARY:Lunch Bunch - Social Mealtime Group
DESCRIPTION:Arbor Hospice offers a social group for individuals who have lost a spouse or partner and are interested in sharing a meal together. The group meets monthly at a restaurant in Ann Arbor. If you are interested in meeting some new friends and sharing a meal with other widows and widowers\, please contact us for more information. \nLUNCH BUNCH\n3rd Thursday of the month\n11:30pm – 1pm  \nRSVP: Melissa McCreedy\n734-255-3553\nmmccreedy@arborhospice.org
URL:https://arborhospice.org/event/lunch-bunch-social-mealtime-group-2/2029-08-16/
ORGANIZER;CN="Melissa McCreedy":MAILTO:mmccreedy@arborhospice.org
END:VEVENT
BEGIN:VEVENT
DTSTART;TZID=America/Detroit:20290906T110000
DTEND;TZID=America/Detroit:20290906T123000
DTSTAMP:20260422T130045
CREATED:20240409T151644Z
LAST-MODIFIED:20241218T183822Z
UID:10002535-1883386800-1883392200@arborhospice.org
SUMMARY:Walking Through Grief - Walking Group
DESCRIPTION:Social support and physical activity are two of the most important components of mental health\, especially while grieving. This monthly\, socially-focused group gives grieving adults the opportunity to socialize\, support one another in grief\, while getting fresh air and exercise. All activity levels are welcome. Individuals can walk at their own pace. \n  \nThis group meets the 1st Thursday of the month • 11am – 12:30pm County Farm Park • 2230 Platt Rd.\, Ann Arbor \nPlease RSVP with Melissa McCreedy • 734-794-5127 mmccreedy@arborhospice.org
URL:https://arborhospice.org/event/walking-through-grief-walking-group/2029-09-06/
LOCATION:County Farm Park\, 2230 Platt Road\, Ann Arbor\, MI\, 48103\, United States
CATEGORIES:Grief Support
ORGANIZER;CN="Melissa McCreedy":MAILTO:mmccreedy@arborhospice.org
END:VEVENT
BEGIN:VEVENT
DTSTART;TZID=America/Detroit:20290920T113000
DTEND;TZID=America/Detroit:20290920T130000
DTSTAMP:20260422T130045
CREATED:20260306T184702Z
LAST-MODIFIED:20260306T184727Z
UID:10002774-1884598200-1884603600@arborhospice.org
SUMMARY:Lunch Bunch - Social Mealtime Group
DESCRIPTION:Arbor Hospice offers a social group for individuals who have lost a spouse or partner and are interested in sharing a meal together. The group meets monthly at a restaurant in Ann Arbor. If you are interested in meeting some new friends and sharing a meal with other widows and widowers\, please contact us for more information. \nLUNCH BUNCH\n3rd Thursday of the month\n11:30pm – 1pm  \nRSVP: Melissa McCreedy\n734-255-3553\nmmccreedy@arborhospice.org
URL:https://arborhospice.org/event/lunch-bunch-social-mealtime-group-2/2029-09-20/
ORGANIZER;CN="Melissa McCreedy":MAILTO:mmccreedy@arborhospice.org
END:VEVENT
BEGIN:VEVENT
DTSTART;TZID=America/Detroit:20291004T110000
DTEND;TZID=America/Detroit:20291004T123000
DTSTAMP:20260422T130045
CREATED:20240409T151644Z
LAST-MODIFIED:20241218T183822Z
UID:10002536-1885806000-1885811400@arborhospice.org
SUMMARY:Walking Through Grief - Walking Group
DESCRIPTION:Social support and physical activity are two of the most important components of mental health\, especially while grieving. This monthly\, socially-focused group gives grieving adults the opportunity to socialize\, support one another in grief\, while getting fresh air and exercise. All activity levels are welcome. Individuals can walk at their own pace. \n  \nThis group meets the 1st Thursday of the month • 11am – 12:30pm County Farm Park • 2230 Platt Rd.\, Ann Arbor \nPlease RSVP with Melissa McCreedy • 734-794-5127 mmccreedy@arborhospice.org
URL:https://arborhospice.org/event/walking-through-grief-walking-group/2029-10-04/
LOCATION:County Farm Park\, 2230 Platt Road\, Ann Arbor\, MI\, 48103\, United States
CATEGORIES:Grief Support
ORGANIZER;CN="Melissa McCreedy":MAILTO:mmccreedy@arborhospice.org
END:VEVENT
BEGIN:VEVENT
DTSTART;TZID=America/Detroit:20291018T113000
DTEND;TZID=America/Detroit:20291018T130000
DTSTAMP:20260422T130045
CREATED:20260306T184702Z
LAST-MODIFIED:20260306T184727Z
UID:10002775-1887017400-1887022800@arborhospice.org
SUMMARY:Lunch Bunch - Social Mealtime Group
DESCRIPTION:Arbor Hospice offers a social group for individuals who have lost a spouse or partner and are interested in sharing a meal together. The group meets monthly at a restaurant in Ann Arbor. If you are interested in meeting some new friends and sharing a meal with other widows and widowers\, please contact us for more information. \nLUNCH BUNCH\n3rd Thursday of the month\n11:30pm – 1pm  \nRSVP: Melissa McCreedy\n734-255-3553\nmmccreedy@arborhospice.org
URL:https://arborhospice.org/event/lunch-bunch-social-mealtime-group-2/2029-10-18/
ORGANIZER;CN="Melissa McCreedy":MAILTO:mmccreedy@arborhospice.org
END:VEVENT
BEGIN:VEVENT
DTSTART;TZID=America/Detroit:20291101T110000
DTEND;TZID=America/Detroit:20291101T123000
DTSTAMP:20260422T130045
CREATED:20240409T151644Z
LAST-MODIFIED:20241218T183822Z
UID:10002537-1888225200-1888230600@arborhospice.org
SUMMARY:Walking Through Grief - Walking Group
DESCRIPTION:Social support and physical activity are two of the most important components of mental health\, especially while grieving. This monthly\, socially-focused group gives grieving adults the opportunity to socialize\, support one another in grief\, while getting fresh air and exercise. All activity levels are welcome. Individuals can walk at their own pace. \n  \nThis group meets the 1st Thursday of the month • 11am – 12:30pm County Farm Park • 2230 Platt Rd.\, Ann Arbor \nPlease RSVP with Melissa McCreedy • 734-794-5127 mmccreedy@arborhospice.org
URL:https://arborhospice.org/event/walking-through-grief-walking-group/2029-11-01/
LOCATION:County Farm Park\, 2230 Platt Road\, Ann Arbor\, MI\, 48103\, United States
CATEGORIES:Grief Support
ORGANIZER;CN="Melissa McCreedy":MAILTO:mmccreedy@arborhospice.org
END:VEVENT
BEGIN:VEVENT
DTSTART;TZID=America/Detroit:20291115T113000
DTEND;TZID=America/Detroit:20291115T130000
DTSTAMP:20260422T130045
CREATED:20260306T184702Z
LAST-MODIFIED:20260306T184727Z
UID:10002776-1889436600-1889442000@arborhospice.org
SUMMARY:Lunch Bunch - Social Mealtime Group
DESCRIPTION:Arbor Hospice offers a social group for individuals who have lost a spouse or partner and are interested in sharing a meal together. The group meets monthly at a restaurant in Ann Arbor. If you are interested in meeting some new friends and sharing a meal with other widows and widowers\, please contact us for more information. \nLUNCH BUNCH\n3rd Thursday of the month\n11:30pm – 1pm  \nRSVP: Melissa McCreedy\n734-255-3553\nmmccreedy@arborhospice.org
URL:https://arborhospice.org/event/lunch-bunch-social-mealtime-group-2/2029-11-15/
ORGANIZER;CN="Melissa McCreedy":MAILTO:mmccreedy@arborhospice.org
END:VEVENT
BEGIN:VEVENT
DTSTART;TZID=America/Detroit:20291206T110000
DTEND;TZID=America/Detroit:20291206T123000
DTSTAMP:20260422T130045
CREATED:20240409T151644Z
LAST-MODIFIED:20241218T183822Z
UID:10002538-1891249200-1891254600@arborhospice.org
SUMMARY:Walking Through Grief - Walking Group
DESCRIPTION:Social support and physical activity are two of the most important components of mental health\, especially while grieving. This monthly\, socially-focused group gives grieving adults the opportunity to socialize\, support one another in grief\, while getting fresh air and exercise. All activity levels are welcome. Individuals can walk at their own pace. \n  \nThis group meets the 1st Thursday of the month • 11am – 12:30pm County Farm Park • 2230 Platt Rd.\, Ann Arbor \nPlease RSVP with Melissa McCreedy • 734-794-5127 mmccreedy@arborhospice.org
URL:https://arborhospice.org/event/walking-through-grief-walking-group/2029-12-06/
LOCATION:County Farm Park\, 2230 Platt Road\, Ann Arbor\, MI\, 48103\, United States
CATEGORIES:Grief Support
ORGANIZER;CN="Melissa McCreedy":MAILTO:mmccreedy@arborhospice.org
END:VEVENT
BEGIN:VEVENT
DTSTART;TZID=America/Detroit:20291220T113000
DTEND;TZID=America/Detroit:20291220T130000
DTSTAMP:20260422T130045
CREATED:20260306T184702Z
LAST-MODIFIED:20260306T184727Z
UID:10002777-1892460600-1892466000@arborhospice.org
SUMMARY:Lunch Bunch - Social Mealtime Group
DESCRIPTION:Arbor Hospice offers a social group for individuals who have lost a spouse or partner and are interested in sharing a meal together. The group meets monthly at a restaurant in Ann Arbor. If you are interested in meeting some new friends and sharing a meal with other widows and widowers\, please contact us for more information. \nLUNCH BUNCH\n3rd Thursday of the month\n11:30pm – 1pm  \nRSVP: Melissa McCreedy\n734-255-3553\nmmccreedy@arborhospice.org
URL:https://arborhospice.org/event/lunch-bunch-social-mealtime-group-2/2029-12-20/
ORGANIZER;CN="Melissa McCreedy":MAILTO:mmccreedy@arborhospice.org
END:VEVENT
BEGIN:VEVENT
DTSTART;TZID=America/Detroit:20300117T113000
DTEND;TZID=America/Detroit:20300117T130000
DTSTAMP:20260422T130045
CREATED:20260306T184702Z
LAST-MODIFIED:20260306T184727Z
UID:10002778-1894879800-1894885200@arborhospice.org
SUMMARY:Lunch Bunch - Social Mealtime Group
DESCRIPTION:Arbor Hospice offers a social group for individuals who have lost a spouse or partner and are interested in sharing a meal together. The group meets monthly at a restaurant in Ann Arbor. If you are interested in meeting some new friends and sharing a meal with other widows and widowers\, please contact us for more information. \nLUNCH BUNCH\n3rd Thursday of the month\n11:30pm – 1pm  \nRSVP: Melissa McCreedy\n734-255-3553\nmmccreedy@arborhospice.org
URL:https://arborhospice.org/event/lunch-bunch-social-mealtime-group-2/2030-01-17/
ORGANIZER;CN="Melissa McCreedy":MAILTO:mmccreedy@arborhospice.org
END:VEVENT
BEGIN:VEVENT
DTSTART;TZID=America/Detroit:20300221T113000
DTEND;TZID=America/Detroit:20300221T130000
DTSTAMP:20260422T130045
CREATED:20260306T184702Z
LAST-MODIFIED:20260306T184727Z
UID:10002779-1897903800-1897909200@arborhospice.org
SUMMARY:Lunch Bunch - Social Mealtime Group
DESCRIPTION:Arbor Hospice offers a social group for individuals who have lost a spouse or partner and are interested in sharing a meal together. The group meets monthly at a restaurant in Ann Arbor. If you are interested in meeting some new friends and sharing a meal with other widows and widowers\, please contact us for more information. \nLUNCH BUNCH\n3rd Thursday of the month\n11:30pm – 1pm  \nRSVP: Melissa McCreedy\n734-255-3553\nmmccreedy@arborhospice.org
URL:https://arborhospice.org/event/lunch-bunch-social-mealtime-group-2/2030-02-21/
ORGANIZER;CN="Melissa McCreedy":MAILTO:mmccreedy@arborhospice.org
END:VEVENT
BEGIN:VEVENT
DTSTART;TZID=America/Detroit:20300321T113000
DTEND;TZID=America/Detroit:20300321T130000
DTSTAMP:20260422T130045
CREATED:20260306T184702Z
LAST-MODIFIED:20260306T184727Z
UID:10002780-1900323000-1900328400@arborhospice.org
SUMMARY:Lunch Bunch - Social Mealtime Group
DESCRIPTION:Arbor Hospice offers a social group for individuals who have lost a spouse or partner and are interested in sharing a meal together. The group meets monthly at a restaurant in Ann Arbor. If you are interested in meeting some new friends and sharing a meal with other widows and widowers\, please contact us for more information. \nLUNCH BUNCH\n3rd Thursday of the month\n11:30pm – 1pm  \nRSVP: Melissa McCreedy\n734-255-3553\nmmccreedy@arborhospice.org
URL:https://arborhospice.org/event/lunch-bunch-social-mealtime-group-2/2030-03-21/
ORGANIZER;CN="Melissa McCreedy":MAILTO:mmccreedy@arborhospice.org
END:VEVENT
BEGIN:VEVENT
DTSTART;TZID=America/Detroit:20300418T113000
DTEND;TZID=America/Detroit:20300418T130000
DTSTAMP:20260422T130045
CREATED:20260306T184702Z
LAST-MODIFIED:20260306T184727Z
UID:10002781-1902742200-1902747600@arborhospice.org
SUMMARY:Lunch Bunch - Social Mealtime Group
DESCRIPTION:Arbor Hospice offers a social group for individuals who have lost a spouse or partner and are interested in sharing a meal together. The group meets monthly at a restaurant in Ann Arbor. If you are interested in meeting some new friends and sharing a meal with other widows and widowers\, please contact us for more information. \nLUNCH BUNCH\n3rd Thursday of the month\n11:30pm – 1pm  \nRSVP: Melissa McCreedy\n734-255-3553\nmmccreedy@arborhospice.org
URL:https://arborhospice.org/event/lunch-bunch-social-mealtime-group-2/2030-04-18/
ORGANIZER;CN="Melissa McCreedy":MAILTO:mmccreedy@arborhospice.org
END:VEVENT
BEGIN:VEVENT
DTSTART;TZID=America/Detroit:20300516T113000
DTEND;TZID=America/Detroit:20300516T130000
DTSTAMP:20260422T130045
CREATED:20260306T184702Z
LAST-MODIFIED:20260306T184727Z
UID:10002782-1905161400-1905166800@arborhospice.org
SUMMARY:Lunch Bunch - Social Mealtime Group
DESCRIPTION:Arbor Hospice offers a social group for individuals who have lost a spouse or partner and are interested in sharing a meal together. The group meets monthly at a restaurant in Ann Arbor. If you are interested in meeting some new friends and sharing a meal with other widows and widowers\, please contact us for more information. \nLUNCH BUNCH\n3rd Thursday of the month\n11:30pm – 1pm  \nRSVP: Melissa McCreedy\n734-255-3553\nmmccreedy@arborhospice.org
URL:https://arborhospice.org/event/lunch-bunch-social-mealtime-group-2/2030-05-16/
ORGANIZER;CN="Melissa McCreedy":MAILTO:mmccreedy@arborhospice.org
END:VEVENT
BEGIN:VEVENT
DTSTART;TZID=America/Detroit:20300620T113000
DTEND;TZID=America/Detroit:20300620T130000
DTSTAMP:20260422T130045
CREATED:20260306T184702Z
LAST-MODIFIED:20260306T184727Z
UID:10002783-1908185400-1908190800@arborhospice.org
SUMMARY:Lunch Bunch - Social Mealtime Group
DESCRIPTION:Arbor Hospice offers a social group for individuals who have lost a spouse or partner and are interested in sharing a meal together. The group meets monthly at a restaurant in Ann Arbor. If you are interested in meeting some new friends and sharing a meal with other widows and widowers\, please contact us for more information. \nLUNCH BUNCH\n3rd Thursday of the month\n11:30pm – 1pm  \nRSVP: Melissa McCreedy\n734-255-3553\nmmccreedy@arborhospice.org
URL:https://arborhospice.org/event/lunch-bunch-social-mealtime-group-2/2030-06-20/
ORGANIZER;CN="Melissa McCreedy":MAILTO:mmccreedy@arborhospice.org
END:VEVENT
BEGIN:VEVENT
DTSTART;TZID=America/Detroit:20300718T113000
DTEND;TZID=America/Detroit:20300718T130000
DTSTAMP:20260422T130045
CREATED:20260306T184702Z
LAST-MODIFIED:20260306T184727Z
UID:10002784-1910604600-1910610000@arborhospice.org
SUMMARY:Lunch Bunch - Social Mealtime Group
DESCRIPTION:Arbor Hospice offers a social group for individuals who have lost a spouse or partner and are interested in sharing a meal together. The group meets monthly at a restaurant in Ann Arbor. If you are interested in meeting some new friends and sharing a meal with other widows and widowers\, please contact us for more information. \nLUNCH BUNCH\n3rd Thursday of the month\n11:30pm – 1pm  \nRSVP: Melissa McCreedy\n734-255-3553\nmmccreedy@arborhospice.org
URL:https://arborhospice.org/event/lunch-bunch-social-mealtime-group-2/2030-07-18/
ORGANIZER;CN="Melissa McCreedy":MAILTO:mmccreedy@arborhospice.org
END:VEVENT
BEGIN:VEVENT
DTSTART;TZID=America/Detroit:20300815T113000
DTEND;TZID=America/Detroit:20300815T130000
DTSTAMP:20260422T130045
CREATED:20260306T184702Z
LAST-MODIFIED:20260306T184727Z
UID:10002785-1913023800-1913029200@arborhospice.org
SUMMARY:Lunch Bunch - Social Mealtime Group
DESCRIPTION:Arbor Hospice offers a social group for individuals who have lost a spouse or partner and are interested in sharing a meal together. The group meets monthly at a restaurant in Ann Arbor. If you are interested in meeting some new friends and sharing a meal with other widows and widowers\, please contact us for more information. \nLUNCH BUNCH\n3rd Thursday of the month\n11:30pm – 1pm  \nRSVP: Melissa McCreedy\n734-255-3553\nmmccreedy@arborhospice.org
URL:https://arborhospice.org/event/lunch-bunch-social-mealtime-group-2/2030-08-15/
ORGANIZER;CN="Melissa McCreedy":MAILTO:mmccreedy@arborhospice.org
END:VEVENT
BEGIN:VEVENT
DTSTART;TZID=America/Detroit:20300919T113000
DTEND;TZID=America/Detroit:20300919T130000
DTSTAMP:20260422T130045
CREATED:20260306T184702Z
LAST-MODIFIED:20260306T184727Z
UID:10002786-1916047800-1916053200@arborhospice.org
SUMMARY:Lunch Bunch - Social Mealtime Group
DESCRIPTION:Arbor Hospice offers a social group for individuals who have lost a spouse or partner and are interested in sharing a meal together. The group meets monthly at a restaurant in Ann Arbor. If you are interested in meeting some new friends and sharing a meal with other widows and widowers\, please contact us for more information. \nLUNCH BUNCH\n3rd Thursday of the month\n11:30pm – 1pm  \nRSVP: Melissa McCreedy\n734-255-3553\nmmccreedy@arborhospice.org
URL:https://arborhospice.org/event/lunch-bunch-social-mealtime-group-2/2030-09-19/
ORGANIZER;CN="Melissa McCreedy":MAILTO:mmccreedy@arborhospice.org
END:VEVENT
BEGIN:VEVENT
DTSTART;TZID=America/Detroit:20301017T113000
DTEND;TZID=America/Detroit:20301017T130000
DTSTAMP:20260422T130045
CREATED:20260306T184702Z
LAST-MODIFIED:20260306T184727Z
UID:10002787-1918467000-1918472400@arborhospice.org
SUMMARY:Lunch Bunch - Social Mealtime Group
DESCRIPTION:Arbor Hospice offers a social group for individuals who have lost a spouse or partner and are interested in sharing a meal together. The group meets monthly at a restaurant in Ann Arbor. If you are interested in meeting some new friends and sharing a meal with other widows and widowers\, please contact us for more information. \nLUNCH BUNCH\n3rd Thursday of the month\n11:30pm – 1pm  \nRSVP: Melissa McCreedy\n734-255-3553\nmmccreedy@arborhospice.org
URL:https://arborhospice.org/event/lunch-bunch-social-mealtime-group-2/2030-10-17/
ORGANIZER;CN="Melissa McCreedy":MAILTO:mmccreedy@arborhospice.org
END:VEVENT
BEGIN:VEVENT
DTSTART;TZID=America/Detroit:20301121T113000
DTEND;TZID=America/Detroit:20301121T130000
DTSTAMP:20260422T130045
CREATED:20260306T184702Z
LAST-MODIFIED:20260306T184727Z
UID:10002788-1921491000-1921496400@arborhospice.org
SUMMARY:Lunch Bunch - Social Mealtime Group
DESCRIPTION:Arbor Hospice offers a social group for individuals who have lost a spouse or partner and are interested in sharing a meal together. The group meets monthly at a restaurant in Ann Arbor. If you are interested in meeting some new friends and sharing a meal with other widows and widowers\, please contact us for more information. \nLUNCH BUNCH\n3rd Thursday of the month\n11:30pm – 1pm  \nRSVP: Melissa McCreedy\n734-255-3553\nmmccreedy@arborhospice.org
URL:https://arborhospice.org/event/lunch-bunch-social-mealtime-group-2/2030-11-21/
ORGANIZER;CN="Melissa McCreedy":MAILTO:mmccreedy@arborhospice.org
END:VEVENT
BEGIN:VEVENT
DTSTART;TZID=America/Detroit:20301219T113000
DTEND;TZID=America/Detroit:20301219T130000
DTSTAMP:20260422T130045
CREATED:20260306T184702Z
LAST-MODIFIED:20260306T184727Z
UID:10002789-1923910200-1923915600@arborhospice.org
SUMMARY:Lunch Bunch - Social Mealtime Group
DESCRIPTION:Arbor Hospice offers a social group for individuals who have lost a spouse or partner and are interested in sharing a meal together. The group meets monthly at a restaurant in Ann Arbor. If you are interested in meeting some new friends and sharing a meal with other widows and widowers\, please contact us for more information. \nLUNCH BUNCH\n3rd Thursday of the month\n11:30pm – 1pm  \nRSVP: Melissa McCreedy\n734-255-3553\nmmccreedy@arborhospice.org
URL:https://arborhospice.org/event/lunch-bunch-social-mealtime-group-2/2030-12-19/
ORGANIZER;CN="Melissa McCreedy":MAILTO:mmccreedy@arborhospice.org
END:VEVENT
BEGIN:VEVENT
DTSTART;TZID=America/Detroit:20310116T113000
DTEND;TZID=America/Detroit:20310116T130000
DTSTAMP:20260422T130045
CREATED:20260306T184702Z
LAST-MODIFIED:20260306T184727Z
UID:10002790-1926329400-1926334800@arborhospice.org
SUMMARY:Lunch Bunch - Social Mealtime Group
DESCRIPTION:Arbor Hospice offers a social group for individuals who have lost a spouse or partner and are interested in sharing a meal together. The group meets monthly at a restaurant in Ann Arbor. If you are interested in meeting some new friends and sharing a meal with other widows and widowers\, please contact us for more information. \nLUNCH BUNCH\n3rd Thursday of the month\n11:30pm – 1pm  \nRSVP: Melissa McCreedy\n734-255-3553\nmmccreedy@arborhospice.org
URL:https://arborhospice.org/event/lunch-bunch-social-mealtime-group-2/2031-01-16/
ORGANIZER;CN="Melissa McCreedy":MAILTO:mmccreedy@arborhospice.org
END:VEVENT
BEGIN:VEVENT
DTSTART;TZID=America/Detroit:20310220T113000
DTEND;TZID=America/Detroit:20310220T130000
DTSTAMP:20260422T130045
CREATED:20260306T184702Z
LAST-MODIFIED:20260306T184727Z
UID:10002791-1929353400-1929358800@arborhospice.org
SUMMARY:Lunch Bunch - Social Mealtime Group
DESCRIPTION:Arbor Hospice offers a social group for individuals who have lost a spouse or partner and are interested in sharing a meal together. The group meets monthly at a restaurant in Ann Arbor. If you are interested in meeting some new friends and sharing a meal with other widows and widowers\, please contact us for more information. \nLUNCH BUNCH\n3rd Thursday of the month\n11:30pm – 1pm  \nRSVP: Melissa McCreedy\n734-255-3553\nmmccreedy@arborhospice.org
URL:https://arborhospice.org/event/lunch-bunch-social-mealtime-group-2/2031-02-20/
ORGANIZER;CN="Melissa McCreedy":MAILTO:mmccreedy@arborhospice.org
END:VEVENT
END:VCALENDAR