BEGIN:VCALENDAR
VERSION:2.0
PRODID:-//Arbor Hospice - ECPv6.15.20//NONSGML v1.0//EN
CALSCALE:GREGORIAN
METHOD:PUBLISH
X-WR-CALNAME:Arbor Hospice
X-ORIGINAL-URL:https://arborhospice.org
X-WR-CALDESC:Events for Arbor Hospice
REFRESH-INTERVAL;VALUE=DURATION:PT1H
X-Robots-Tag:noindex
X-PUBLISHED-TTL:PT1H
BEGIN:VTIMEZONE
TZID:America/Detroit
BEGIN:DAYLIGHT
TZOFFSETFROM:-0500
TZOFFSETTO:-0400
TZNAME:EDT
DTSTART:20280312T070000
END:DAYLIGHT
BEGIN:STANDARD
TZOFFSETFROM:-0400
TZOFFSETTO:-0500
TZNAME:EST
DTSTART:20281105T060000
END:STANDARD
BEGIN:DAYLIGHT
TZOFFSETFROM:-0500
TZOFFSETTO:-0400
TZNAME:EDT
DTSTART:20290311T070000
END:DAYLIGHT
BEGIN:STANDARD
TZOFFSETFROM:-0400
TZOFFSETTO:-0500
TZNAME:EST
DTSTART:20291104T060000
END:STANDARD
BEGIN:DAYLIGHT
TZOFFSETFROM:-0500
TZOFFSETTO:-0400
TZNAME:EDT
DTSTART:20300310T070000
END:DAYLIGHT
BEGIN:STANDARD
TZOFFSETFROM:-0400
TZOFFSETTO:-0500
TZNAME:EST
DTSTART:20301103T060000
END:STANDARD
BEGIN:DAYLIGHT
TZOFFSETFROM:-0500
TZOFFSETTO:-0400
TZNAME:EDT
DTSTART:20310309T070000
END:DAYLIGHT
BEGIN:STANDARD
TZOFFSETFROM:-0400
TZOFFSETTO:-0500
TZNAME:EST
DTSTART:20311102T060000
END:STANDARD
END:VTIMEZONE
BEGIN:VEVENT
DTSTART;TZID=America/Detroit:20290823T180000
DTEND;TZID=America/Detroit:20290823T193000
DTSTAMP:20260422T064557
CREATED:20240814T213342Z
LAST-MODIFIED:20250904T183724Z
UID:10002691-1882202400-1882207800@arborhospice.org
SUMMARY:DINNER DINERS SOCIAL MEALTIME GROUP
DESCRIPTION:Arbor Hospice offers a social group for individuals who have lost a spouse or partner and are interested in sharing a meal together. The group meets monthly at a restaurant in Ann Arbor. If you are interested in meeting some new friends and sharing a meal with other widows and widowers\, please contact us for more information. \nDINNER DINERS\n4th Thursday of the month\n6pm – 7:30 pm  \nRSVP: Melissa McCreedy\n734-255-3553\nmmccreedy@arborhospice.org
URL:https://arborhospice.org/event/dinner-diners-social-mealtime-group/2029-08-23/
CATEGORIES:Grief Support
ORGANIZER;CN="Margie Martin":MAILTO:mmartin@arborhospice.org
END:VEVENT
BEGIN:VEVENT
DTSTART;TZID=America/Detroit:20290927T180000
DTEND;TZID=America/Detroit:20290927T193000
DTSTAMP:20260422T064557
CREATED:20240814T213342Z
LAST-MODIFIED:20250904T183724Z
UID:10002692-1885226400-1885231800@arborhospice.org
SUMMARY:DINNER DINERS SOCIAL MEALTIME GROUP
DESCRIPTION:Arbor Hospice offers a social group for individuals who have lost a spouse or partner and are interested in sharing a meal together. The group meets monthly at a restaurant in Ann Arbor. If you are interested in meeting some new friends and sharing a meal with other widows and widowers\, please contact us for more information. \nDINNER DINERS\n4th Thursday of the month\n6pm – 7:30 pm  \nRSVP: Melissa McCreedy\n734-255-3553\nmmccreedy@arborhospice.org
URL:https://arborhospice.org/event/dinner-diners-social-mealtime-group/2029-09-27/
CATEGORIES:Grief Support
ORGANIZER;CN="Margie Martin":MAILTO:mmartin@arborhospice.org
END:VEVENT
BEGIN:VEVENT
DTSTART;TZID=America/Detroit:20291025T180000
DTEND;TZID=America/Detroit:20291025T193000
DTSTAMP:20260422T064557
CREATED:20240814T213342Z
LAST-MODIFIED:20250904T183724Z
UID:10002693-1887645600-1887651000@arborhospice.org
SUMMARY:DINNER DINERS SOCIAL MEALTIME GROUP
DESCRIPTION:Arbor Hospice offers a social group for individuals who have lost a spouse or partner and are interested in sharing a meal together. The group meets monthly at a restaurant in Ann Arbor. If you are interested in meeting some new friends and sharing a meal with other widows and widowers\, please contact us for more information. \nDINNER DINERS\n4th Thursday of the month\n6pm – 7:30 pm  \nRSVP: Melissa McCreedy\n734-255-3553\nmmccreedy@arborhospice.org
URL:https://arborhospice.org/event/dinner-diners-social-mealtime-group/2029-10-25/
CATEGORIES:Grief Support
ORGANIZER;CN="Margie Martin":MAILTO:mmartin@arborhospice.org
END:VEVENT
BEGIN:VEVENT
DTSTART;TZID=America/Detroit:20291122T180000
DTEND;TZID=America/Detroit:20291122T193000
DTSTAMP:20260422T064557
CREATED:20240814T213342Z
LAST-MODIFIED:20250904T183724Z
UID:10002694-1890064800-1890070200@arborhospice.org
SUMMARY:DINNER DINERS SOCIAL MEALTIME GROUP
DESCRIPTION:Arbor Hospice offers a social group for individuals who have lost a spouse or partner and are interested in sharing a meal together. The group meets monthly at a restaurant in Ann Arbor. If you are interested in meeting some new friends and sharing a meal with other widows and widowers\, please contact us for more information. \nDINNER DINERS\n4th Thursday of the month\n6pm – 7:30 pm  \nRSVP: Melissa McCreedy\n734-255-3553\nmmccreedy@arborhospice.org
URL:https://arborhospice.org/event/dinner-diners-social-mealtime-group/2029-11-22/
CATEGORIES:Grief Support
ORGANIZER;CN="Margie Martin":MAILTO:mmartin@arborhospice.org
END:VEVENT
BEGIN:VEVENT
DTSTART;TZID=America/Detroit:20291227T180000
DTEND;TZID=America/Detroit:20291227T193000
DTSTAMP:20260422T064557
CREATED:20240814T213342Z
LAST-MODIFIED:20250904T183724Z
UID:10002695-1893088800-1893094200@arborhospice.org
SUMMARY:DINNER DINERS SOCIAL MEALTIME GROUP
DESCRIPTION:Arbor Hospice offers a social group for individuals who have lost a spouse or partner and are interested in sharing a meal together. The group meets monthly at a restaurant in Ann Arbor. If you are interested in meeting some new friends and sharing a meal with other widows and widowers\, please contact us for more information. \nDINNER DINERS\n4th Thursday of the month\n6pm – 7:30 pm  \nRSVP: Melissa McCreedy\n734-255-3553\nmmccreedy@arborhospice.org
URL:https://arborhospice.org/event/dinner-diners-social-mealtime-group/2029-12-27/
CATEGORIES:Grief Support
ORGANIZER;CN="Margie Martin":MAILTO:mmartin@arborhospice.org
END:VEVENT
BEGIN:VEVENT
DTSTART;TZID=America/Detroit:20300124T180000
DTEND;TZID=America/Detroit:20300124T193000
DTSTAMP:20260422T064557
CREATED:20240814T213342Z
LAST-MODIFIED:20250904T183724Z
UID:10002696-1895508000-1895513400@arborhospice.org
SUMMARY:DINNER DINERS SOCIAL MEALTIME GROUP
DESCRIPTION:Arbor Hospice offers a social group for individuals who have lost a spouse or partner and are interested in sharing a meal together. The group meets monthly at a restaurant in Ann Arbor. If you are interested in meeting some new friends and sharing a meal with other widows and widowers\, please contact us for more information. \nDINNER DINERS\n4th Thursday of the month\n6pm – 7:30 pm  \nRSVP: Melissa McCreedy\n734-255-3553\nmmccreedy@arborhospice.org
URL:https://arborhospice.org/event/dinner-diners-social-mealtime-group/2030-01-24/
CATEGORIES:Grief Support
ORGANIZER;CN="Margie Martin":MAILTO:mmartin@arborhospice.org
END:VEVENT
BEGIN:VEVENT
DTSTART;TZID=America/Detroit:20300228T180000
DTEND;TZID=America/Detroit:20300228T193000
DTSTAMP:20260422T064557
CREATED:20240814T213342Z
LAST-MODIFIED:20250904T183724Z
UID:10002697-1898532000-1898537400@arborhospice.org
SUMMARY:DINNER DINERS SOCIAL MEALTIME GROUP
DESCRIPTION:Arbor Hospice offers a social group for individuals who have lost a spouse or partner and are interested in sharing a meal together. The group meets monthly at a restaurant in Ann Arbor. If you are interested in meeting some new friends and sharing a meal with other widows and widowers\, please contact us for more information. \nDINNER DINERS\n4th Thursday of the month\n6pm – 7:30 pm  \nRSVP: Melissa McCreedy\n734-255-3553\nmmccreedy@arborhospice.org
URL:https://arborhospice.org/event/dinner-diners-social-mealtime-group/2030-02-28/
CATEGORIES:Grief Support
ORGANIZER;CN="Margie Martin":MAILTO:mmartin@arborhospice.org
END:VEVENT
BEGIN:VEVENT
DTSTART;TZID=America/Detroit:20300328T180000
DTEND;TZID=America/Detroit:20300328T193000
DTSTAMP:20260422T064557
CREATED:20240814T213342Z
LAST-MODIFIED:20250904T183724Z
UID:10002698-1900951200-1900956600@arborhospice.org
SUMMARY:DINNER DINERS SOCIAL MEALTIME GROUP
DESCRIPTION:Arbor Hospice offers a social group for individuals who have lost a spouse or partner and are interested in sharing a meal together. The group meets monthly at a restaurant in Ann Arbor. If you are interested in meeting some new friends and sharing a meal with other widows and widowers\, please contact us for more information. \nDINNER DINERS\n4th Thursday of the month\n6pm – 7:30 pm  \nRSVP: Melissa McCreedy\n734-255-3553\nmmccreedy@arborhospice.org
URL:https://arborhospice.org/event/dinner-diners-social-mealtime-group/2030-03-28/
CATEGORIES:Grief Support
ORGANIZER;CN="Margie Martin":MAILTO:mmartin@arborhospice.org
END:VEVENT
BEGIN:VEVENT
DTSTART;TZID=America/Detroit:20300425T180000
DTEND;TZID=America/Detroit:20300425T193000
DTSTAMP:20260422T064557
CREATED:20240814T213342Z
LAST-MODIFIED:20250904T183724Z
UID:10002699-1903370400-1903375800@arborhospice.org
SUMMARY:DINNER DINERS SOCIAL MEALTIME GROUP
DESCRIPTION:Arbor Hospice offers a social group for individuals who have lost a spouse or partner and are interested in sharing a meal together. The group meets monthly at a restaurant in Ann Arbor. If you are interested in meeting some new friends and sharing a meal with other widows and widowers\, please contact us for more information. \nDINNER DINERS\n4th Thursday of the month\n6pm – 7:30 pm  \nRSVP: Melissa McCreedy\n734-255-3553\nmmccreedy@arborhospice.org
URL:https://arborhospice.org/event/dinner-diners-social-mealtime-group/2030-04-25/
CATEGORIES:Grief Support
ORGANIZER;CN="Margie Martin":MAILTO:mmartin@arborhospice.org
END:VEVENT
BEGIN:VEVENT
DTSTART;TZID=America/Detroit:20300523T180000
DTEND;TZID=America/Detroit:20300523T193000
DTSTAMP:20260422T064557
CREATED:20240814T213342Z
LAST-MODIFIED:20250904T183724Z
UID:10002700-1905789600-1905795000@arborhospice.org
SUMMARY:DINNER DINERS SOCIAL MEALTIME GROUP
DESCRIPTION:Arbor Hospice offers a social group for individuals who have lost a spouse or partner and are interested in sharing a meal together. The group meets monthly at a restaurant in Ann Arbor. If you are interested in meeting some new friends and sharing a meal with other widows and widowers\, please contact us for more information. \nDINNER DINERS\n4th Thursday of the month\n6pm – 7:30 pm  \nRSVP: Melissa McCreedy\n734-255-3553\nmmccreedy@arborhospice.org
URL:https://arborhospice.org/event/dinner-diners-social-mealtime-group/2030-05-23/
CATEGORIES:Grief Support
ORGANIZER;CN="Margie Martin":MAILTO:mmartin@arborhospice.org
END:VEVENT
BEGIN:VEVENT
DTSTART;TZID=America/Detroit:20300627T180000
DTEND;TZID=America/Detroit:20300627T193000
DTSTAMP:20260422T064557
CREATED:20240814T213342Z
LAST-MODIFIED:20250904T183724Z
UID:10002701-1908813600-1908819000@arborhospice.org
SUMMARY:DINNER DINERS SOCIAL MEALTIME GROUP
DESCRIPTION:Arbor Hospice offers a social group for individuals who have lost a spouse or partner and are interested in sharing a meal together. The group meets monthly at a restaurant in Ann Arbor. If you are interested in meeting some new friends and sharing a meal with other widows and widowers\, please contact us for more information. \nDINNER DINERS\n4th Thursday of the month\n6pm – 7:30 pm  \nRSVP: Melissa McCreedy\n734-255-3553\nmmccreedy@arborhospice.org
URL:https://arborhospice.org/event/dinner-diners-social-mealtime-group/2030-06-27/
CATEGORIES:Grief Support
ORGANIZER;CN="Margie Martin":MAILTO:mmartin@arborhospice.org
END:VEVENT
BEGIN:VEVENT
DTSTART;TZID=America/Detroit:20300725T180000
DTEND;TZID=America/Detroit:20300725T193000
DTSTAMP:20260422T064557
CREATED:20240814T213342Z
LAST-MODIFIED:20250904T183724Z
UID:10002702-1911232800-1911238200@arborhospice.org
SUMMARY:DINNER DINERS SOCIAL MEALTIME GROUP
DESCRIPTION:Arbor Hospice offers a social group for individuals who have lost a spouse or partner and are interested in sharing a meal together. The group meets monthly at a restaurant in Ann Arbor. If you are interested in meeting some new friends and sharing a meal with other widows and widowers\, please contact us for more information. \nDINNER DINERS\n4th Thursday of the month\n6pm – 7:30 pm  \nRSVP: Melissa McCreedy\n734-255-3553\nmmccreedy@arborhospice.org
URL:https://arborhospice.org/event/dinner-diners-social-mealtime-group/2030-07-25/
CATEGORIES:Grief Support
ORGANIZER;CN="Margie Martin":MAILTO:mmartin@arborhospice.org
END:VEVENT
BEGIN:VEVENT
DTSTART;TZID=America/Detroit:20300822T180000
DTEND;TZID=America/Detroit:20300822T193000
DTSTAMP:20260422T064557
CREATED:20240814T213342Z
LAST-MODIFIED:20250904T183724Z
UID:10002703-1913652000-1913657400@arborhospice.org
SUMMARY:DINNER DINERS SOCIAL MEALTIME GROUP
DESCRIPTION:Arbor Hospice offers a social group for individuals who have lost a spouse or partner and are interested in sharing a meal together. The group meets monthly at a restaurant in Ann Arbor. If you are interested in meeting some new friends and sharing a meal with other widows and widowers\, please contact us for more information. \nDINNER DINERS\n4th Thursday of the month\n6pm – 7:30 pm  \nRSVP: Melissa McCreedy\n734-255-3553\nmmccreedy@arborhospice.org
URL:https://arborhospice.org/event/dinner-diners-social-mealtime-group/2030-08-22/
CATEGORIES:Grief Support
ORGANIZER;CN="Margie Martin":MAILTO:mmartin@arborhospice.org
END:VEVENT
END:VCALENDAR