BEGIN:VCALENDAR
VERSION:2.0
PRODID:-//Arbor Hospice - ECPv6.15.20//NONSGML v1.0//EN
CALSCALE:GREGORIAN
METHOD:PUBLISH
X-WR-CALNAME:Arbor Hospice
X-ORIGINAL-URL:https://arborhospice.org
X-WR-CALDESC:Events for Arbor Hospice
REFRESH-INTERVAL;VALUE=DURATION:PT1H
X-Robots-Tag:noindex
X-PUBLISHED-TTL:PT1H
BEGIN:VTIMEZONE
TZID:America/Detroit
BEGIN:DAYLIGHT
TZOFFSETFROM:-0500
TZOFFSETTO:-0400
TZNAME:EDT
DTSTART:20260308T070000
END:DAYLIGHT
BEGIN:STANDARD
TZOFFSETFROM:-0400
TZOFFSETTO:-0500
TZNAME:EST
DTSTART:20261101T060000
END:STANDARD
BEGIN:DAYLIGHT
TZOFFSETFROM:-0500
TZOFFSETTO:-0400
TZNAME:EDT
DTSTART:20270314T070000
END:DAYLIGHT
BEGIN:STANDARD
TZOFFSETFROM:-0400
TZOFFSETTO:-0500
TZNAME:EST
DTSTART:20271107T060000
END:STANDARD
BEGIN:DAYLIGHT
TZOFFSETFROM:-0500
TZOFFSETTO:-0400
TZNAME:EDT
DTSTART:20280312T070000
END:DAYLIGHT
BEGIN:STANDARD
TZOFFSETFROM:-0400
TZOFFSETTO:-0500
TZNAME:EST
DTSTART:20281105T060000
END:STANDARD
BEGIN:DAYLIGHT
TZOFFSETFROM:-0500
TZOFFSETTO:-0400
TZNAME:EDT
DTSTART:20290311T070000
END:DAYLIGHT
BEGIN:STANDARD
TZOFFSETFROM:-0400
TZOFFSETTO:-0500
TZNAME:EST
DTSTART:20291104T060000
END:STANDARD
BEGIN:DAYLIGHT
TZOFFSETFROM:-0500
TZOFFSETTO:-0400
TZNAME:EDT
DTSTART:20300310T070000
END:DAYLIGHT
BEGIN:STANDARD
TZOFFSETFROM:-0400
TZOFFSETTO:-0500
TZNAME:EST
DTSTART:20301103T060000
END:STANDARD
BEGIN:DAYLIGHT
TZOFFSETFROM:-0500
TZOFFSETTO:-0400
TZNAME:EDT
DTSTART:20310309T070000
END:DAYLIGHT
BEGIN:STANDARD
TZOFFSETFROM:-0400
TZOFFSETTO:-0500
TZNAME:EST
DTSTART:20311102T060000
END:STANDARD
END:VTIMEZONE
BEGIN:VEVENT
DTSTART;TZID=America/Detroit:20271223T180000
DTEND;TZID=America/Detroit:20271223T193000
DTSTAMP:20260422T033447
CREATED:20240814T213342Z
LAST-MODIFIED:20250904T183724Z
UID:10002511-1829584800-1829590200@arborhospice.org
SUMMARY:DINNER DINERS SOCIAL MEALTIME GROUP
DESCRIPTION:Arbor Hospice offers a social group for individuals who have lost a spouse or partner and are interested in sharing a meal together. The group meets monthly at a restaurant in Ann Arbor. If you are interested in meeting some new friends and sharing a meal with other widows and widowers\, please contact us for more information. \nDINNER DINERS\n4th Thursday of the month\n6pm – 7:30 pm  \nRSVP: Melissa McCreedy\n734-255-3553\nmmccreedy@arborhospice.org
URL:https://arborhospice.org/event/dinner-diners-social-mealtime-group/2027-12-23/
CATEGORIES:Grief Support
ORGANIZER;CN="Margie Martin":MAILTO:mmartin@arborhospice.org
END:VEVENT
BEGIN:VEVENT
DTSTART;TZID=America/Detroit:20280127T180000
DTEND;TZID=America/Detroit:20280127T193000
DTSTAMP:20260422T033447
CREATED:20240814T213342Z
LAST-MODIFIED:20250904T183724Z
UID:10002512-1832608800-1832614200@arborhospice.org
SUMMARY:DINNER DINERS SOCIAL MEALTIME GROUP
DESCRIPTION:Arbor Hospice offers a social group for individuals who have lost a spouse or partner and are interested in sharing a meal together. The group meets monthly at a restaurant in Ann Arbor. If you are interested in meeting some new friends and sharing a meal with other widows and widowers\, please contact us for more information. \nDINNER DINERS\n4th Thursday of the month\n6pm – 7:30 pm  \nRSVP: Melissa McCreedy\n734-255-3553\nmmccreedy@arborhospice.org
URL:https://arborhospice.org/event/dinner-diners-social-mealtime-group/2028-01-27/
CATEGORIES:Grief Support
ORGANIZER;CN="Margie Martin":MAILTO:mmartin@arborhospice.org
END:VEVENT
BEGIN:VEVENT
DTSTART;TZID=America/Detroit:20280224T180000
DTEND;TZID=America/Detroit:20280224T193000
DTSTAMP:20260422T033447
CREATED:20240814T213342Z
LAST-MODIFIED:20250904T183724Z
UID:10002513-1835028000-1835033400@arborhospice.org
SUMMARY:DINNER DINERS SOCIAL MEALTIME GROUP
DESCRIPTION:Arbor Hospice offers a social group for individuals who have lost a spouse or partner and are interested in sharing a meal together. The group meets monthly at a restaurant in Ann Arbor. If you are interested in meeting some new friends and sharing a meal with other widows and widowers\, please contact us for more information. \nDINNER DINERS\n4th Thursday of the month\n6pm – 7:30 pm  \nRSVP: Melissa McCreedy\n734-255-3553\nmmccreedy@arborhospice.org
URL:https://arborhospice.org/event/dinner-diners-social-mealtime-group/2028-02-24/
CATEGORIES:Grief Support
ORGANIZER;CN="Margie Martin":MAILTO:mmartin@arborhospice.org
END:VEVENT
BEGIN:VEVENT
DTSTART;TZID=America/Detroit:20280323T180000
DTEND;TZID=America/Detroit:20280323T193000
DTSTAMP:20260422T033447
CREATED:20240814T213342Z
LAST-MODIFIED:20250904T183724Z
UID:10002514-1837447200-1837452600@arborhospice.org
SUMMARY:DINNER DINERS SOCIAL MEALTIME GROUP
DESCRIPTION:Arbor Hospice offers a social group for individuals who have lost a spouse or partner and are interested in sharing a meal together. The group meets monthly at a restaurant in Ann Arbor. If you are interested in meeting some new friends and sharing a meal with other widows and widowers\, please contact us for more information. \nDINNER DINERS\n4th Thursday of the month\n6pm – 7:30 pm  \nRSVP: Melissa McCreedy\n734-255-3553\nmmccreedy@arborhospice.org
URL:https://arborhospice.org/event/dinner-diners-social-mealtime-group/2028-03-23/
CATEGORIES:Grief Support
ORGANIZER;CN="Margie Martin":MAILTO:mmartin@arborhospice.org
END:VEVENT
BEGIN:VEVENT
DTSTART;TZID=America/Detroit:20280427T180000
DTEND;TZID=America/Detroit:20280427T193000
DTSTAMP:20260422T033447
CREATED:20240814T213342Z
LAST-MODIFIED:20250904T183724Z
UID:10002515-1840471200-1840476600@arborhospice.org
SUMMARY:DINNER DINERS SOCIAL MEALTIME GROUP
DESCRIPTION:Arbor Hospice offers a social group for individuals who have lost a spouse or partner and are interested in sharing a meal together. The group meets monthly at a restaurant in Ann Arbor. If you are interested in meeting some new friends and sharing a meal with other widows and widowers\, please contact us for more information. \nDINNER DINERS\n4th Thursday of the month\n6pm – 7:30 pm  \nRSVP: Melissa McCreedy\n734-255-3553\nmmccreedy@arborhospice.org
URL:https://arborhospice.org/event/dinner-diners-social-mealtime-group/2028-04-27/
CATEGORIES:Grief Support
ORGANIZER;CN="Margie Martin":MAILTO:mmartin@arborhospice.org
END:VEVENT
BEGIN:VEVENT
DTSTART;TZID=America/Detroit:20280525T180000
DTEND;TZID=America/Detroit:20280525T193000
DTSTAMP:20260422T033447
CREATED:20240814T213342Z
LAST-MODIFIED:20250904T183724Z
UID:10002516-1842890400-1842895800@arborhospice.org
SUMMARY:DINNER DINERS SOCIAL MEALTIME GROUP
DESCRIPTION:Arbor Hospice offers a social group for individuals who have lost a spouse or partner and are interested in sharing a meal together. The group meets monthly at a restaurant in Ann Arbor. If you are interested in meeting some new friends and sharing a meal with other widows and widowers\, please contact us for more information. \nDINNER DINERS\n4th Thursday of the month\n6pm – 7:30 pm  \nRSVP: Melissa McCreedy\n734-255-3553\nmmccreedy@arborhospice.org
URL:https://arborhospice.org/event/dinner-diners-social-mealtime-group/2028-05-25/
CATEGORIES:Grief Support
ORGANIZER;CN="Margie Martin":MAILTO:mmartin@arborhospice.org
END:VEVENT
BEGIN:VEVENT
DTSTART;TZID=America/Detroit:20280622T180000
DTEND;TZID=America/Detroit:20280622T193000
DTSTAMP:20260422T033447
CREATED:20240814T213342Z
LAST-MODIFIED:20250904T183724Z
UID:10002517-1845309600-1845315000@arborhospice.org
SUMMARY:DINNER DINERS SOCIAL MEALTIME GROUP
DESCRIPTION:Arbor Hospice offers a social group for individuals who have lost a spouse or partner and are interested in sharing a meal together. The group meets monthly at a restaurant in Ann Arbor. If you are interested in meeting some new friends and sharing a meal with other widows and widowers\, please contact us for more information. \nDINNER DINERS\n4th Thursday of the month\n6pm – 7:30 pm  \nRSVP: Melissa McCreedy\n734-255-3553\nmmccreedy@arborhospice.org
URL:https://arborhospice.org/event/dinner-diners-social-mealtime-group/2028-06-22/
CATEGORIES:Grief Support
ORGANIZER;CN="Margie Martin":MAILTO:mmartin@arborhospice.org
END:VEVENT
BEGIN:VEVENT
DTSTART;TZID=America/Detroit:20280727T180000
DTEND;TZID=America/Detroit:20280727T193000
DTSTAMP:20260422T033447
CREATED:20240814T213342Z
LAST-MODIFIED:20250904T183724Z
UID:10002518-1848333600-1848339000@arborhospice.org
SUMMARY:DINNER DINERS SOCIAL MEALTIME GROUP
DESCRIPTION:Arbor Hospice offers a social group for individuals who have lost a spouse or partner and are interested in sharing a meal together. The group meets monthly at a restaurant in Ann Arbor. If you are interested in meeting some new friends and sharing a meal with other widows and widowers\, please contact us for more information. \nDINNER DINERS\n4th Thursday of the month\n6pm – 7:30 pm  \nRSVP: Melissa McCreedy\n734-255-3553\nmmccreedy@arborhospice.org
URL:https://arborhospice.org/event/dinner-diners-social-mealtime-group/2028-07-27/
CATEGORIES:Grief Support
ORGANIZER;CN="Margie Martin":MAILTO:mmartin@arborhospice.org
END:VEVENT
BEGIN:VEVENT
DTSTART;TZID=America/Detroit:20280824T180000
DTEND;TZID=America/Detroit:20280824T193000
DTSTAMP:20260422T033447
CREATED:20240814T213342Z
LAST-MODIFIED:20250904T183724Z
UID:10002519-1850752800-1850758200@arborhospice.org
SUMMARY:DINNER DINERS SOCIAL MEALTIME GROUP
DESCRIPTION:Arbor Hospice offers a social group for individuals who have lost a spouse or partner and are interested in sharing a meal together. The group meets monthly at a restaurant in Ann Arbor. If you are interested in meeting some new friends and sharing a meal with other widows and widowers\, please contact us for more information. \nDINNER DINERS\n4th Thursday of the month\n6pm – 7:30 pm  \nRSVP: Melissa McCreedy\n734-255-3553\nmmccreedy@arborhospice.org
URL:https://arborhospice.org/event/dinner-diners-social-mealtime-group/2028-08-24/
CATEGORIES:Grief Support
ORGANIZER;CN="Margie Martin":MAILTO:mmartin@arborhospice.org
END:VEVENT
BEGIN:VEVENT
DTSTART;TZID=America/Detroit:20280928T180000
DTEND;TZID=America/Detroit:20280928T193000
DTSTAMP:20260422T033447
CREATED:20240814T213342Z
LAST-MODIFIED:20250904T183724Z
UID:10002520-1853776800-1853782200@arborhospice.org
SUMMARY:DINNER DINERS SOCIAL MEALTIME GROUP
DESCRIPTION:Arbor Hospice offers a social group for individuals who have lost a spouse or partner and are interested in sharing a meal together. The group meets monthly at a restaurant in Ann Arbor. If you are interested in meeting some new friends and sharing a meal with other widows and widowers\, please contact us for more information. \nDINNER DINERS\n4th Thursday of the month\n6pm – 7:30 pm  \nRSVP: Melissa McCreedy\n734-255-3553\nmmccreedy@arborhospice.org
URL:https://arborhospice.org/event/dinner-diners-social-mealtime-group/2028-09-28/
CATEGORIES:Grief Support
ORGANIZER;CN="Margie Martin":MAILTO:mmartin@arborhospice.org
END:VEVENT
BEGIN:VEVENT
DTSTART;TZID=America/Detroit:20281026T180000
DTEND;TZID=America/Detroit:20281026T193000
DTSTAMP:20260422T033447
CREATED:20240814T213342Z
LAST-MODIFIED:20250904T183724Z
UID:10002521-1856196000-1856201400@arborhospice.org
SUMMARY:DINNER DINERS SOCIAL MEALTIME GROUP
DESCRIPTION:Arbor Hospice offers a social group for individuals who have lost a spouse or partner and are interested in sharing a meal together. The group meets monthly at a restaurant in Ann Arbor. If you are interested in meeting some new friends and sharing a meal with other widows and widowers\, please contact us for more information. \nDINNER DINERS\n4th Thursday of the month\n6pm – 7:30 pm  \nRSVP: Melissa McCreedy\n734-255-3553\nmmccreedy@arborhospice.org
URL:https://arborhospice.org/event/dinner-diners-social-mealtime-group/2028-10-26/
CATEGORIES:Grief Support
ORGANIZER;CN="Margie Martin":MAILTO:mmartin@arborhospice.org
END:VEVENT
BEGIN:VEVENT
DTSTART;TZID=America/Detroit:20281123T180000
DTEND;TZID=America/Detroit:20281123T193000
DTSTAMP:20260422T033447
CREATED:20240814T213342Z
LAST-MODIFIED:20250904T183724Z
UID:10002522-1858615200-1858620600@arborhospice.org
SUMMARY:DINNER DINERS SOCIAL MEALTIME GROUP
DESCRIPTION:Arbor Hospice offers a social group for individuals who have lost a spouse or partner and are interested in sharing a meal together. The group meets monthly at a restaurant in Ann Arbor. If you are interested in meeting some new friends and sharing a meal with other widows and widowers\, please contact us for more information. \nDINNER DINERS\n4th Thursday of the month\n6pm – 7:30 pm  \nRSVP: Melissa McCreedy\n734-255-3553\nmmccreedy@arborhospice.org
URL:https://arborhospice.org/event/dinner-diners-social-mealtime-group/2028-11-23/
CATEGORIES:Grief Support
ORGANIZER;CN="Margie Martin":MAILTO:mmartin@arborhospice.org
END:VEVENT
BEGIN:VEVENT
DTSTART;TZID=America/Detroit:20281228T180000
DTEND;TZID=America/Detroit:20281228T193000
DTSTAMP:20260422T033447
CREATED:20240814T213342Z
LAST-MODIFIED:20250904T183724Z
UID:10002523-1861639200-1861644600@arborhospice.org
SUMMARY:DINNER DINERS SOCIAL MEALTIME GROUP
DESCRIPTION:Arbor Hospice offers a social group for individuals who have lost a spouse or partner and are interested in sharing a meal together. The group meets monthly at a restaurant in Ann Arbor. If you are interested in meeting some new friends and sharing a meal with other widows and widowers\, please contact us for more information. \nDINNER DINERS\n4th Thursday of the month\n6pm – 7:30 pm  \nRSVP: Melissa McCreedy\n734-255-3553\nmmccreedy@arborhospice.org
URL:https://arborhospice.org/event/dinner-diners-social-mealtime-group/2028-12-28/
CATEGORIES:Grief Support
ORGANIZER;CN="Margie Martin":MAILTO:mmartin@arborhospice.org
END:VEVENT
BEGIN:VEVENT
DTSTART;TZID=America/Detroit:20290125T180000
DTEND;TZID=America/Detroit:20290125T193000
DTSTAMP:20260422T033447
CREATED:20240814T213342Z
LAST-MODIFIED:20250904T183724Z
UID:10002524-1864058400-1864063800@arborhospice.org
SUMMARY:DINNER DINERS SOCIAL MEALTIME GROUP
DESCRIPTION:Arbor Hospice offers a social group for individuals who have lost a spouse or partner and are interested in sharing a meal together. The group meets monthly at a restaurant in Ann Arbor. If you are interested in meeting some new friends and sharing a meal with other widows and widowers\, please contact us for more information. \nDINNER DINERS\n4th Thursday of the month\n6pm – 7:30 pm  \nRSVP: Melissa McCreedy\n734-255-3553\nmmccreedy@arborhospice.org
URL:https://arborhospice.org/event/dinner-diners-social-mealtime-group/2029-01-25/
CATEGORIES:Grief Support
ORGANIZER;CN="Margie Martin":MAILTO:mmartin@arborhospice.org
END:VEVENT
BEGIN:VEVENT
DTSTART;TZID=America/Detroit:20290222T180000
DTEND;TZID=America/Detroit:20290222T193000
DTSTAMP:20260422T033447
CREATED:20240814T213342Z
LAST-MODIFIED:20250904T183724Z
UID:10002525-1866477600-1866483000@arborhospice.org
SUMMARY:DINNER DINERS SOCIAL MEALTIME GROUP
DESCRIPTION:Arbor Hospice offers a social group for individuals who have lost a spouse or partner and are interested in sharing a meal together. The group meets monthly at a restaurant in Ann Arbor. If you are interested in meeting some new friends and sharing a meal with other widows and widowers\, please contact us for more information. \nDINNER DINERS\n4th Thursday of the month\n6pm – 7:30 pm  \nRSVP: Melissa McCreedy\n734-255-3553\nmmccreedy@arborhospice.org
URL:https://arborhospice.org/event/dinner-diners-social-mealtime-group/2029-02-22/
CATEGORIES:Grief Support
ORGANIZER;CN="Margie Martin":MAILTO:mmartin@arborhospice.org
END:VEVENT
BEGIN:VEVENT
DTSTART;TZID=America/Detroit:20290322T180000
DTEND;TZID=America/Detroit:20290322T193000
DTSTAMP:20260422T033447
CREATED:20240814T213342Z
LAST-MODIFIED:20250904T183724Z
UID:10002526-1868896800-1868902200@arborhospice.org
SUMMARY:DINNER DINERS SOCIAL MEALTIME GROUP
DESCRIPTION:Arbor Hospice offers a social group for individuals who have lost a spouse or partner and are interested in sharing a meal together. The group meets monthly at a restaurant in Ann Arbor. If you are interested in meeting some new friends and sharing a meal with other widows and widowers\, please contact us for more information. \nDINNER DINERS\n4th Thursday of the month\n6pm – 7:30 pm  \nRSVP: Melissa McCreedy\n734-255-3553\nmmccreedy@arborhospice.org
URL:https://arborhospice.org/event/dinner-diners-social-mealtime-group/2029-03-22/
CATEGORIES:Grief Support
ORGANIZER;CN="Margie Martin":MAILTO:mmartin@arborhospice.org
END:VEVENT
BEGIN:VEVENT
DTSTART;TZID=America/Detroit:20290426T180000
DTEND;TZID=America/Detroit:20290426T193000
DTSTAMP:20260422T033447
CREATED:20240814T213342Z
LAST-MODIFIED:20250904T183724Z
UID:10002527-1871920800-1871926200@arborhospice.org
SUMMARY:DINNER DINERS SOCIAL MEALTIME GROUP
DESCRIPTION:Arbor Hospice offers a social group for individuals who have lost a spouse or partner and are interested in sharing a meal together. The group meets monthly at a restaurant in Ann Arbor. If you are interested in meeting some new friends and sharing a meal with other widows and widowers\, please contact us for more information. \nDINNER DINERS\n4th Thursday of the month\n6pm – 7:30 pm  \nRSVP: Melissa McCreedy\n734-255-3553\nmmccreedy@arborhospice.org
URL:https://arborhospice.org/event/dinner-diners-social-mealtime-group/2029-04-26/
CATEGORIES:Grief Support
ORGANIZER;CN="Margie Martin":MAILTO:mmartin@arborhospice.org
END:VEVENT
BEGIN:VEVENT
DTSTART;TZID=America/Detroit:20290524T180000
DTEND;TZID=America/Detroit:20290524T193000
DTSTAMP:20260422T033447
CREATED:20240814T213342Z
LAST-MODIFIED:20250904T183724Z
UID:10002528-1874340000-1874345400@arborhospice.org
SUMMARY:DINNER DINERS SOCIAL MEALTIME GROUP
DESCRIPTION:Arbor Hospice offers a social group for individuals who have lost a spouse or partner and are interested in sharing a meal together. The group meets monthly at a restaurant in Ann Arbor. If you are interested in meeting some new friends and sharing a meal with other widows and widowers\, please contact us for more information. \nDINNER DINERS\n4th Thursday of the month\n6pm – 7:30 pm  \nRSVP: Melissa McCreedy\n734-255-3553\nmmccreedy@arborhospice.org
URL:https://arborhospice.org/event/dinner-diners-social-mealtime-group/2029-05-24/
CATEGORIES:Grief Support
ORGANIZER;CN="Margie Martin":MAILTO:mmartin@arborhospice.org
END:VEVENT
BEGIN:VEVENT
DTSTART;TZID=America/Detroit:20290628T180000
DTEND;TZID=America/Detroit:20290628T193000
DTSTAMP:20260422T033447
CREATED:20240814T213342Z
LAST-MODIFIED:20250904T183724Z
UID:10002529-1877364000-1877369400@arborhospice.org
SUMMARY:DINNER DINERS SOCIAL MEALTIME GROUP
DESCRIPTION:Arbor Hospice offers a social group for individuals who have lost a spouse or partner and are interested in sharing a meal together. The group meets monthly at a restaurant in Ann Arbor. If you are interested in meeting some new friends and sharing a meal with other widows and widowers\, please contact us for more information. \nDINNER DINERS\n4th Thursday of the month\n6pm – 7:30 pm  \nRSVP: Melissa McCreedy\n734-255-3553\nmmccreedy@arborhospice.org
URL:https://arborhospice.org/event/dinner-diners-social-mealtime-group/2029-06-28/
CATEGORIES:Grief Support
ORGANIZER;CN="Margie Martin":MAILTO:mmartin@arborhospice.org
END:VEVENT
BEGIN:VEVENT
DTSTART;TZID=America/Detroit:20290726T180000
DTEND;TZID=America/Detroit:20290726T193000
DTSTAMP:20260422T033447
CREATED:20240814T213342Z
LAST-MODIFIED:20250904T183724Z
UID:10002530-1879783200-1879788600@arborhospice.org
SUMMARY:DINNER DINERS SOCIAL MEALTIME GROUP
DESCRIPTION:Arbor Hospice offers a social group for individuals who have lost a spouse or partner and are interested in sharing a meal together. The group meets monthly at a restaurant in Ann Arbor. If you are interested in meeting some new friends and sharing a meal with other widows and widowers\, please contact us for more information. \nDINNER DINERS\n4th Thursday of the month\n6pm – 7:30 pm  \nRSVP: Melissa McCreedy\n734-255-3553\nmmccreedy@arborhospice.org
URL:https://arborhospice.org/event/dinner-diners-social-mealtime-group/2029-07-26/
CATEGORIES:Grief Support
ORGANIZER;CN="Margie Martin":MAILTO:mmartin@arborhospice.org
END:VEVENT
BEGIN:VEVENT
DTSTART;TZID=America/Detroit:20290823T180000
DTEND;TZID=America/Detroit:20290823T193000
DTSTAMP:20260422T033447
CREATED:20240814T213342Z
LAST-MODIFIED:20250904T183724Z
UID:10002691-1882202400-1882207800@arborhospice.org
SUMMARY:DINNER DINERS SOCIAL MEALTIME GROUP
DESCRIPTION:Arbor Hospice offers a social group for individuals who have lost a spouse or partner and are interested in sharing a meal together. The group meets monthly at a restaurant in Ann Arbor. If you are interested in meeting some new friends and sharing a meal with other widows and widowers\, please contact us for more information. \nDINNER DINERS\n4th Thursday of the month\n6pm – 7:30 pm  \nRSVP: Melissa McCreedy\n734-255-3553\nmmccreedy@arborhospice.org
URL:https://arborhospice.org/event/dinner-diners-social-mealtime-group/2029-08-23/
CATEGORIES:Grief Support
ORGANIZER;CN="Margie Martin":MAILTO:mmartin@arborhospice.org
END:VEVENT
BEGIN:VEVENT
DTSTART;TZID=America/Detroit:20290927T180000
DTEND;TZID=America/Detroit:20290927T193000
DTSTAMP:20260422T033447
CREATED:20240814T213342Z
LAST-MODIFIED:20250904T183724Z
UID:10002692-1885226400-1885231800@arborhospice.org
SUMMARY:DINNER DINERS SOCIAL MEALTIME GROUP
DESCRIPTION:Arbor Hospice offers a social group for individuals who have lost a spouse or partner and are interested in sharing a meal together. The group meets monthly at a restaurant in Ann Arbor. If you are interested in meeting some new friends and sharing a meal with other widows and widowers\, please contact us for more information. \nDINNER DINERS\n4th Thursday of the month\n6pm – 7:30 pm  \nRSVP: Melissa McCreedy\n734-255-3553\nmmccreedy@arborhospice.org
URL:https://arborhospice.org/event/dinner-diners-social-mealtime-group/2029-09-27/
CATEGORIES:Grief Support
ORGANIZER;CN="Margie Martin":MAILTO:mmartin@arborhospice.org
END:VEVENT
BEGIN:VEVENT
DTSTART;TZID=America/Detroit:20291025T180000
DTEND;TZID=America/Detroit:20291025T193000
DTSTAMP:20260422T033447
CREATED:20240814T213342Z
LAST-MODIFIED:20250904T183724Z
UID:10002693-1887645600-1887651000@arborhospice.org
SUMMARY:DINNER DINERS SOCIAL MEALTIME GROUP
DESCRIPTION:Arbor Hospice offers a social group for individuals who have lost a spouse or partner and are interested in sharing a meal together. The group meets monthly at a restaurant in Ann Arbor. If you are interested in meeting some new friends and sharing a meal with other widows and widowers\, please contact us for more information. \nDINNER DINERS\n4th Thursday of the month\n6pm – 7:30 pm  \nRSVP: Melissa McCreedy\n734-255-3553\nmmccreedy@arborhospice.org
URL:https://arborhospice.org/event/dinner-diners-social-mealtime-group/2029-10-25/
CATEGORIES:Grief Support
ORGANIZER;CN="Margie Martin":MAILTO:mmartin@arborhospice.org
END:VEVENT
BEGIN:VEVENT
DTSTART;TZID=America/Detroit:20291122T180000
DTEND;TZID=America/Detroit:20291122T193000
DTSTAMP:20260422T033447
CREATED:20240814T213342Z
LAST-MODIFIED:20250904T183724Z
UID:10002694-1890064800-1890070200@arborhospice.org
SUMMARY:DINNER DINERS SOCIAL MEALTIME GROUP
DESCRIPTION:Arbor Hospice offers a social group for individuals who have lost a spouse or partner and are interested in sharing a meal together. The group meets monthly at a restaurant in Ann Arbor. If you are interested in meeting some new friends and sharing a meal with other widows and widowers\, please contact us for more information. \nDINNER DINERS\n4th Thursday of the month\n6pm – 7:30 pm  \nRSVP: Melissa McCreedy\n734-255-3553\nmmccreedy@arborhospice.org
URL:https://arborhospice.org/event/dinner-diners-social-mealtime-group/2029-11-22/
CATEGORIES:Grief Support
ORGANIZER;CN="Margie Martin":MAILTO:mmartin@arborhospice.org
END:VEVENT
BEGIN:VEVENT
DTSTART;TZID=America/Detroit:20291227T180000
DTEND;TZID=America/Detroit:20291227T193000
DTSTAMP:20260422T033447
CREATED:20240814T213342Z
LAST-MODIFIED:20250904T183724Z
UID:10002695-1893088800-1893094200@arborhospice.org
SUMMARY:DINNER DINERS SOCIAL MEALTIME GROUP
DESCRIPTION:Arbor Hospice offers a social group for individuals who have lost a spouse or partner and are interested in sharing a meal together. The group meets monthly at a restaurant in Ann Arbor. If you are interested in meeting some new friends and sharing a meal with other widows and widowers\, please contact us for more information. \nDINNER DINERS\n4th Thursday of the month\n6pm – 7:30 pm  \nRSVP: Melissa McCreedy\n734-255-3553\nmmccreedy@arborhospice.org
URL:https://arborhospice.org/event/dinner-diners-social-mealtime-group/2029-12-27/
CATEGORIES:Grief Support
ORGANIZER;CN="Margie Martin":MAILTO:mmartin@arborhospice.org
END:VEVENT
BEGIN:VEVENT
DTSTART;TZID=America/Detroit:20300124T180000
DTEND;TZID=America/Detroit:20300124T193000
DTSTAMP:20260422T033447
CREATED:20240814T213342Z
LAST-MODIFIED:20250904T183724Z
UID:10002696-1895508000-1895513400@arborhospice.org
SUMMARY:DINNER DINERS SOCIAL MEALTIME GROUP
DESCRIPTION:Arbor Hospice offers a social group for individuals who have lost a spouse or partner and are interested in sharing a meal together. The group meets monthly at a restaurant in Ann Arbor. If you are interested in meeting some new friends and sharing a meal with other widows and widowers\, please contact us for more information. \nDINNER DINERS\n4th Thursday of the month\n6pm – 7:30 pm  \nRSVP: Melissa McCreedy\n734-255-3553\nmmccreedy@arborhospice.org
URL:https://arborhospice.org/event/dinner-diners-social-mealtime-group/2030-01-24/
CATEGORIES:Grief Support
ORGANIZER;CN="Margie Martin":MAILTO:mmartin@arborhospice.org
END:VEVENT
BEGIN:VEVENT
DTSTART;TZID=America/Detroit:20300228T180000
DTEND;TZID=America/Detroit:20300228T193000
DTSTAMP:20260422T033447
CREATED:20240814T213342Z
LAST-MODIFIED:20250904T183724Z
UID:10002697-1898532000-1898537400@arborhospice.org
SUMMARY:DINNER DINERS SOCIAL MEALTIME GROUP
DESCRIPTION:Arbor Hospice offers a social group for individuals who have lost a spouse or partner and are interested in sharing a meal together. The group meets monthly at a restaurant in Ann Arbor. If you are interested in meeting some new friends and sharing a meal with other widows and widowers\, please contact us for more information. \nDINNER DINERS\n4th Thursday of the month\n6pm – 7:30 pm  \nRSVP: Melissa McCreedy\n734-255-3553\nmmccreedy@arborhospice.org
URL:https://arborhospice.org/event/dinner-diners-social-mealtime-group/2030-02-28/
CATEGORIES:Grief Support
ORGANIZER;CN="Margie Martin":MAILTO:mmartin@arborhospice.org
END:VEVENT
BEGIN:VEVENT
DTSTART;TZID=America/Detroit:20300328T180000
DTEND;TZID=America/Detroit:20300328T193000
DTSTAMP:20260422T033447
CREATED:20240814T213342Z
LAST-MODIFIED:20250904T183724Z
UID:10002698-1900951200-1900956600@arborhospice.org
SUMMARY:DINNER DINERS SOCIAL MEALTIME GROUP
DESCRIPTION:Arbor Hospice offers a social group for individuals who have lost a spouse or partner and are interested in sharing a meal together. The group meets monthly at a restaurant in Ann Arbor. If you are interested in meeting some new friends and sharing a meal with other widows and widowers\, please contact us for more information. \nDINNER DINERS\n4th Thursday of the month\n6pm – 7:30 pm  \nRSVP: Melissa McCreedy\n734-255-3553\nmmccreedy@arborhospice.org
URL:https://arborhospice.org/event/dinner-diners-social-mealtime-group/2030-03-28/
CATEGORIES:Grief Support
ORGANIZER;CN="Margie Martin":MAILTO:mmartin@arborhospice.org
END:VEVENT
BEGIN:VEVENT
DTSTART;TZID=America/Detroit:20300425T180000
DTEND;TZID=America/Detroit:20300425T193000
DTSTAMP:20260422T033447
CREATED:20240814T213342Z
LAST-MODIFIED:20250904T183724Z
UID:10002699-1903370400-1903375800@arborhospice.org
SUMMARY:DINNER DINERS SOCIAL MEALTIME GROUP
DESCRIPTION:Arbor Hospice offers a social group for individuals who have lost a spouse or partner and are interested in sharing a meal together. The group meets monthly at a restaurant in Ann Arbor. If you are interested in meeting some new friends and sharing a meal with other widows and widowers\, please contact us for more information. \nDINNER DINERS\n4th Thursday of the month\n6pm – 7:30 pm  \nRSVP: Melissa McCreedy\n734-255-3553\nmmccreedy@arborhospice.org
URL:https://arborhospice.org/event/dinner-diners-social-mealtime-group/2030-04-25/
CATEGORIES:Grief Support
ORGANIZER;CN="Margie Martin":MAILTO:mmartin@arborhospice.org
END:VEVENT
BEGIN:VEVENT
DTSTART;TZID=America/Detroit:20300523T180000
DTEND;TZID=America/Detroit:20300523T193000
DTSTAMP:20260422T033447
CREATED:20240814T213342Z
LAST-MODIFIED:20250904T183724Z
UID:10002700-1905789600-1905795000@arborhospice.org
SUMMARY:DINNER DINERS SOCIAL MEALTIME GROUP
DESCRIPTION:Arbor Hospice offers a social group for individuals who have lost a spouse or partner and are interested in sharing a meal together. The group meets monthly at a restaurant in Ann Arbor. If you are interested in meeting some new friends and sharing a meal with other widows and widowers\, please contact us for more information. \nDINNER DINERS\n4th Thursday of the month\n6pm – 7:30 pm  \nRSVP: Melissa McCreedy\n734-255-3553\nmmccreedy@arborhospice.org
URL:https://arborhospice.org/event/dinner-diners-social-mealtime-group/2030-05-23/
CATEGORIES:Grief Support
ORGANIZER;CN="Margie Martin":MAILTO:mmartin@arborhospice.org
END:VEVENT
END:VCALENDAR