BEGIN:VCALENDAR
VERSION:2.0
PRODID:-//Arbor Hospice - ECPv6.15.20//NONSGML v1.0//EN
CALSCALE:GREGORIAN
METHOD:PUBLISH
X-WR-CALNAME:Arbor Hospice
X-ORIGINAL-URL:https://arborhospice.org
X-WR-CALDESC:Events for Arbor Hospice
REFRESH-INTERVAL;VALUE=DURATION:PT1H
X-Robots-Tag:noindex
X-PUBLISHED-TTL:PT1H
BEGIN:VTIMEZONE
TZID:America/Detroit
BEGIN:DAYLIGHT
TZOFFSETFROM:-0500
TZOFFSETTO:-0400
TZNAME:EDT
DTSTART:20220313T070000
END:DAYLIGHT
BEGIN:STANDARD
TZOFFSETFROM:-0400
TZOFFSETTO:-0500
TZNAME:EST
DTSTART:20221106T060000
END:STANDARD
BEGIN:DAYLIGHT
TZOFFSETFROM:-0500
TZOFFSETTO:-0400
TZNAME:EDT
DTSTART:20230312T070000
END:DAYLIGHT
BEGIN:STANDARD
TZOFFSETFROM:-0400
TZOFFSETTO:-0500
TZNAME:EST
DTSTART:20231105T060000
END:STANDARD
BEGIN:DAYLIGHT
TZOFFSETFROM:-0500
TZOFFSETTO:-0400
TZNAME:EDT
DTSTART:20240310T070000
END:DAYLIGHT
BEGIN:STANDARD
TZOFFSETFROM:-0400
TZOFFSETTO:-0500
TZNAME:EST
DTSTART:20241103T060000
END:STANDARD
END:VTIMEZONE
BEGIN:VEVENT
DTSTART;TZID=America/Detroit:20230605T173000
DTEND;TZID=America/Detroit:20230605T184500
DTSTAMP:20260422T095603
CREATED:20221221T211753Z
LAST-MODIFIED:20230131T154131Z
UID:10000756-1685986200-1685990700@arborhospice.org
SUMMARY:Living On
DESCRIPTION:The focus of Living On support groups is to express feelings and experiences related to the loss of a loved one in a supportive\, caring\, and non-judgmental environment. Grief and loss topics are addressed as they arise\, depending on the interests of those attending the group. \n  \nRSVP with Kjirsten Boeve at 231-929-1557 • kboeve@hom.org
URL:https://arborhospice.org/event/living-on-2/2023-06-05/
LOCATION:Arbor Hospice Traverse City\, 10850 Traverse Highway\, Suite 3325\, Traverse City\, MI\, United States
CATEGORIES:Grief Support
ORGANIZER;CN="Kjirsten Boeve":MAILTO:kboeve@hom.org
END:VEVENT
BEGIN:VEVENT
DTSTART;TZID=America/Detroit:20230605T080000
DTEND;TZID=America/Detroit:20230605T170000
DTSTAMP:20260422T095603
CREATED:20230105T204538Z
LAST-MODIFIED:20230131T154840Z
UID:10000783-1685952000-1685984400@arborhospice.org
SUMMARY:Living On-Loss of a Spouse or Partner (Virtual Only)
DESCRIPTION:The focus of Living On support groups is to express feelings and experiences related to the loss of a loved one in a supportive\, caring\, and non-judgmental environment. Grief and loss topics are addressed as they arise\, depending on the interest of those attending the group. Come and share\, or simply listen\, as we discuss the various intricacies and many facets of grief after the loss of a spouse/partner. RSVP with Stacy Malenfant at 989.358.4295 or smalenfa@hom.org
URL:https://arborhospice.org/event/living-on-loss-of-a-spouse-or-partner-virtual-only-2/2023-06-05/
CATEGORIES:Grief Support
ORGANIZER;CN="Kjirsten Boeve":MAILTO:kboeve@hom.org
END:VEVENT
BEGIN:VEVENT
DTSTART;TZID=America/Detroit:20230525T140000
DTEND;TZID=America/Detroit:20230525T151500
DTSTAMP:20260422T095603
CREATED:20230126T165506Z
LAST-MODIFIED:20230131T154219Z
UID:10000476-1685023200-1685027700@arborhospice.org
SUMMARY:Living On-Loss of a Spouse or Partner (Virtual Only)
DESCRIPTION:The focus of Living On support groups is to express feelings and experiences related to the loss of a loved one in a supportive\, caring\, and non-judgmental environment. Grief and loss topics are addressed as they arise\, depending on the interest of those attending the group. Come and share\, or simply listen\, as we discuss the various intricacies and many facets of grief after the loss of a spouse/partner. RSVP with Stacy Malenfant at 989.358.4295 or smalenfa@hom.org
URL:https://arborhospice.org/event/living-on-loss-of-a-spouse-or-partner-virtual-only-2-2/2023-05-25/
CATEGORIES:Grief Support
ORGANIZER;CN="Kjirsten Boeve":MAILTO:kboeve@hom.org
END:VEVENT
BEGIN:VEVENT
DTSTART;TZID=America/Detroit:20230510T110000
DTEND;TZID=America/Detroit:20230510T123000
DTSTAMP:20260422T095603
CREATED:20230105T190651Z
LAST-MODIFIED:20230131T154549Z
UID:10000708-1683716400-1683721800@arborhospice.org
SUMMARY:Lunch Bunch (In-Person)
DESCRIPTION:The Lunch Bunch is a meal-centered social group for individuals who have lost a spouse or partner and are interested in sharing a meal together. Each group meets monthly at a different restaurant. If you are interested in meeting some new friends and sharing a meal with other widows or widowers\, please contact us for more information. RSVP with Kjirsten Boeve at 231.929.1557 or kboeve@hom.org
URL:https://arborhospice.org/event/lunch-bunch-in-person-2/2023-05-10/
CATEGORIES:Grief Support
ORGANIZER;CN="Kjirsten Boeve":MAILTO:kboeve@hom.org
END:VEVENT
BEGIN:VEVENT
DTSTART;TZID=America/Detroit:20230505T080000
DTEND;TZID=America/Detroit:20230505T170000
DTSTAMP:20260422T095603
CREATED:20230105T204538Z
LAST-MODIFIED:20230131T154840Z
UID:10000782-1683273600-1683306000@arborhospice.org
SUMMARY:Living On-Loss of a Spouse or Partner (Virtual Only)
DESCRIPTION:The focus of Living On support groups is to express feelings and experiences related to the loss of a loved one in a supportive\, caring\, and non-judgmental environment. Grief and loss topics are addressed as they arise\, depending on the interest of those attending the group. Come and share\, or simply listen\, as we discuss the various intricacies and many facets of grief after the loss of a spouse/partner. RSVP with Stacy Malenfant at 989.358.4295 or smalenfa@hom.org
URL:https://arborhospice.org/event/living-on-loss-of-a-spouse-or-partner-virtual-only-2/2023-05-05/
CATEGORIES:Grief Support
ORGANIZER;CN="Kjirsten Boeve":MAILTO:kboeve@hom.org
END:VEVENT
BEGIN:VEVENT
DTSTART;TZID=America/Detroit:20230501T173000
DTEND;TZID=America/Detroit:20230501T184500
DTSTAMP:20260422T095603
CREATED:20221221T211753Z
LAST-MODIFIED:20230131T154131Z
UID:10000755-1682962200-1682966700@arborhospice.org
SUMMARY:Living On
DESCRIPTION:The focus of Living On support groups is to express feelings and experiences related to the loss of a loved one in a supportive\, caring\, and non-judgmental environment. Grief and loss topics are addressed as they arise\, depending on the interests of those attending the group. \n  \nRSVP with Kjirsten Boeve at 231-929-1557 • kboeve@hom.org
URL:https://arborhospice.org/event/living-on-2/2023-05-01/
LOCATION:Arbor Hospice Traverse City\, 10850 Traverse Highway\, Suite 3325\, Traverse City\, MI\, United States
CATEGORIES:Grief Support
ORGANIZER;CN="Kjirsten Boeve":MAILTO:kboeve@hom.org
END:VEVENT
BEGIN:VEVENT
DTSTART;TZID=America/Detroit:20230427T140000
DTEND;TZID=America/Detroit:20230427T151500
DTSTAMP:20260422T095603
CREATED:20230126T165506Z
LAST-MODIFIED:20230131T154219Z
UID:10000475-1682604000-1682608500@arborhospice.org
SUMMARY:Living On-Loss of a Spouse or Partner (Virtual Only)
DESCRIPTION:The focus of Living On support groups is to express feelings and experiences related to the loss of a loved one in a supportive\, caring\, and non-judgmental environment. Grief and loss topics are addressed as they arise\, depending on the interest of those attending the group. Come and share\, or simply listen\, as we discuss the various intricacies and many facets of grief after the loss of a spouse/partner. RSVP with Stacy Malenfant at 989.358.4295 or smalenfa@hom.org
URL:https://arborhospice.org/event/living-on-loss-of-a-spouse-or-partner-virtual-only-2-2/2023-04-27/
CATEGORIES:Grief Support
ORGANIZER;CN="Kjirsten Boeve":MAILTO:kboeve@hom.org
END:VEVENT
BEGIN:VEVENT
DTSTART;TZID=America/Detroit:20230412T110000
DTEND;TZID=America/Detroit:20230412T123000
DTSTAMP:20260422T095603
CREATED:20230105T190651Z
LAST-MODIFIED:20230131T154549Z
UID:10000707-1681297200-1681302600@arborhospice.org
SUMMARY:Lunch Bunch (In-Person)
DESCRIPTION:The Lunch Bunch is a meal-centered social group for individuals who have lost a spouse or partner and are interested in sharing a meal together. Each group meets monthly at a different restaurant. If you are interested in meeting some new friends and sharing a meal with other widows or widowers\, please contact us for more information. RSVP with Kjirsten Boeve at 231.929.1557 or kboeve@hom.org
URL:https://arborhospice.org/event/lunch-bunch-in-person-2/2023-04-12/
CATEGORIES:Grief Support
ORGANIZER;CN="Kjirsten Boeve":MAILTO:kboeve@hom.org
END:VEVENT
BEGIN:VEVENT
DTSTART;TZID=America/Detroit:20230405T080000
DTEND;TZID=America/Detroit:20230405T170000
DTSTAMP:20260422T095603
CREATED:20230105T204538Z
LAST-MODIFIED:20230131T154840Z
UID:10000781-1680681600-1680714000@arborhospice.org
SUMMARY:Living On-Loss of a Spouse or Partner (Virtual Only)
DESCRIPTION:The focus of Living On support groups is to express feelings and experiences related to the loss of a loved one in a supportive\, caring\, and non-judgmental environment. Grief and loss topics are addressed as they arise\, depending on the interest of those attending the group. Come and share\, or simply listen\, as we discuss the various intricacies and many facets of grief after the loss of a spouse/partner. RSVP with Stacy Malenfant at 989.358.4295 or smalenfa@hom.org
URL:https://arborhospice.org/event/living-on-loss-of-a-spouse-or-partner-virtual-only-2/2023-04-05/
CATEGORIES:Grief Support
ORGANIZER;CN="Kjirsten Boeve":MAILTO:kboeve@hom.org
END:VEVENT
BEGIN:VEVENT
DTSTART;TZID=America/Detroit:20230403T173000
DTEND;TZID=America/Detroit:20230403T184500
DTSTAMP:20260422T095603
CREATED:20221221T211753Z
LAST-MODIFIED:20230131T154131Z
UID:10000754-1680543000-1680547500@arborhospice.org
SUMMARY:Living On
DESCRIPTION:The focus of Living On support groups is to express feelings and experiences related to the loss of a loved one in a supportive\, caring\, and non-judgmental environment. Grief and loss topics are addressed as they arise\, depending on the interests of those attending the group. \n  \nRSVP with Kjirsten Boeve at 231-929-1557 • kboeve@hom.org
URL:https://arborhospice.org/event/living-on-2/2023-04-03/
LOCATION:Arbor Hospice Traverse City\, 10850 Traverse Highway\, Suite 3325\, Traverse City\, MI\, United States
CATEGORIES:Grief Support
ORGANIZER;CN="Kjirsten Boeve":MAILTO:kboeve@hom.org
END:VEVENT
BEGIN:VEVENT
DTSTART;TZID=America/Detroit:20230323T140000
DTEND;TZID=America/Detroit:20230323T151500
DTSTAMP:20260422T095603
CREATED:20230126T165506Z
LAST-MODIFIED:20230131T154219Z
UID:10000474-1679580000-1679584500@arborhospice.org
SUMMARY:Living On-Loss of a Spouse or Partner (Virtual Only)
DESCRIPTION:The focus of Living On support groups is to express feelings and experiences related to the loss of a loved one in a supportive\, caring\, and non-judgmental environment. Grief and loss topics are addressed as they arise\, depending on the interest of those attending the group. Come and share\, or simply listen\, as we discuss the various intricacies and many facets of grief after the loss of a spouse/partner. RSVP with Stacy Malenfant at 989.358.4295 or smalenfa@hom.org
URL:https://arborhospice.org/event/living-on-loss-of-a-spouse-or-partner-virtual-only-2-2/2023-03-23/
CATEGORIES:Grief Support
ORGANIZER;CN="Kjirsten Boeve":MAILTO:kboeve@hom.org
END:VEVENT
BEGIN:VEVENT
DTSTART;TZID=America/Detroit:20230308T110000
DTEND;TZID=America/Detroit:20230308T123000
DTSTAMP:20260422T095603
CREATED:20230105T190651Z
LAST-MODIFIED:20230131T154549Z
UID:10000706-1678273200-1678278600@arborhospice.org
SUMMARY:Lunch Bunch (In-Person)
DESCRIPTION:The Lunch Bunch is a meal-centered social group for individuals who have lost a spouse or partner and are interested in sharing a meal together. Each group meets monthly at a different restaurant. If you are interested in meeting some new friends and sharing a meal with other widows or widowers\, please contact us for more information. RSVP with Kjirsten Boeve at 231.929.1557 or kboeve@hom.org
URL:https://arborhospice.org/event/lunch-bunch-in-person-2/2023-03-08/
CATEGORIES:Grief Support
ORGANIZER;CN="Kjirsten Boeve":MAILTO:kboeve@hom.org
END:VEVENT
BEGIN:VEVENT
DTSTART;TZID=America/Detroit:20230306T173000
DTEND;TZID=America/Detroit:20230306T184500
DTSTAMP:20260422T095604
CREATED:20221221T211753Z
LAST-MODIFIED:20230131T154131Z
UID:10000642-1678123800-1678128300@arborhospice.org
SUMMARY:Living On
DESCRIPTION:The focus of Living On support groups is to express feelings and experiences related to the loss of a loved one in a supportive\, caring\, and non-judgmental environment. Grief and loss topics are addressed as they arise\, depending on the interests of those attending the group. \n  \nRSVP with Kjirsten Boeve at 231-929-1557 • kboeve@hom.org
URL:https://arborhospice.org/event/living-on-2/2023-03-06/
LOCATION:Arbor Hospice Traverse City\, 10850 Traverse Highway\, Suite 3325\, Traverse City\, MI\, United States
CATEGORIES:Grief Support
ORGANIZER;CN="Kjirsten Boeve":MAILTO:kboeve@hom.org
END:VEVENT
BEGIN:VEVENT
DTSTART;TZID=America/Detroit:20230305T080000
DTEND;TZID=America/Detroit:20230305T170000
DTSTAMP:20260422T095604
CREATED:20230105T204538Z
LAST-MODIFIED:20230131T154840Z
UID:10000780-1678003200-1678035600@arborhospice.org
SUMMARY:Living On-Loss of a Spouse or Partner (Virtual Only)
DESCRIPTION:The focus of Living On support groups is to express feelings and experiences related to the loss of a loved one in a supportive\, caring\, and non-judgmental environment. Grief and loss topics are addressed as they arise\, depending on the interest of those attending the group. Come and share\, or simply listen\, as we discuss the various intricacies and many facets of grief after the loss of a spouse/partner. RSVP with Stacy Malenfant at 989.358.4295 or smalenfa@hom.org
URL:https://arborhospice.org/event/living-on-loss-of-a-spouse-or-partner-virtual-only-2/2023-03-05/
CATEGORIES:Grief Support
ORGANIZER;CN="Kjirsten Boeve":MAILTO:kboeve@hom.org
END:VEVENT
BEGIN:VEVENT
DTSTART;TZID=America/Detroit:20230223T140000
DTEND;TZID=America/Detroit:20230223T151500
DTSTAMP:20260422T095604
CREATED:20230126T165506Z
LAST-MODIFIED:20230131T154219Z
UID:10000473-1677160800-1677165300@arborhospice.org
SUMMARY:Living On-Loss of a Spouse or Partner (Virtual Only)
DESCRIPTION:The focus of Living On support groups is to express feelings and experiences related to the loss of a loved one in a supportive\, caring\, and non-judgmental environment. Grief and loss topics are addressed as they arise\, depending on the interest of those attending the group. Come and share\, or simply listen\, as we discuss the various intricacies and many facets of grief after the loss of a spouse/partner. RSVP with Stacy Malenfant at 989.358.4295 or smalenfa@hom.org
URL:https://arborhospice.org/event/living-on-loss-of-a-spouse-or-partner-virtual-only-2-2/2023-02-23/
CATEGORIES:Grief Support
ORGANIZER;CN="Kjirsten Boeve":MAILTO:kboeve@hom.org
END:VEVENT
BEGIN:VEVENT
DTSTART;TZID=America/Detroit:20230208T110000
DTEND;TZID=America/Detroit:20230208T123000
DTSTAMP:20260422T095604
CREATED:20230105T190651Z
LAST-MODIFIED:20230131T154549Z
UID:10000705-1675854000-1675859400@arborhospice.org
SUMMARY:Lunch Bunch (In-Person)
DESCRIPTION:The Lunch Bunch is a meal-centered social group for individuals who have lost a spouse or partner and are interested in sharing a meal together. Each group meets monthly at a different restaurant. If you are interested in meeting some new friends and sharing a meal with other widows or widowers\, please contact us for more information. RSVP with Kjirsten Boeve at 231.929.1557 or kboeve@hom.org
URL:https://arborhospice.org/event/lunch-bunch-in-person-2/2023-02-08/
CATEGORIES:Grief Support
ORGANIZER;CN="Kjirsten Boeve":MAILTO:kboeve@hom.org
END:VEVENT
BEGIN:VEVENT
DTSTART;TZID=America/Detroit:20230206T173000
DTEND;TZID=America/Detroit:20230206T184500
DTSTAMP:20260422T095604
CREATED:20221221T211753Z
LAST-MODIFIED:20230131T154131Z
UID:10000641-1675704600-1675709100@arborhospice.org
SUMMARY:Living On
DESCRIPTION:The focus of Living On support groups is to express feelings and experiences related to the loss of a loved one in a supportive\, caring\, and non-judgmental environment. Grief and loss topics are addressed as they arise\, depending on the interests of those attending the group. \n  \nRSVP with Kjirsten Boeve at 231-929-1557 • kboeve@hom.org
URL:https://arborhospice.org/event/living-on-2/2023-02-06/
LOCATION:Arbor Hospice Traverse City\, 10850 Traverse Highway\, Suite 3325\, Traverse City\, MI\, United States
CATEGORIES:Grief Support
ORGANIZER;CN="Kjirsten Boeve":MAILTO:kboeve@hom.org
END:VEVENT
BEGIN:VEVENT
DTSTART;TZID=America/Detroit:20230205T080000
DTEND;TZID=America/Detroit:20230205T170000
DTSTAMP:20260422T095604
CREATED:20230105T204538Z
LAST-MODIFIED:20230131T154840Z
UID:10000779-1675584000-1675616400@arborhospice.org
SUMMARY:Living On-Loss of a Spouse or Partner (Virtual Only)
DESCRIPTION:The focus of Living On support groups is to express feelings and experiences related to the loss of a loved one in a supportive\, caring\, and non-judgmental environment. Grief and loss topics are addressed as they arise\, depending on the interest of those attending the group. Come and share\, or simply listen\, as we discuss the various intricacies and many facets of grief after the loss of a spouse/partner. RSVP with Stacy Malenfant at 989.358.4295 or smalenfa@hom.org
URL:https://arborhospice.org/event/living-on-loss-of-a-spouse-or-partner-virtual-only-2/2023-02-05/
CATEGORIES:Grief Support
ORGANIZER;CN="Kjirsten Boeve":MAILTO:kboeve@hom.org
END:VEVENT
BEGIN:VEVENT
DTSTART;TZID=America/Detroit:20230126T140000
DTEND;TZID=America/Detroit:20230126T151500
DTSTAMP:20260422T095604
CREATED:20230126T165506Z
LAST-MODIFIED:20230131T154219Z
UID:10000472-1674741600-1674746100@arborhospice.org
SUMMARY:Living On-Loss of a Spouse or Partner (Virtual Only)
DESCRIPTION:The focus of Living On support groups is to express feelings and experiences related to the loss of a loved one in a supportive\, caring\, and non-judgmental environment. Grief and loss topics are addressed as they arise\, depending on the interest of those attending the group. Come and share\, or simply listen\, as we discuss the various intricacies and many facets of grief after the loss of a spouse/partner. RSVP with Stacy Malenfant at 989.358.4295 or smalenfa@hom.org
URL:https://arborhospice.org/event/living-on-loss-of-a-spouse-or-partner-virtual-only-2-2/2023-01-26/
CATEGORIES:Grief Support
ORGANIZER;CN="Kjirsten Boeve":MAILTO:kboeve@hom.org
END:VEVENT
BEGIN:VEVENT
DTSTART;TZID=America/Detroit:20230111T110000
DTEND;TZID=America/Detroit:20230111T123000
DTSTAMP:20260422T095604
CREATED:20230105T190651Z
LAST-MODIFIED:20230131T154549Z
UID:10000704-1673434800-1673440200@arborhospice.org
SUMMARY:Lunch Bunch (In-Person)
DESCRIPTION:The Lunch Bunch is a meal-centered social group for individuals who have lost a spouse or partner and are interested in sharing a meal together. Each group meets monthly at a different restaurant. If you are interested in meeting some new friends and sharing a meal with other widows or widowers\, please contact us for more information. RSVP with Kjirsten Boeve at 231.929.1557 or kboeve@hom.org
URL:https://arborhospice.org/event/lunch-bunch-in-person-2/2023-01-11/
CATEGORIES:Grief Support
ORGANIZER;CN="Kjirsten Boeve":MAILTO:kboeve@hom.org
END:VEVENT
BEGIN:VEVENT
DTSTART;TZID=America/Detroit:20230105T080000
DTEND;TZID=America/Detroit:20230105T170000
DTSTAMP:20260422T095604
CREATED:20230105T204538Z
LAST-MODIFIED:20230131T154840Z
UID:10000465-1672905600-1672938000@arborhospice.org
SUMMARY:Living On-Loss of a Spouse or Partner (Virtual Only)
DESCRIPTION:The focus of Living On support groups is to express feelings and experiences related to the loss of a loved one in a supportive\, caring\, and non-judgmental environment. Grief and loss topics are addressed as they arise\, depending on the interest of those attending the group. Come and share\, or simply listen\, as we discuss the various intricacies and many facets of grief after the loss of a spouse/partner. RSVP with Stacy Malenfant at 989.358.4295 or smalenfa@hom.org
URL:https://arborhospice.org/event/living-on-loss-of-a-spouse-or-partner-virtual-only-2/2023-01-05/
CATEGORIES:Grief Support
ORGANIZER;CN="Kjirsten Boeve":MAILTO:kboeve@hom.org
END:VEVENT
END:VCALENDAR