BEGIN:VCALENDAR
VERSION:2.0
PRODID:-//Arbor Hospice - ECPv6.15.20//NONSGML v1.0//EN
CALSCALE:GREGORIAN
METHOD:PUBLISH
X-ORIGINAL-URL:https://arborhospice.org
X-WR-CALDESC:Events for Arbor Hospice
REFRESH-INTERVAL;VALUE=DURATION:PT1H
X-Robots-Tag:noindex
X-PUBLISHED-TTL:PT1H
BEGIN:VTIMEZONE
TZID:America/Detroit
BEGIN:DAYLIGHT
TZOFFSETFROM:-0500
TZOFFSETTO:-0400
TZNAME:EDT
DTSTART:20220313T070000
END:DAYLIGHT
BEGIN:STANDARD
TZOFFSETFROM:-0400
TZOFFSETTO:-0500
TZNAME:EST
DTSTART:20221106T060000
END:STANDARD
BEGIN:DAYLIGHT
TZOFFSETFROM:-0500
TZOFFSETTO:-0400
TZNAME:EDT
DTSTART:20230312T070000
END:DAYLIGHT
BEGIN:STANDARD
TZOFFSETFROM:-0400
TZOFFSETTO:-0500
TZNAME:EST
DTSTART:20231105T060000
END:STANDARD
BEGIN:DAYLIGHT
TZOFFSETFROM:-0500
TZOFFSETTO:-0400
TZNAME:EDT
DTSTART:20240310T070000
END:DAYLIGHT
BEGIN:STANDARD
TZOFFSETFROM:-0400
TZOFFSETTO:-0500
TZNAME:EST
DTSTART:20241103T060000
END:STANDARD
BEGIN:DAYLIGHT
TZOFFSETFROM:-0500
TZOFFSETTO:-0400
TZNAME:EDT
DTSTART:20250309T070000
END:DAYLIGHT
BEGIN:STANDARD
TZOFFSETFROM:-0400
TZOFFSETTO:-0500
TZNAME:EST
DTSTART:20251102T060000
END:STANDARD
END:VTIMEZONE
BEGIN:VEVENT
DTSTART;TZID=America/Detroit:20240822T140000
DTEND;TZID=America/Detroit:20240822T153000
DTSTAMP:20260422T070914
CREATED:20231128T210415Z
LAST-MODIFIED:20240409T150428Z
UID:10001166-1724335200-1724340600@arborhospice.org
SUMMARY:Living On - Loss of Spouse/Partner (Virtual)
DESCRIPTION:Come and share\, or simply listen as we discuss the various intricacies and many facets of grief after the loss of a spouse or partner. \nPlease RSVP with Kjirsten Boeve at 231.929.1557 or kboeve@hom.org
URL:https://arborhospice.org/event/living-on-loss-of-spouse-partner-virtual-4/2024-08-22/
LOCATION:Meets Virtually
CATEGORIES:Grief Support
ORGANIZER;CN="Kjirsten Boeve":MAILTO:kboeve@hom.org
END:VEVENT
BEGIN:VEVENT
DTSTART;TZID=America/Detroit:20240808T140000
DTEND;TZID=America/Detroit:20240808T153000
DTSTAMP:20260422T070914
CREATED:20231128T210249Z
LAST-MODIFIED:20240408T200640Z
UID:10001107-1723125600-1723131000@arborhospice.org
SUMMARY:Living On - Loss of Spouse/Partner (Virtual)
DESCRIPTION:The focus of Living On support groups is to express feelings and experiences related to the loss of a loved one in a supportive\, caring\, and non-judgmental environment. Grief and loss topics are addressed as they arise\, depending on the interests of those attending the group. \nCome and share\, or simply listen as we discuss the various intricacies and many facets of grief after the loss of a spouse or partner. \nThis group meets virtually the 2nd & 4th Thursday of the month • 2pm – 3:30pm \nPlease RSVP with Kjirsten Boeve • 231-929-1557 • kboeve@hom.org \n 
URL:https://arborhospice.org/event/living-on-loss-of-spouse-partner-virtual-3/2024-08-08/
LOCATION:Meets Virtually
CATEGORIES:Grief Support
ORGANIZER;CN="Kjirsten Boeve":MAILTO:kboeve@hom.org
END:VEVENT
BEGIN:VEVENT
DTSTART;TZID=America/Detroit:20240725T140000
DTEND;TZID=America/Detroit:20240725T153000
DTSTAMP:20260422T070914
CREATED:20231128T210415Z
LAST-MODIFIED:20240409T150428Z
UID:10001165-1721916000-1721921400@arborhospice.org
SUMMARY:Living On - Loss of Spouse/Partner (Virtual)
DESCRIPTION:Come and share\, or simply listen as we discuss the various intricacies and many facets of grief after the loss of a spouse or partner. \nPlease RSVP with Kjirsten Boeve at 231.929.1557 or kboeve@hom.org
URL:https://arborhospice.org/event/living-on-loss-of-spouse-partner-virtual-4/2024-07-25/
LOCATION:Meets Virtually
CATEGORIES:Grief Support
ORGANIZER;CN="Kjirsten Boeve":MAILTO:kboeve@hom.org
END:VEVENT
BEGIN:VEVENT
DTSTART;TZID=America/Detroit:20240711T140000
DTEND;TZID=America/Detroit:20240711T153000
DTSTAMP:20260422T070914
CREATED:20231128T210249Z
LAST-MODIFIED:20240408T200640Z
UID:10001106-1720706400-1720711800@arborhospice.org
SUMMARY:Living On - Loss of Spouse/Partner (Virtual)
DESCRIPTION:The focus of Living On support groups is to express feelings and experiences related to the loss of a loved one in a supportive\, caring\, and non-judgmental environment. Grief and loss topics are addressed as they arise\, depending on the interests of those attending the group. \nCome and share\, or simply listen as we discuss the various intricacies and many facets of grief after the loss of a spouse or partner. \nThis group meets virtually the 2nd & 4th Thursday of the month • 2pm – 3:30pm \nPlease RSVP with Kjirsten Boeve • 231-929-1557 • kboeve@hom.org \n 
URL:https://arborhospice.org/event/living-on-loss-of-spouse-partner-virtual-3/2024-07-11/
LOCATION:Meets Virtually
CATEGORIES:Grief Support
ORGANIZER;CN="Kjirsten Boeve":MAILTO:kboeve@hom.org
END:VEVENT
BEGIN:VEVENT
DTSTART;TZID=America/Detroit:20240627T140000
DTEND;TZID=America/Detroit:20240627T153000
DTSTAMP:20260422T070914
CREATED:20231128T210415Z
LAST-MODIFIED:20240409T150428Z
UID:10001164-1719496800-1719502200@arborhospice.org
SUMMARY:Living On - Loss of Spouse/Partner (Virtual)
DESCRIPTION:Come and share\, or simply listen as we discuss the various intricacies and many facets of grief after the loss of a spouse or partner. \nPlease RSVP with Kjirsten Boeve at 231.929.1557 or kboeve@hom.org
URL:https://arborhospice.org/event/living-on-loss-of-spouse-partner-virtual-4/2024-06-27/
LOCATION:Meets Virtually
CATEGORIES:Grief Support
ORGANIZER;CN="Kjirsten Boeve":MAILTO:kboeve@hom.org
END:VEVENT
BEGIN:VEVENT
DTSTART;TZID=America/Detroit:20240613T140000
DTEND;TZID=America/Detroit:20240613T153000
DTSTAMP:20260422T070914
CREATED:20231128T210249Z
LAST-MODIFIED:20240408T200640Z
UID:10001105-1718287200-1718292600@arborhospice.org
SUMMARY:Living On - Loss of Spouse/Partner (Virtual)
DESCRIPTION:The focus of Living On support groups is to express feelings and experiences related to the loss of a loved one in a supportive\, caring\, and non-judgmental environment. Grief and loss topics are addressed as they arise\, depending on the interests of those attending the group. \nCome and share\, or simply listen as we discuss the various intricacies and many facets of grief after the loss of a spouse or partner. \nThis group meets virtually the 2nd & 4th Thursday of the month • 2pm – 3:30pm \nPlease RSVP with Kjirsten Boeve • 231-929-1557 • kboeve@hom.org \n 
URL:https://arborhospice.org/event/living-on-loss-of-spouse-partner-virtual-3/2024-06-13/
LOCATION:Meets Virtually
CATEGORIES:Grief Support
ORGANIZER;CN="Kjirsten Boeve":MAILTO:kboeve@hom.org
END:VEVENT
BEGIN:VEVENT
DTSTART;TZID=America/Detroit:20240523T140000
DTEND;TZID=America/Detroit:20240523T153000
DTSTAMP:20260422T070914
CREATED:20231128T210415Z
LAST-MODIFIED:20240409T150428Z
UID:10001163-1716472800-1716478200@arborhospice.org
SUMMARY:Living On - Loss of Spouse/Partner (Virtual)
DESCRIPTION:Come and share\, or simply listen as we discuss the various intricacies and many facets of grief after the loss of a spouse or partner. \nPlease RSVP with Kjirsten Boeve at 231.929.1557 or kboeve@hom.org
URL:https://arborhospice.org/event/living-on-loss-of-spouse-partner-virtual-4/2024-05-23/
LOCATION:Meets Virtually
CATEGORIES:Grief Support
ORGANIZER;CN="Kjirsten Boeve":MAILTO:kboeve@hom.org
END:VEVENT
BEGIN:VEVENT
DTSTART;TZID=America/Detroit:20240509T140000
DTEND;TZID=America/Detroit:20240509T153000
DTSTAMP:20260422T070914
CREATED:20231128T210249Z
LAST-MODIFIED:20240408T200640Z
UID:10001104-1715263200-1715268600@arborhospice.org
SUMMARY:Living On - Loss of Spouse/Partner (Virtual)
DESCRIPTION:The focus of Living On support groups is to express feelings and experiences related to the loss of a loved one in a supportive\, caring\, and non-judgmental environment. Grief and loss topics are addressed as they arise\, depending on the interests of those attending the group. \nCome and share\, or simply listen as we discuss the various intricacies and many facets of grief after the loss of a spouse or partner. \nThis group meets virtually the 2nd & 4th Thursday of the month • 2pm – 3:30pm \nPlease RSVP with Kjirsten Boeve • 231-929-1557 • kboeve@hom.org \n 
URL:https://arborhospice.org/event/living-on-loss-of-spouse-partner-virtual-3/2024-05-09/
LOCATION:Meets Virtually
CATEGORIES:Grief Support
ORGANIZER;CN="Kjirsten Boeve":MAILTO:kboeve@hom.org
END:VEVENT
BEGIN:VEVENT
DTSTART;TZID=America/Detroit:20240425T140000
DTEND;TZID=America/Detroit:20240425T153000
DTSTAMP:20260422T070914
CREATED:20231128T210415Z
LAST-MODIFIED:20240409T150428Z
UID:10001162-1714053600-1714059000@arborhospice.org
SUMMARY:Living On - Loss of Spouse/Partner (Virtual)
DESCRIPTION:Come and share\, or simply listen as we discuss the various intricacies and many facets of grief after the loss of a spouse or partner. \nPlease RSVP with Kjirsten Boeve at 231.929.1557 or kboeve@hom.org
URL:https://arborhospice.org/event/living-on-loss-of-spouse-partner-virtual-4/2024-04-25/
LOCATION:Meets Virtually
CATEGORIES:Grief Support
ORGANIZER;CN="Kjirsten Boeve":MAILTO:kboeve@hom.org
END:VEVENT
BEGIN:VEVENT
DTSTART;TZID=America/Detroit:20240411T140000
DTEND;TZID=America/Detroit:20240411T153000
DTSTAMP:20260422T070914
CREATED:20231128T210249Z
LAST-MODIFIED:20240408T200640Z
UID:10001103-1712844000-1712849400@arborhospice.org
SUMMARY:Living On - Loss of Spouse/Partner (Virtual)
DESCRIPTION:The focus of Living On support groups is to express feelings and experiences related to the loss of a loved one in a supportive\, caring\, and non-judgmental environment. Grief and loss topics are addressed as they arise\, depending on the interests of those attending the group. \nCome and share\, or simply listen as we discuss the various intricacies and many facets of grief after the loss of a spouse or partner. \nThis group meets virtually the 2nd & 4th Thursday of the month • 2pm – 3:30pm \nPlease RSVP with Kjirsten Boeve • 231-929-1557 • kboeve@hom.org \n 
URL:https://arborhospice.org/event/living-on-loss-of-spouse-partner-virtual-3/2024-04-11/
LOCATION:Meets Virtually
CATEGORIES:Grief Support
ORGANIZER;CN="Kjirsten Boeve":MAILTO:kboeve@hom.org
END:VEVENT
BEGIN:VEVENT
DTSTART;TZID=America/Detroit:20240328T140000
DTEND;TZID=America/Detroit:20240328T153000
DTSTAMP:20260422T070914
CREATED:20231128T210415Z
LAST-MODIFIED:20240409T150428Z
UID:10001161-1711634400-1711639800@arborhospice.org
SUMMARY:Living On - Loss of Spouse/Partner (Virtual)
DESCRIPTION:Come and share\, or simply listen as we discuss the various intricacies and many facets of grief after the loss of a spouse or partner. \nPlease RSVP with Kjirsten Boeve at 231.929.1557 or kboeve@hom.org
URL:https://arborhospice.org/event/living-on-loss-of-spouse-partner-virtual-4/2024-03-28/
LOCATION:Meets Virtually
CATEGORIES:Grief Support
ORGANIZER;CN="Kjirsten Boeve":MAILTO:kboeve@hom.org
END:VEVENT
BEGIN:VEVENT
DTSTART;TZID=America/Detroit:20240314T140000
DTEND;TZID=America/Detroit:20240314T153000
DTSTAMP:20260422T070914
CREATED:20231128T210249Z
LAST-MODIFIED:20240408T200640Z
UID:10001102-1710424800-1710430200@arborhospice.org
SUMMARY:Living On - Loss of Spouse/Partner (Virtual)
DESCRIPTION:The focus of Living On support groups is to express feelings and experiences related to the loss of a loved one in a supportive\, caring\, and non-judgmental environment. Grief and loss topics are addressed as they arise\, depending on the interests of those attending the group. \nCome and share\, or simply listen as we discuss the various intricacies and many facets of grief after the loss of a spouse or partner. \nThis group meets virtually the 2nd & 4th Thursday of the month • 2pm – 3:30pm \nPlease RSVP with Kjirsten Boeve • 231-929-1557 • kboeve@hom.org \n 
URL:https://arborhospice.org/event/living-on-loss-of-spouse-partner-virtual-3/2024-03-14/
LOCATION:Meets Virtually
CATEGORIES:Grief Support
ORGANIZER;CN="Kjirsten Boeve":MAILTO:kboeve@hom.org
END:VEVENT
BEGIN:VEVENT
DTSTART;TZID=America/Detroit:20240222T140000
DTEND;TZID=America/Detroit:20240222T153000
DTSTAMP:20260422T070914
CREATED:20231128T210415Z
LAST-MODIFIED:20240409T150428Z
UID:10001160-1708610400-1708615800@arborhospice.org
SUMMARY:Living On - Loss of Spouse/Partner (Virtual)
DESCRIPTION:Come and share\, or simply listen as we discuss the various intricacies and many facets of grief after the loss of a spouse or partner. \nPlease RSVP with Kjirsten Boeve at 231.929.1557 or kboeve@hom.org
URL:https://arborhospice.org/event/living-on-loss-of-spouse-partner-virtual-4/2024-02-22/
LOCATION:Meets Virtually
CATEGORIES:Grief Support
ORGANIZER;CN="Kjirsten Boeve":MAILTO:kboeve@hom.org
END:VEVENT
BEGIN:VEVENT
DTSTART;TZID=America/Detroit:20240208T140000
DTEND;TZID=America/Detroit:20240208T153000
DTSTAMP:20260422T070914
CREATED:20231128T210249Z
LAST-MODIFIED:20240408T200640Z
UID:10001101-1707400800-1707406200@arborhospice.org
SUMMARY:Living On - Loss of Spouse/Partner (Virtual)
DESCRIPTION:The focus of Living On support groups is to express feelings and experiences related to the loss of a loved one in a supportive\, caring\, and non-judgmental environment. Grief and loss topics are addressed as they arise\, depending on the interests of those attending the group. \nCome and share\, or simply listen as we discuss the various intricacies and many facets of grief after the loss of a spouse or partner. \nThis group meets virtually the 2nd & 4th Thursday of the month • 2pm – 3:30pm \nPlease RSVP with Kjirsten Boeve • 231-929-1557 • kboeve@hom.org \n 
URL:https://arborhospice.org/event/living-on-loss-of-spouse-partner-virtual-3/2024-02-08/
LOCATION:Meets Virtually
CATEGORIES:Grief Support
ORGANIZER;CN="Kjirsten Boeve":MAILTO:kboeve@hom.org
END:VEVENT
BEGIN:VEVENT
DTSTART;TZID=America/Detroit:20240125T140000
DTEND;TZID=America/Detroit:20240125T153000
DTSTAMP:20260422T070914
CREATED:20231128T210415Z
LAST-MODIFIED:20240409T150428Z
UID:10001159-1706191200-1706196600@arborhospice.org
SUMMARY:Living On - Loss of Spouse/Partner (Virtual)
DESCRIPTION:Come and share\, or simply listen as we discuss the various intricacies and many facets of grief after the loss of a spouse or partner. \nPlease RSVP with Kjirsten Boeve at 231.929.1557 or kboeve@hom.org
URL:https://arborhospice.org/event/living-on-loss-of-spouse-partner-virtual-4/2024-01-25/
LOCATION:Meets Virtually
CATEGORIES:Grief Support
ORGANIZER;CN="Kjirsten Boeve":MAILTO:kboeve@hom.org
END:VEVENT
BEGIN:VEVENT
DTSTART;TZID=America/Detroit:20240111T140000
DTEND;TZID=America/Detroit:20240111T153000
DTSTAMP:20260422T070914
CREATED:20231128T210249Z
LAST-MODIFIED:20240408T200640Z
UID:10001100-1704981600-1704987000@arborhospice.org
SUMMARY:Living On - Loss of Spouse/Partner (Virtual)
DESCRIPTION:The focus of Living On support groups is to express feelings and experiences related to the loss of a loved one in a supportive\, caring\, and non-judgmental environment. Grief and loss topics are addressed as they arise\, depending on the interests of those attending the group. \nCome and share\, or simply listen as we discuss the various intricacies and many facets of grief after the loss of a spouse or partner. \nThis group meets virtually the 2nd & 4th Thursday of the month • 2pm – 3:30pm \nPlease RSVP with Kjirsten Boeve • 231-929-1557 • kboeve@hom.org \n 
URL:https://arborhospice.org/event/living-on-loss-of-spouse-partner-virtual-3/2024-01-11/2/
LOCATION:Meets Virtually
CATEGORIES:Grief Support
ORGANIZER;CN="Kjirsten Boeve":MAILTO:kboeve@hom.org
END:VEVENT
BEGIN:VEVENT
DTSTART;TZID=America/Detroit:20240111T020000
DTEND;TZID=America/Detroit:20240111T170000
DTSTAMP:20260422T070914
CREATED:20231128T210249Z
LAST-MODIFIED:20240408T200640Z
UID:10001658-1704938400-1704992400@arborhospice.org
SUMMARY:Living On - Loss of Spouse/Partner (Virtual)
DESCRIPTION:The focus of Living On support groups is to express feelings and experiences related to the loss of a loved one in a supportive\, caring\, and non-judgmental environment. Grief and loss topics are addressed as they arise\, depending on the interests of those attending the group. \nCome and share\, or simply listen as we discuss the various intricacies and many facets of grief after the loss of a spouse or partner. \nThis group meets virtually the 2nd & 4th Thursday of the month • 2pm – 3:30pm \nPlease RSVP with Kjirsten Boeve • 231-929-1557 • kboeve@hom.org \n 
URL:https://arborhospice.org/event/living-on-loss-of-spouse-partner-virtual-3/2024-01-11/1/
LOCATION:Meets Virtually
CATEGORIES:Grief Support
ORGANIZER;CN="Kjirsten Boeve":MAILTO:kboeve@hom.org
END:VEVENT
BEGIN:VEVENT
DTSTART;TZID=America/Detroit:20230824T140000
DTEND;TZID=America/Detroit:20230824T153000
DTSTAMP:20260422T070914
CREATED:20230808T164019Z
LAST-MODIFIED:20230808T164019Z
UID:10000968-1692885600-1692891000@arborhospice.org
SUMMARY:Living On - Loss of Spouse/Partner (Virtual)
DESCRIPTION:Come and share\, or simply listen\, as we discuss the various intricacies and many facets of grief after the loss of a spouse or partner. \n  \nPlease RSVP with Kjirsten Boeve at 231.929.1557 or kboeve@hom.org
URL:https://arborhospice.org/event/living-on-loss-of-spouse-partner-virtual-2/
LOCATION:Meets Virtually
CATEGORIES:Grief Support
ORGANIZER;CN="Kjirsten Boeve":MAILTO:kboeve@hom.org
END:VEVENT
BEGIN:VEVENT
DTSTART;TZID=America/Detroit:20230622T140000
DTEND;TZID=America/Detroit:20230622T151500
DTSTAMP:20260422T070914
CREATED:20230126T165506Z
LAST-MODIFIED:20230131T154219Z
UID:10000477-1687442400-1687446900@arborhospice.org
SUMMARY:Living On-Loss of a Spouse or Partner (Virtual Only)
DESCRIPTION:The focus of Living On support groups is to express feelings and experiences related to the loss of a loved one in a supportive\, caring\, and non-judgmental environment. Grief and loss topics are addressed as they arise\, depending on the interest of those attending the group. Come and share\, or simply listen\, as we discuss the various intricacies and many facets of grief after the loss of a spouse/partner. RSVP with Stacy Malenfant at 989.358.4295 or smalenfa@hom.org
URL:https://arborhospice.org/event/living-on-loss-of-a-spouse-or-partner-virtual-only-2-2/2023-06-22/
CATEGORIES:Grief Support
ORGANIZER;CN="Kjirsten Boeve":MAILTO:kboeve@hom.org
END:VEVENT
BEGIN:VEVENT
DTSTART;TZID=America/Detroit:20230614T110000
DTEND;TZID=America/Detroit:20230614T123000
DTSTAMP:20260422T070914
CREATED:20230105T190651Z
LAST-MODIFIED:20230131T154549Z
UID:10000709-1686740400-1686745800@arborhospice.org
SUMMARY:Lunch Bunch (In-Person)
DESCRIPTION:The Lunch Bunch is a meal-centered social group for individuals who have lost a spouse or partner and are interested in sharing a meal together. Each group meets monthly at a different restaurant. If you are interested in meeting some new friends and sharing a meal with other widows or widowers\, please contact us for more information. RSVP with Kjirsten Boeve at 231.929.1557 or kboeve@hom.org
URL:https://arborhospice.org/event/lunch-bunch-in-person-2/2023-06-14/
CATEGORIES:Grief Support
ORGANIZER;CN="Kjirsten Boeve":MAILTO:kboeve@hom.org
END:VEVENT
BEGIN:VEVENT
DTSTART;TZID=America/Detroit:20230605T173000
DTEND;TZID=America/Detroit:20230605T184500
DTSTAMP:20260422T070914
CREATED:20221221T211753Z
LAST-MODIFIED:20230131T154131Z
UID:10000756-1685986200-1685990700@arborhospice.org
SUMMARY:Living On
DESCRIPTION:The focus of Living On support groups is to express feelings and experiences related to the loss of a loved one in a supportive\, caring\, and non-judgmental environment. Grief and loss topics are addressed as they arise\, depending on the interests of those attending the group. \n  \nRSVP with Kjirsten Boeve at 231-929-1557 • kboeve@hom.org
URL:https://arborhospice.org/event/living-on-2/2023-06-05/
LOCATION:Arbor Hospice Traverse City\, 10850 Traverse Highway\, Suite 3325\, Traverse City\, MI\, United States
CATEGORIES:Grief Support
ORGANIZER;CN="Kjirsten Boeve":MAILTO:kboeve@hom.org
END:VEVENT
BEGIN:VEVENT
DTSTART;TZID=America/Detroit:20230605T080000
DTEND;TZID=America/Detroit:20230605T170000
DTSTAMP:20260422T070914
CREATED:20230105T204538Z
LAST-MODIFIED:20230131T154840Z
UID:10000783-1685952000-1685984400@arborhospice.org
SUMMARY:Living On-Loss of a Spouse or Partner (Virtual Only)
DESCRIPTION:The focus of Living On support groups is to express feelings and experiences related to the loss of a loved one in a supportive\, caring\, and non-judgmental environment. Grief and loss topics are addressed as they arise\, depending on the interest of those attending the group. Come and share\, or simply listen\, as we discuss the various intricacies and many facets of grief after the loss of a spouse/partner. RSVP with Stacy Malenfant at 989.358.4295 or smalenfa@hom.org
URL:https://arborhospice.org/event/living-on-loss-of-a-spouse-or-partner-virtual-only-2/2023-06-05/
CATEGORIES:Grief Support
ORGANIZER;CN="Kjirsten Boeve":MAILTO:kboeve@hom.org
END:VEVENT
BEGIN:VEVENT
DTSTART;TZID=America/Detroit:20230525T140000
DTEND;TZID=America/Detroit:20230525T151500
DTSTAMP:20260422T070914
CREATED:20230126T165506Z
LAST-MODIFIED:20230131T154219Z
UID:10000476-1685023200-1685027700@arborhospice.org
SUMMARY:Living On-Loss of a Spouse or Partner (Virtual Only)
DESCRIPTION:The focus of Living On support groups is to express feelings and experiences related to the loss of a loved one in a supportive\, caring\, and non-judgmental environment. Grief and loss topics are addressed as they arise\, depending on the interest of those attending the group. Come and share\, or simply listen\, as we discuss the various intricacies and many facets of grief after the loss of a spouse/partner. RSVP with Stacy Malenfant at 989.358.4295 or smalenfa@hom.org
URL:https://arborhospice.org/event/living-on-loss-of-a-spouse-or-partner-virtual-only-2-2/2023-05-25/
CATEGORIES:Grief Support
ORGANIZER;CN="Kjirsten Boeve":MAILTO:kboeve@hom.org
END:VEVENT
BEGIN:VEVENT
DTSTART;TZID=America/Detroit:20230510T110000
DTEND;TZID=America/Detroit:20230510T123000
DTSTAMP:20260422T070914
CREATED:20230105T190651Z
LAST-MODIFIED:20230131T154549Z
UID:10000708-1683716400-1683721800@arborhospice.org
SUMMARY:Lunch Bunch (In-Person)
DESCRIPTION:The Lunch Bunch is a meal-centered social group for individuals who have lost a spouse or partner and are interested in sharing a meal together. Each group meets monthly at a different restaurant. If you are interested in meeting some new friends and sharing a meal with other widows or widowers\, please contact us for more information. RSVP with Kjirsten Boeve at 231.929.1557 or kboeve@hom.org
URL:https://arborhospice.org/event/lunch-bunch-in-person-2/2023-05-10/
CATEGORIES:Grief Support
ORGANIZER;CN="Kjirsten Boeve":MAILTO:kboeve@hom.org
END:VEVENT
BEGIN:VEVENT
DTSTART;TZID=America/Detroit:20230505T080000
DTEND;TZID=America/Detroit:20230505T170000
DTSTAMP:20260422T070914
CREATED:20230105T204538Z
LAST-MODIFIED:20230131T154840Z
UID:10000782-1683273600-1683306000@arborhospice.org
SUMMARY:Living On-Loss of a Spouse or Partner (Virtual Only)
DESCRIPTION:The focus of Living On support groups is to express feelings and experiences related to the loss of a loved one in a supportive\, caring\, and non-judgmental environment. Grief and loss topics are addressed as they arise\, depending on the interest of those attending the group. Come and share\, or simply listen\, as we discuss the various intricacies and many facets of grief after the loss of a spouse/partner. RSVP with Stacy Malenfant at 989.358.4295 or smalenfa@hom.org
URL:https://arborhospice.org/event/living-on-loss-of-a-spouse-or-partner-virtual-only-2/2023-05-05/
CATEGORIES:Grief Support
ORGANIZER;CN="Kjirsten Boeve":MAILTO:kboeve@hom.org
END:VEVENT
BEGIN:VEVENT
DTSTART;TZID=America/Detroit:20230501T173000
DTEND;TZID=America/Detroit:20230501T184500
DTSTAMP:20260422T070914
CREATED:20221221T211753Z
LAST-MODIFIED:20230131T154131Z
UID:10000755-1682962200-1682966700@arborhospice.org
SUMMARY:Living On
DESCRIPTION:The focus of Living On support groups is to express feelings and experiences related to the loss of a loved one in a supportive\, caring\, and non-judgmental environment. Grief and loss topics are addressed as they arise\, depending on the interests of those attending the group. \n  \nRSVP with Kjirsten Boeve at 231-929-1557 • kboeve@hom.org
URL:https://arborhospice.org/event/living-on-2/2023-05-01/
LOCATION:Arbor Hospice Traverse City\, 10850 Traverse Highway\, Suite 3325\, Traverse City\, MI\, United States
CATEGORIES:Grief Support
ORGANIZER;CN="Kjirsten Boeve":MAILTO:kboeve@hom.org
END:VEVENT
BEGIN:VEVENT
DTSTART;TZID=America/Detroit:20230427T140000
DTEND;TZID=America/Detroit:20230427T151500
DTSTAMP:20260422T070914
CREATED:20230126T165506Z
LAST-MODIFIED:20230131T154219Z
UID:10000475-1682604000-1682608500@arborhospice.org
SUMMARY:Living On-Loss of a Spouse or Partner (Virtual Only)
DESCRIPTION:The focus of Living On support groups is to express feelings and experiences related to the loss of a loved one in a supportive\, caring\, and non-judgmental environment. Grief and loss topics are addressed as they arise\, depending on the interest of those attending the group. Come and share\, or simply listen\, as we discuss the various intricacies and many facets of grief after the loss of a spouse/partner. RSVP with Stacy Malenfant at 989.358.4295 or smalenfa@hom.org
URL:https://arborhospice.org/event/living-on-loss-of-a-spouse-or-partner-virtual-only-2-2/2023-04-27/
CATEGORIES:Grief Support
ORGANIZER;CN="Kjirsten Boeve":MAILTO:kboeve@hom.org
END:VEVENT
BEGIN:VEVENT
DTSTART;TZID=America/Detroit:20230412T110000
DTEND;TZID=America/Detroit:20230412T123000
DTSTAMP:20260422T070914
CREATED:20230105T190651Z
LAST-MODIFIED:20230131T154549Z
UID:10000707-1681297200-1681302600@arborhospice.org
SUMMARY:Lunch Bunch (In-Person)
DESCRIPTION:The Lunch Bunch is a meal-centered social group for individuals who have lost a spouse or partner and are interested in sharing a meal together. Each group meets monthly at a different restaurant. If you are interested in meeting some new friends and sharing a meal with other widows or widowers\, please contact us for more information. RSVP with Kjirsten Boeve at 231.929.1557 or kboeve@hom.org
URL:https://arborhospice.org/event/lunch-bunch-in-person-2/2023-04-12/
CATEGORIES:Grief Support
ORGANIZER;CN="Kjirsten Boeve":MAILTO:kboeve@hom.org
END:VEVENT
BEGIN:VEVENT
DTSTART;TZID=America/Detroit:20230405T080000
DTEND;TZID=America/Detroit:20230405T170000
DTSTAMP:20260422T070914
CREATED:20230105T204538Z
LAST-MODIFIED:20230131T154840Z
UID:10000781-1680681600-1680714000@arborhospice.org
SUMMARY:Living On-Loss of a Spouse or Partner (Virtual Only)
DESCRIPTION:The focus of Living On support groups is to express feelings and experiences related to the loss of a loved one in a supportive\, caring\, and non-judgmental environment. Grief and loss topics are addressed as they arise\, depending on the interest of those attending the group. Come and share\, or simply listen\, as we discuss the various intricacies and many facets of grief after the loss of a spouse/partner. RSVP with Stacy Malenfant at 989.358.4295 or smalenfa@hom.org
URL:https://arborhospice.org/event/living-on-loss-of-a-spouse-or-partner-virtual-only-2/2023-04-05/
CATEGORIES:Grief Support
ORGANIZER;CN="Kjirsten Boeve":MAILTO:kboeve@hom.org
END:VEVENT
BEGIN:VEVENT
DTSTART;TZID=America/Detroit:20230403T173000
DTEND;TZID=America/Detroit:20230403T184500
DTSTAMP:20260422T070914
CREATED:20221221T211753Z
LAST-MODIFIED:20230131T154131Z
UID:10000754-1680543000-1680547500@arborhospice.org
SUMMARY:Living On
DESCRIPTION:The focus of Living On support groups is to express feelings and experiences related to the loss of a loved one in a supportive\, caring\, and non-judgmental environment. Grief and loss topics are addressed as they arise\, depending on the interests of those attending the group. \n  \nRSVP with Kjirsten Boeve at 231-929-1557 • kboeve@hom.org
URL:https://arborhospice.org/event/living-on-2/2023-04-03/
LOCATION:Arbor Hospice Traverse City\, 10850 Traverse Highway\, Suite 3325\, Traverse City\, MI\, United States
CATEGORIES:Grief Support
ORGANIZER;CN="Kjirsten Boeve":MAILTO:kboeve@hom.org
END:VEVENT
END:VCALENDAR