BEGIN:VCALENDAR
VERSION:2.0
PRODID:-//Arbor Hospice - ECPv6.15.20//NONSGML v1.0//EN
CALSCALE:GREGORIAN
METHOD:PUBLISH
X-WR-CALNAME:Arbor Hospice
X-ORIGINAL-URL:https://arborhospice.org
X-WR-CALDESC:Events for Arbor Hospice
REFRESH-INTERVAL;VALUE=DURATION:PT1H
X-Robots-Tag:noindex
X-PUBLISHED-TTL:PT1H
BEGIN:VTIMEZONE
TZID:America/Detroit
BEGIN:DAYLIGHT
TZOFFSETFROM:-0500
TZOFFSETTO:-0400
TZNAME:EDT
DTSTART:20230312T070000
END:DAYLIGHT
BEGIN:STANDARD
TZOFFSETFROM:-0400
TZOFFSETTO:-0500
TZNAME:EST
DTSTART:20231105T060000
END:STANDARD
BEGIN:DAYLIGHT
TZOFFSETFROM:-0500
TZOFFSETTO:-0400
TZNAME:EDT
DTSTART:20240310T070000
END:DAYLIGHT
BEGIN:STANDARD
TZOFFSETFROM:-0400
TZOFFSETTO:-0500
TZNAME:EST
DTSTART:20241103T060000
END:STANDARD
BEGIN:DAYLIGHT
TZOFFSETFROM:-0500
TZOFFSETTO:-0400
TZNAME:EDT
DTSTART:20250309T070000
END:DAYLIGHT
BEGIN:STANDARD
TZOFFSETFROM:-0400
TZOFFSETTO:-0500
TZNAME:EST
DTSTART:20251102T060000
END:STANDARD
BEGIN:DAYLIGHT
TZOFFSETFROM:-0500
TZOFFSETTO:-0400
TZNAME:EDT
DTSTART:20260308T070000
END:DAYLIGHT
BEGIN:STANDARD
TZOFFSETFROM:-0400
TZOFFSETTO:-0500
TZNAME:EST
DTSTART:20261101T060000
END:STANDARD
END:VTIMEZONE
BEGIN:VEVENT
DTSTART;TZID=America/Detroit:20250612T140000
DTEND;TZID=America/Detroit:20250612T153000
DTSTAMP:20260422T022644
CREATED:20231128T210249Z
LAST-MODIFIED:20240408T200640Z
UID:10001117-1749736800-1749742200@arborhospice.org
SUMMARY:Living On - Loss of Spouse/Partner (Virtual)
DESCRIPTION:The focus of Living On support groups is to express feelings and experiences related to the loss of a loved one in a supportive\, caring\, and non-judgmental environment. Grief and loss topics are addressed as they arise\, depending on the interests of those attending the group. \nCome and share\, or simply listen as we discuss the various intricacies and many facets of grief after the loss of a spouse or partner. \nThis group meets virtually the 2nd & 4th Thursday of the month • 2pm – 3:30pm \nPlease RSVP with Kjirsten Boeve • 231-929-1557 • kboeve@hom.org \n 
URL:https://arborhospice.org/event/living-on-loss-of-spouse-partner-virtual-3/2025-06-12/
LOCATION:Meets Virtually
CATEGORIES:Grief Support
ORGANIZER;CN="Kjirsten Boeve":MAILTO:kboeve@hom.org
END:VEVENT
BEGIN:VEVENT
DTSTART;TZID=America/Detroit:20250603T173000
DTEND;TZID=America/Detroit:20250603T184500
DTSTAMP:20260422T022644
CREATED:20240814T210516Z
LAST-MODIFIED:20241218T155106Z
UID:10002346-1748971800-1748976300@arborhospice.org
SUMMARY:Living On - Sudden/Traumatic Loss (Virtual)
DESCRIPTION:An open\, ongoing group that meets monthly to discuss grief and loss as it pertains to the sudden and traumatic loss of a loved one.\nThis virtual group meets the 1st Tuesday of the month • 5:30pm – 6:45pm\nRSVP: Kjirsten Boeve • 231-929-1557 • kboeve@hom.org
URL:https://arborhospice.org/event/living-on-sudden-traumatic-loss-virtual/2025-06-03/
LOCATION:Meets Virtually
CATEGORIES:Grief Support
ORGANIZER;CN="Kjirsten Boeve":MAILTO:kboeve@hom.org
END:VEVENT
BEGIN:VEVENT
DTSTART;TZID=America/Detroit:20250522T140000
DTEND;TZID=America/Detroit:20250522T153000
DTSTAMP:20260422T022644
CREATED:20231128T210415Z
LAST-MODIFIED:20240409T150428Z
UID:10001175-1747922400-1747927800@arborhospice.org
SUMMARY:Living On - Loss of Spouse/Partner (Virtual)
DESCRIPTION:Come and share\, or simply listen as we discuss the various intricacies and many facets of grief after the loss of a spouse or partner. \nPlease RSVP with Kjirsten Boeve at 231.929.1557 or kboeve@hom.org
URL:https://arborhospice.org/event/living-on-loss-of-spouse-partner-virtual-4/2025-05-22/
LOCATION:Meets Virtually
CATEGORIES:Grief Support
ORGANIZER;CN="Kjirsten Boeve":MAILTO:kboeve@hom.org
END:VEVENT
BEGIN:VEVENT
DTSTART;TZID=America/Detroit:20250508T140000
DTEND;TZID=America/Detroit:20250508T153000
DTSTAMP:20260422T022644
CREATED:20231128T210249Z
LAST-MODIFIED:20240408T200640Z
UID:10001116-1746712800-1746718200@arborhospice.org
SUMMARY:Living On - Loss of Spouse/Partner (Virtual)
DESCRIPTION:The focus of Living On support groups is to express feelings and experiences related to the loss of a loved one in a supportive\, caring\, and non-judgmental environment. Grief and loss topics are addressed as they arise\, depending on the interests of those attending the group. \nCome and share\, or simply listen as we discuss the various intricacies and many facets of grief after the loss of a spouse or partner. \nThis group meets virtually the 2nd & 4th Thursday of the month • 2pm – 3:30pm \nPlease RSVP with Kjirsten Boeve • 231-929-1557 • kboeve@hom.org \n 
URL:https://arborhospice.org/event/living-on-loss-of-spouse-partner-virtual-3/2025-05-08/
LOCATION:Meets Virtually
CATEGORIES:Grief Support
ORGANIZER;CN="Kjirsten Boeve":MAILTO:kboeve@hom.org
END:VEVENT
BEGIN:VEVENT
DTSTART;TZID=America/Detroit:20250506T173000
DTEND;TZID=America/Detroit:20250506T184500
DTSTAMP:20260422T022644
CREATED:20240814T210516Z
LAST-MODIFIED:20241218T155106Z
UID:10002345-1746552600-1746557100@arborhospice.org
SUMMARY:Living On - Sudden/Traumatic Loss (Virtual)
DESCRIPTION:An open\, ongoing group that meets monthly to discuss grief and loss as it pertains to the sudden and traumatic loss of a loved one.\nThis virtual group meets the 1st Tuesday of the month • 5:30pm – 6:45pm\nRSVP: Kjirsten Boeve • 231-929-1557 • kboeve@hom.org
URL:https://arborhospice.org/event/living-on-sudden-traumatic-loss-virtual/2025-05-06/
LOCATION:Meets Virtually
CATEGORIES:Grief Support
ORGANIZER;CN="Kjirsten Boeve":MAILTO:kboeve@hom.org
END:VEVENT
BEGIN:VEVENT
DTSTART;TZID=America/Detroit:20250424T140000
DTEND;TZID=America/Detroit:20250424T153000
DTSTAMP:20260422T022644
CREATED:20231128T210415Z
LAST-MODIFIED:20240409T150428Z
UID:10001174-1745503200-1745508600@arborhospice.org
SUMMARY:Living On - Loss of Spouse/Partner (Virtual)
DESCRIPTION:Come and share\, or simply listen as we discuss the various intricacies and many facets of grief after the loss of a spouse or partner. \nPlease RSVP with Kjirsten Boeve at 231.929.1557 or kboeve@hom.org
URL:https://arborhospice.org/event/living-on-loss-of-spouse-partner-virtual-4/2025-04-24/
LOCATION:Meets Virtually
CATEGORIES:Grief Support
ORGANIZER;CN="Kjirsten Boeve":MAILTO:kboeve@hom.org
END:VEVENT
BEGIN:VEVENT
DTSTART;TZID=America/Detroit:20250410T140000
DTEND;TZID=America/Detroit:20250410T153000
DTSTAMP:20260422T022644
CREATED:20231128T210249Z
LAST-MODIFIED:20240408T200640Z
UID:10001115-1744293600-1744299000@arborhospice.org
SUMMARY:Living On - Loss of Spouse/Partner (Virtual)
DESCRIPTION:The focus of Living On support groups is to express feelings and experiences related to the loss of a loved one in a supportive\, caring\, and non-judgmental environment. Grief and loss topics are addressed as they arise\, depending on the interests of those attending the group. \nCome and share\, or simply listen as we discuss the various intricacies and many facets of grief after the loss of a spouse or partner. \nThis group meets virtually the 2nd & 4th Thursday of the month • 2pm – 3:30pm \nPlease RSVP with Kjirsten Boeve • 231-929-1557 • kboeve@hom.org \n 
URL:https://arborhospice.org/event/living-on-loss-of-spouse-partner-virtual-3/2025-04-10/
LOCATION:Meets Virtually
CATEGORIES:Grief Support
ORGANIZER;CN="Kjirsten Boeve":MAILTO:kboeve@hom.org
END:VEVENT
BEGIN:VEVENT
DTSTART;TZID=America/Detroit:20250408T173000
DTEND;TZID=America/Detroit:20250408T184500
DTSTAMP:20260422T022644
CREATED:20240814T210516Z
LAST-MODIFIED:20241218T155106Z
UID:10002539-1744133400-1744137900@arborhospice.org
SUMMARY:Living On - Sudden/Traumatic Loss (Virtual)
DESCRIPTION:An open\, ongoing group that meets monthly to discuss grief and loss as it pertains to the sudden and traumatic loss of a loved one.\nThis virtual group meets the 1st Tuesday of the month • 5:30pm – 6:45pm\nRSVP: Kjirsten Boeve • 231-929-1557 • kboeve@hom.org
URL:https://arborhospice.org/event/living-on-sudden-traumatic-loss-virtual/2025-04-08/
LOCATION:Meets Virtually
CATEGORIES:Grief Support
ORGANIZER;CN="Kjirsten Boeve":MAILTO:kboeve@hom.org
END:VEVENT
BEGIN:VEVENT
DTSTART;TZID=America/Detroit:20250401T173000
DTEND;TZID=America/Detroit:20250401T184500
DTSTAMP:20260422T022644
CREATED:20240814T210516Z
LAST-MODIFIED:20241218T155106Z
UID:10002344-1743528600-1743533100@arborhospice.org
SUMMARY:Living On - Sudden/Traumatic Loss (Virtual)
DESCRIPTION:An open\, ongoing group that meets monthly to discuss grief and loss as it pertains to the sudden and traumatic loss of a loved one.\nThis virtual group meets the 1st Tuesday of the month • 5:30pm – 6:45pm\nRSVP: Kjirsten Boeve • 231-929-1557 • kboeve@hom.org
URL:https://arborhospice.org/event/living-on-sudden-traumatic-loss-virtual/2025-04-01/
LOCATION:Meets Virtually
CATEGORIES:Grief Support
ORGANIZER;CN="Kjirsten Boeve":MAILTO:kboeve@hom.org
END:VEVENT
BEGIN:VEVENT
DTSTART;TZID=America/Detroit:20250327T140000
DTEND;TZID=America/Detroit:20250327T153000
DTSTAMP:20260422T022644
CREATED:20231128T210415Z
LAST-MODIFIED:20240409T150428Z
UID:10001173-1743084000-1743089400@arborhospice.org
SUMMARY:Living On - Loss of Spouse/Partner (Virtual)
DESCRIPTION:Come and share\, or simply listen as we discuss the various intricacies and many facets of grief after the loss of a spouse or partner. \nPlease RSVP with Kjirsten Boeve at 231.929.1557 or kboeve@hom.org
URL:https://arborhospice.org/event/living-on-loss-of-spouse-partner-virtual-4/2025-03-27/
LOCATION:Meets Virtually
CATEGORIES:Grief Support
ORGANIZER;CN="Kjirsten Boeve":MAILTO:kboeve@hom.org
END:VEVENT
BEGIN:VEVENT
DTSTART;TZID=America/Detroit:20250313T140000
DTEND;TZID=America/Detroit:20250313T153000
DTSTAMP:20260422T022644
CREATED:20231128T210249Z
LAST-MODIFIED:20240408T200640Z
UID:10001114-1741874400-1741879800@arborhospice.org
SUMMARY:Living On - Loss of Spouse/Partner (Virtual)
DESCRIPTION:The focus of Living On support groups is to express feelings and experiences related to the loss of a loved one in a supportive\, caring\, and non-judgmental environment. Grief and loss topics are addressed as they arise\, depending on the interests of those attending the group. \nCome and share\, or simply listen as we discuss the various intricacies and many facets of grief after the loss of a spouse or partner. \nThis group meets virtually the 2nd & 4th Thursday of the month • 2pm – 3:30pm \nPlease RSVP with Kjirsten Boeve • 231-929-1557 • kboeve@hom.org \n 
URL:https://arborhospice.org/event/living-on-loss-of-spouse-partner-virtual-3/2025-03-13/
LOCATION:Meets Virtually
CATEGORIES:Grief Support
ORGANIZER;CN="Kjirsten Boeve":MAILTO:kboeve@hom.org
END:VEVENT
BEGIN:VEVENT
DTSTART;TZID=America/Detroit:20250304T173000
DTEND;TZID=America/Detroit:20250304T184500
DTSTAMP:20260422T022644
CREATED:20240814T210516Z
LAST-MODIFIED:20241218T155106Z
UID:10002343-1741109400-1741113900@arborhospice.org
SUMMARY:Living On - Sudden/Traumatic Loss (Virtual)
DESCRIPTION:An open\, ongoing group that meets monthly to discuss grief and loss as it pertains to the sudden and traumatic loss of a loved one.\nThis virtual group meets the 1st Tuesday of the month • 5:30pm – 6:45pm\nRSVP: Kjirsten Boeve • 231-929-1557 • kboeve@hom.org
URL:https://arborhospice.org/event/living-on-sudden-traumatic-loss-virtual/2025-03-04/
LOCATION:Meets Virtually
CATEGORIES:Grief Support
ORGANIZER;CN="Kjirsten Boeve":MAILTO:kboeve@hom.org
END:VEVENT
BEGIN:VEVENT
DTSTART;TZID=America/Detroit:20250227T140000
DTEND;TZID=America/Detroit:20250227T153000
DTSTAMP:20260422T022644
CREATED:20231128T210415Z
LAST-MODIFIED:20240409T150428Z
UID:10001172-1740664800-1740670200@arborhospice.org
SUMMARY:Living On - Loss of Spouse/Partner (Virtual)
DESCRIPTION:Come and share\, or simply listen as we discuss the various intricacies and many facets of grief after the loss of a spouse or partner. \nPlease RSVP with Kjirsten Boeve at 231.929.1557 or kboeve@hom.org
URL:https://arborhospice.org/event/living-on-loss-of-spouse-partner-virtual-4/2025-02-27/
LOCATION:Meets Virtually
CATEGORIES:Grief Support
ORGANIZER;CN="Kjirsten Boeve":MAILTO:kboeve@hom.org
END:VEVENT
BEGIN:VEVENT
DTSTART;TZID=America/Detroit:20250213T140000
DTEND;TZID=America/Detroit:20250213T153000
DTSTAMP:20260422T022644
CREATED:20231128T210249Z
LAST-MODIFIED:20240408T200640Z
UID:10001113-1739455200-1739460600@arborhospice.org
SUMMARY:Living On - Loss of Spouse/Partner (Virtual)
DESCRIPTION:The focus of Living On support groups is to express feelings and experiences related to the loss of a loved one in a supportive\, caring\, and non-judgmental environment. Grief and loss topics are addressed as they arise\, depending on the interests of those attending the group. \nCome and share\, or simply listen as we discuss the various intricacies and many facets of grief after the loss of a spouse or partner. \nThis group meets virtually the 2nd & 4th Thursday of the month • 2pm – 3:30pm \nPlease RSVP with Kjirsten Boeve • 231-929-1557 • kboeve@hom.org \n 
URL:https://arborhospice.org/event/living-on-loss-of-spouse-partner-virtual-3/2025-02-13/
LOCATION:Meets Virtually
CATEGORIES:Grief Support
ORGANIZER;CN="Kjirsten Boeve":MAILTO:kboeve@hom.org
END:VEVENT
BEGIN:VEVENT
DTSTART;TZID=America/Detroit:20250204T173000
DTEND;TZID=America/Detroit:20250204T184500
DTSTAMP:20260422T022644
CREATED:20240814T210516Z
LAST-MODIFIED:20241218T155106Z
UID:10002342-1738690200-1738694700@arborhospice.org
SUMMARY:Living On - Sudden/Traumatic Loss (Virtual)
DESCRIPTION:An open\, ongoing group that meets monthly to discuss grief and loss as it pertains to the sudden and traumatic loss of a loved one.\nThis virtual group meets the 1st Tuesday of the month • 5:30pm – 6:45pm\nRSVP: Kjirsten Boeve • 231-929-1557 • kboeve@hom.org
URL:https://arborhospice.org/event/living-on-sudden-traumatic-loss-virtual/2025-02-04/
LOCATION:Meets Virtually
CATEGORIES:Grief Support
ORGANIZER;CN="Kjirsten Boeve":MAILTO:kboeve@hom.org
END:VEVENT
BEGIN:VEVENT
DTSTART;TZID=America/Detroit:20250123T140000
DTEND;TZID=America/Detroit:20250123T153000
DTSTAMP:20260422T022644
CREATED:20231128T210415Z
LAST-MODIFIED:20240409T150428Z
UID:10001171-1737640800-1737646200@arborhospice.org
SUMMARY:Living On - Loss of Spouse/Partner (Virtual)
DESCRIPTION:Come and share\, or simply listen as we discuss the various intricacies and many facets of grief after the loss of a spouse or partner. \nPlease RSVP with Kjirsten Boeve at 231.929.1557 or kboeve@hom.org
URL:https://arborhospice.org/event/living-on-loss-of-spouse-partner-virtual-4/2025-01-23/
LOCATION:Meets Virtually
CATEGORIES:Grief Support
ORGANIZER;CN="Kjirsten Boeve":MAILTO:kboeve@hom.org
END:VEVENT
BEGIN:VEVENT
DTSTART;TZID=America/Detroit:20250109T140000
DTEND;TZID=America/Detroit:20250109T153000
DTSTAMP:20260422T022644
CREATED:20231128T210249Z
LAST-MODIFIED:20240408T200640Z
UID:10001112-1736431200-1736436600@arborhospice.org
SUMMARY:Living On - Loss of Spouse/Partner (Virtual)
DESCRIPTION:The focus of Living On support groups is to express feelings and experiences related to the loss of a loved one in a supportive\, caring\, and non-judgmental environment. Grief and loss topics are addressed as they arise\, depending on the interests of those attending the group. \nCome and share\, or simply listen as we discuss the various intricacies and many facets of grief after the loss of a spouse or partner. \nThis group meets virtually the 2nd & 4th Thursday of the month • 2pm – 3:30pm \nPlease RSVP with Kjirsten Boeve • 231-929-1557 • kboeve@hom.org \n 
URL:https://arborhospice.org/event/living-on-loss-of-spouse-partner-virtual-3/2025-01-09/
LOCATION:Meets Virtually
CATEGORIES:Grief Support
ORGANIZER;CN="Kjirsten Boeve":MAILTO:kboeve@hom.org
END:VEVENT
BEGIN:VEVENT
DTSTART;TZID=America/Detroit:20250107T173000
DTEND;TZID=America/Detroit:20250107T184500
DTSTAMP:20260422T022644
CREATED:20240814T210516Z
LAST-MODIFIED:20241218T155106Z
UID:10002341-1736271000-1736275500@arborhospice.org
SUMMARY:Living On - Sudden/Traumatic Loss (Virtual)
DESCRIPTION:An open\, ongoing group that meets monthly to discuss grief and loss as it pertains to the sudden and traumatic loss of a loved one.\nThis virtual group meets the 1st Tuesday of the month • 5:30pm – 6:45pm\nRSVP: Kjirsten Boeve • 231-929-1557 • kboeve@hom.org
URL:https://arborhospice.org/event/living-on-sudden-traumatic-loss-virtual/2025-01-07/
LOCATION:Meets Virtually
CATEGORIES:Grief Support
ORGANIZER;CN="Kjirsten Boeve":MAILTO:kboeve@hom.org
END:VEVENT
BEGIN:VEVENT
DTSTART;TZID=America/Detroit:20241226T140000
DTEND;TZID=America/Detroit:20241226T153000
DTSTAMP:20260422T022644
CREATED:20231128T210415Z
LAST-MODIFIED:20240409T150428Z
UID:10001170-1735221600-1735227000@arborhospice.org
SUMMARY:Living On - Loss of Spouse/Partner (Virtual)
DESCRIPTION:Come and share\, or simply listen as we discuss the various intricacies and many facets of grief after the loss of a spouse or partner. \nPlease RSVP with Kjirsten Boeve at 231.929.1557 or kboeve@hom.org
URL:https://arborhospice.org/event/living-on-loss-of-spouse-partner-virtual-4/2024-12-26/
LOCATION:Meets Virtually
CATEGORIES:Grief Support
ORGANIZER;CN="Kjirsten Boeve":MAILTO:kboeve@hom.org
END:VEVENT
BEGIN:VEVENT
DTSTART;TZID=America/Detroit:20241212T140000
DTEND;TZID=America/Detroit:20241212T153000
DTSTAMP:20260422T022644
CREATED:20231128T210249Z
LAST-MODIFIED:20240408T200640Z
UID:10001111-1734012000-1734017400@arborhospice.org
SUMMARY:Living On - Loss of Spouse/Partner (Virtual)
DESCRIPTION:The focus of Living On support groups is to express feelings and experiences related to the loss of a loved one in a supportive\, caring\, and non-judgmental environment. Grief and loss topics are addressed as they arise\, depending on the interests of those attending the group. \nCome and share\, or simply listen as we discuss the various intricacies and many facets of grief after the loss of a spouse or partner. \nThis group meets virtually the 2nd & 4th Thursday of the month • 2pm – 3:30pm \nPlease RSVP with Kjirsten Boeve • 231-929-1557 • kboeve@hom.org \n 
URL:https://arborhospice.org/event/living-on-loss-of-spouse-partner-virtual-3/2024-12-12/
LOCATION:Meets Virtually
CATEGORIES:Grief Support
ORGANIZER;CN="Kjirsten Boeve":MAILTO:kboeve@hom.org
END:VEVENT
BEGIN:VEVENT
DTSTART;TZID=America/Detroit:20241203T173000
DTEND;TZID=America/Detroit:20241203T184500
DTSTAMP:20260422T022644
CREATED:20240814T210516Z
LAST-MODIFIED:20241218T155106Z
UID:10002340-1733247000-1733251500@arborhospice.org
SUMMARY:Living On - Sudden/Traumatic Loss (Virtual)
DESCRIPTION:An open\, ongoing group that meets monthly to discuss grief and loss as it pertains to the sudden and traumatic loss of a loved one.\nThis virtual group meets the 1st Tuesday of the month • 5:30pm – 6:45pm\nRSVP: Kjirsten Boeve • 231-929-1557 • kboeve@hom.org
URL:https://arborhospice.org/event/living-on-sudden-traumatic-loss-virtual/2024-12-03/
LOCATION:Meets Virtually
CATEGORIES:Grief Support
ORGANIZER;CN="Kjirsten Boeve":MAILTO:kboeve@hom.org
END:VEVENT
BEGIN:VEVENT
DTSTART;TZID=America/Detroit:20241128T140000
DTEND;TZID=America/Detroit:20241128T153000
DTSTAMP:20260422T022644
CREATED:20231128T210415Z
LAST-MODIFIED:20240409T150428Z
UID:10001169-1732802400-1732807800@arborhospice.org
SUMMARY:Living On - Loss of Spouse/Partner (Virtual)
DESCRIPTION:Come and share\, or simply listen as we discuss the various intricacies and many facets of grief after the loss of a spouse or partner. \nPlease RSVP with Kjirsten Boeve at 231.929.1557 or kboeve@hom.org
URL:https://arborhospice.org/event/living-on-loss-of-spouse-partner-virtual-4/2024-11-28/
LOCATION:Meets Virtually
CATEGORIES:Grief Support
ORGANIZER;CN="Kjirsten Boeve":MAILTO:kboeve@hom.org
END:VEVENT
BEGIN:VEVENT
DTSTART;TZID=America/Detroit:20241114T140000
DTEND;TZID=America/Detroit:20241114T153000
DTSTAMP:20260422T022644
CREATED:20231128T210249Z
LAST-MODIFIED:20240408T200640Z
UID:10001110-1731592800-1731598200@arborhospice.org
SUMMARY:Living On - Loss of Spouse/Partner (Virtual)
DESCRIPTION:The focus of Living On support groups is to express feelings and experiences related to the loss of a loved one in a supportive\, caring\, and non-judgmental environment. Grief and loss topics are addressed as they arise\, depending on the interests of those attending the group. \nCome and share\, or simply listen as we discuss the various intricacies and many facets of grief after the loss of a spouse or partner. \nThis group meets virtually the 2nd & 4th Thursday of the month • 2pm – 3:30pm \nPlease RSVP with Kjirsten Boeve • 231-929-1557 • kboeve@hom.org \n 
URL:https://arborhospice.org/event/living-on-loss-of-spouse-partner-virtual-3/2024-11-14/
LOCATION:Meets Virtually
CATEGORIES:Grief Support
ORGANIZER;CN="Kjirsten Boeve":MAILTO:kboeve@hom.org
END:VEVENT
BEGIN:VEVENT
DTSTART;TZID=America/Detroit:20241105T173000
DTEND;TZID=America/Detroit:20241105T184500
DTSTAMP:20260422T022644
CREATED:20240814T210516Z
LAST-MODIFIED:20241218T155106Z
UID:10002339-1730827800-1730832300@arborhospice.org
SUMMARY:Living On - Sudden/Traumatic Loss (Virtual)
DESCRIPTION:An open\, ongoing group that meets monthly to discuss grief and loss as it pertains to the sudden and traumatic loss of a loved one.\nThis virtual group meets the 1st Tuesday of the month • 5:30pm – 6:45pm\nRSVP: Kjirsten Boeve • 231-929-1557 • kboeve@hom.org
URL:https://arborhospice.org/event/living-on-sudden-traumatic-loss-virtual/2024-11-05/
LOCATION:Meets Virtually
CATEGORIES:Grief Support
ORGANIZER;CN="Kjirsten Boeve":MAILTO:kboeve@hom.org
END:VEVENT
BEGIN:VEVENT
DTSTART;TZID=America/Detroit:20241024T140000
DTEND;TZID=America/Detroit:20241024T153000
DTSTAMP:20260422T022644
CREATED:20231128T210415Z
LAST-MODIFIED:20240409T150428Z
UID:10001168-1729778400-1729783800@arborhospice.org
SUMMARY:Living On - Loss of Spouse/Partner (Virtual)
DESCRIPTION:Come and share\, or simply listen as we discuss the various intricacies and many facets of grief after the loss of a spouse or partner. \nPlease RSVP with Kjirsten Boeve at 231.929.1557 or kboeve@hom.org
URL:https://arborhospice.org/event/living-on-loss-of-spouse-partner-virtual-4/2024-10-24/
LOCATION:Meets Virtually
CATEGORIES:Grief Support
ORGANIZER;CN="Kjirsten Boeve":MAILTO:kboeve@hom.org
END:VEVENT
BEGIN:VEVENT
DTSTART;TZID=America/Detroit:20241010T140000
DTEND;TZID=America/Detroit:20241010T153000
DTSTAMP:20260422T022644
CREATED:20231128T210249Z
LAST-MODIFIED:20240408T200640Z
UID:10001109-1728568800-1728574200@arborhospice.org
SUMMARY:Living On - Loss of Spouse/Partner (Virtual)
DESCRIPTION:The focus of Living On support groups is to express feelings and experiences related to the loss of a loved one in a supportive\, caring\, and non-judgmental environment. Grief and loss topics are addressed as they arise\, depending on the interests of those attending the group. \nCome and share\, or simply listen as we discuss the various intricacies and many facets of grief after the loss of a spouse or partner. \nThis group meets virtually the 2nd & 4th Thursday of the month • 2pm – 3:30pm \nPlease RSVP with Kjirsten Boeve • 231-929-1557 • kboeve@hom.org \n 
URL:https://arborhospice.org/event/living-on-loss-of-spouse-partner-virtual-3/2024-10-10/
LOCATION:Meets Virtually
CATEGORIES:Grief Support
ORGANIZER;CN="Kjirsten Boeve":MAILTO:kboeve@hom.org
END:VEVENT
BEGIN:VEVENT
DTSTART;TZID=America/Detroit:20241001T173000
DTEND;TZID=America/Detroit:20241001T184500
DTSTAMP:20260422T022644
CREATED:20240814T210516Z
LAST-MODIFIED:20241218T155106Z
UID:10002338-1727803800-1727808300@arborhospice.org
SUMMARY:Living On - Sudden/Traumatic Loss (Virtual)
DESCRIPTION:An open\, ongoing group that meets monthly to discuss grief and loss as it pertains to the sudden and traumatic loss of a loved one.\nThis virtual group meets the 1st Tuesday of the month • 5:30pm – 6:45pm\nRSVP: Kjirsten Boeve • 231-929-1557 • kboeve@hom.org
URL:https://arborhospice.org/event/living-on-sudden-traumatic-loss-virtual/2024-10-01/
LOCATION:Meets Virtually
CATEGORIES:Grief Support
ORGANIZER;CN="Kjirsten Boeve":MAILTO:kboeve@hom.org
END:VEVENT
BEGIN:VEVENT
DTSTART;TZID=America/Detroit:20240926T140000
DTEND;TZID=America/Detroit:20240926T153000
DTSTAMP:20260422T022644
CREATED:20231128T210415Z
LAST-MODIFIED:20240409T150428Z
UID:10001167-1727359200-1727364600@arborhospice.org
SUMMARY:Living On - Loss of Spouse/Partner (Virtual)
DESCRIPTION:Come and share\, or simply listen as we discuss the various intricacies and many facets of grief after the loss of a spouse or partner. \nPlease RSVP with Kjirsten Boeve at 231.929.1557 or kboeve@hom.org
URL:https://arborhospice.org/event/living-on-loss-of-spouse-partner-virtual-4/2024-09-26/
LOCATION:Meets Virtually
CATEGORIES:Grief Support
ORGANIZER;CN="Kjirsten Boeve":MAILTO:kboeve@hom.org
END:VEVENT
BEGIN:VEVENT
DTSTART;TZID=America/Detroit:20240912T140000
DTEND;TZID=America/Detroit:20240912T153000
DTSTAMP:20260422T022644
CREATED:20231128T210249Z
LAST-MODIFIED:20240408T200640Z
UID:10001108-1726149600-1726155000@arborhospice.org
SUMMARY:Living On - Loss of Spouse/Partner (Virtual)
DESCRIPTION:The focus of Living On support groups is to express feelings and experiences related to the loss of a loved one in a supportive\, caring\, and non-judgmental environment. Grief and loss topics are addressed as they arise\, depending on the interests of those attending the group. \nCome and share\, or simply listen as we discuss the various intricacies and many facets of grief after the loss of a spouse or partner. \nThis group meets virtually the 2nd & 4th Thursday of the month • 2pm – 3:30pm \nPlease RSVP with Kjirsten Boeve • 231-929-1557 • kboeve@hom.org \n 
URL:https://arborhospice.org/event/living-on-loss-of-spouse-partner-virtual-3/2024-09-12/
LOCATION:Meets Virtually
CATEGORIES:Grief Support
ORGANIZER;CN="Kjirsten Boeve":MAILTO:kboeve@hom.org
END:VEVENT
BEGIN:VEVENT
DTSTART;TZID=America/Detroit:20240903T173000
DTEND;TZID=America/Detroit:20240903T184500
DTSTAMP:20260422T022644
CREATED:20240814T210516Z
LAST-MODIFIED:20241218T155106Z
UID:10002337-1725384600-1725389100@arborhospice.org
SUMMARY:Living On - Sudden/Traumatic Loss (Virtual)
DESCRIPTION:An open\, ongoing group that meets monthly to discuss grief and loss as it pertains to the sudden and traumatic loss of a loved one.\nThis virtual group meets the 1st Tuesday of the month • 5:30pm – 6:45pm\nRSVP: Kjirsten Boeve • 231-929-1557 • kboeve@hom.org
URL:https://arborhospice.org/event/living-on-sudden-traumatic-loss-virtual/2024-09-03/
LOCATION:Meets Virtually
CATEGORIES:Grief Support
ORGANIZER;CN="Kjirsten Boeve":MAILTO:kboeve@hom.org
END:VEVENT
END:VCALENDAR