BEGIN:VCALENDAR
VERSION:2.0
PRODID:-//Arbor Hospice - ECPv6.15.20//NONSGML v1.0//EN
CALSCALE:GREGORIAN
METHOD:PUBLISH
X-WR-CALNAME:Arbor Hospice
X-ORIGINAL-URL:https://arborhospice.org
X-WR-CALDESC:Events for Arbor Hospice
REFRESH-INTERVAL;VALUE=DURATION:PT1H
X-Robots-Tag:noindex
X-PUBLISHED-TTL:PT1H
BEGIN:VTIMEZONE
TZID:America/Detroit
BEGIN:DAYLIGHT
TZOFFSETFROM:-0500
TZOFFSETTO:-0400
TZNAME:EDT
DTSTART:20220313T070000
END:DAYLIGHT
BEGIN:STANDARD
TZOFFSETFROM:-0400
TZOFFSETTO:-0500
TZNAME:EST
DTSTART:20221106T060000
END:STANDARD
BEGIN:DAYLIGHT
TZOFFSETFROM:-0500
TZOFFSETTO:-0400
TZNAME:EDT
DTSTART:20230312T070000
END:DAYLIGHT
BEGIN:STANDARD
TZOFFSETFROM:-0400
TZOFFSETTO:-0500
TZNAME:EST
DTSTART:20231105T060000
END:STANDARD
BEGIN:DAYLIGHT
TZOFFSETFROM:-0500
TZOFFSETTO:-0400
TZNAME:EDT
DTSTART:20240310T070000
END:DAYLIGHT
BEGIN:STANDARD
TZOFFSETFROM:-0400
TZOFFSETTO:-0500
TZNAME:EST
DTSTART:20241103T060000
END:STANDARD
BEGIN:DAYLIGHT
TZOFFSETFROM:-0500
TZOFFSETTO:-0400
TZNAME:EDT
DTSTART:20250309T070000
END:DAYLIGHT
BEGIN:STANDARD
TZOFFSETFROM:-0400
TZOFFSETTO:-0500
TZNAME:EST
DTSTART:20251102T060000
END:STANDARD
END:VTIMEZONE
BEGIN:VEVENT
DTSTART;TZID=America/Detroit:20241205T133000
DTEND;TZID=America/Detroit:20241205T150000
DTSTAMP:20260426T001707
CREATED:20240814T205900Z
LAST-MODIFIED:20241218T192139Z
UID:10002276-1733405400-1733410800@arborhospice.org
SUMMARY:LIVING ON - GENERAL LOSS (Virtual)
DESCRIPTION:The focus of Living On support groups is to express feelings and experiences related to the loss of a loved one in a supportive\, caring\, and non-judgmental environment. Grief and loss topics are addressed as they arise\, depending on the interests of those attending the group. Some virtual groups are facilitated by Hospice of Michigan staff. \nThis group meets virtually the 1st and 3rd Thursday of the month • 1:30pm – 3pm\nRSVP: Jackie Morris • 313-578-6328 • jmorris@hom.org
URL:https://arborhospice.org/event/living-on-general-loss-virtual-2/2024-12-05/
LOCATION:Meets Virtually
CATEGORIES:Grief Support
ORGANIZER;CN="Jackie Morris":MAILTO:jmorris@hom.org
END:VEVENT
BEGIN:VEVENT
DTSTART;TZID=America/Detroit:20241121T133000
DTEND;TZID=America/Detroit:20241121T150000
DTSTAMP:20260426T001707
CREATED:20240814T205900Z
LAST-MODIFIED:20241218T192139Z
UID:10002275-1732195800-1732201200@arborhospice.org
SUMMARY:LIVING ON - GENERAL LOSS (Virtual)
DESCRIPTION:The focus of Living On support groups is to express feelings and experiences related to the loss of a loved one in a supportive\, caring\, and non-judgmental environment. Grief and loss topics are addressed as they arise\, depending on the interests of those attending the group. Some virtual groups are facilitated by Hospice of Michigan staff. \nThis group meets virtually the 1st and 3rd Thursday of the month • 1:30pm – 3pm\nRSVP: Jackie Morris • 313-578-6328 • jmorris@hom.org
URL:https://arborhospice.org/event/living-on-general-loss-virtual-2/2024-11-21/
LOCATION:Meets Virtually
CATEGORIES:Grief Support
ORGANIZER;CN="Jackie Morris":MAILTO:jmorris@hom.org
END:VEVENT
BEGIN:VEVENT
DTSTART;TZID=America/Detroit:20241107T133000
DTEND;TZID=America/Detroit:20241107T150000
DTSTAMP:20260426T001707
CREATED:20240814T205900Z
LAST-MODIFIED:20241218T192139Z
UID:10002274-1730986200-1730991600@arborhospice.org
SUMMARY:LIVING ON - GENERAL LOSS (Virtual)
DESCRIPTION:The focus of Living On support groups is to express feelings and experiences related to the loss of a loved one in a supportive\, caring\, and non-judgmental environment. Grief and loss topics are addressed as they arise\, depending on the interests of those attending the group. Some virtual groups are facilitated by Hospice of Michigan staff. \nThis group meets virtually the 1st and 3rd Thursday of the month • 1:30pm – 3pm\nRSVP: Jackie Morris • 313-578-6328 • jmorris@hom.org
URL:https://arborhospice.org/event/living-on-general-loss-virtual-2/2024-11-07/
LOCATION:Meets Virtually
CATEGORIES:Grief Support
ORGANIZER;CN="Jackie Morris":MAILTO:jmorris@hom.org
END:VEVENT
BEGIN:VEVENT
DTSTART;TZID=America/Detroit:20241017T133000
DTEND;TZID=America/Detroit:20241017T150000
DTSTAMP:20260426T001707
CREATED:20240814T205900Z
LAST-MODIFIED:20241218T192139Z
UID:10002273-1729171800-1729177200@arborhospice.org
SUMMARY:LIVING ON - GENERAL LOSS (Virtual)
DESCRIPTION:The focus of Living On support groups is to express feelings and experiences related to the loss of a loved one in a supportive\, caring\, and non-judgmental environment. Grief and loss topics are addressed as they arise\, depending on the interests of those attending the group. Some virtual groups are facilitated by Hospice of Michigan staff. \nThis group meets virtually the 1st and 3rd Thursday of the month • 1:30pm – 3pm\nRSVP: Jackie Morris • 313-578-6328 • jmorris@hom.org
URL:https://arborhospice.org/event/living-on-general-loss-virtual-2/2024-10-17/
LOCATION:Meets Virtually
CATEGORIES:Grief Support
ORGANIZER;CN="Jackie Morris":MAILTO:jmorris@hom.org
END:VEVENT
BEGIN:VEVENT
DTSTART;TZID=America/Detroit:20241003T133000
DTEND;TZID=America/Detroit:20241003T150000
DTSTAMP:20260426T001707
CREATED:20240814T205900Z
LAST-MODIFIED:20241218T192139Z
UID:10002272-1727962200-1727967600@arborhospice.org
SUMMARY:LIVING ON - GENERAL LOSS (Virtual)
DESCRIPTION:The focus of Living On support groups is to express feelings and experiences related to the loss of a loved one in a supportive\, caring\, and non-judgmental environment. Grief and loss topics are addressed as they arise\, depending on the interests of those attending the group. Some virtual groups are facilitated by Hospice of Michigan staff. \nThis group meets virtually the 1st and 3rd Thursday of the month • 1:30pm – 3pm\nRSVP: Jackie Morris • 313-578-6328 • jmorris@hom.org
URL:https://arborhospice.org/event/living-on-general-loss-virtual-2/2024-10-03/
LOCATION:Meets Virtually
CATEGORIES:Grief Support
ORGANIZER;CN="Jackie Morris":MAILTO:jmorris@hom.org
END:VEVENT
BEGIN:VEVENT
DTSTART;TZID=America/Detroit:20240919T133000
DTEND;TZID=America/Detroit:20240919T150000
DTSTAMP:20260426T001707
CREATED:20240814T205900Z
LAST-MODIFIED:20241218T192139Z
UID:10002271-1726752600-1726758000@arborhospice.org
SUMMARY:LIVING ON - GENERAL LOSS (Virtual)
DESCRIPTION:The focus of Living On support groups is to express feelings and experiences related to the loss of a loved one in a supportive\, caring\, and non-judgmental environment. Grief and loss topics are addressed as they arise\, depending on the interests of those attending the group. Some virtual groups are facilitated by Hospice of Michigan staff. \nThis group meets virtually the 1st and 3rd Thursday of the month • 1:30pm – 3pm\nRSVP: Jackie Morris • 313-578-6328 • jmorris@hom.org
URL:https://arborhospice.org/event/living-on-general-loss-virtual-2/2024-09-19/
LOCATION:Meets Virtually
CATEGORIES:Grief Support
ORGANIZER;CN="Jackie Morris":MAILTO:jmorris@hom.org
END:VEVENT
BEGIN:VEVENT
DTSTART;TZID=America/Detroit:20240905T133000
DTEND;TZID=America/Detroit:20240905T150000
DTSTAMP:20260426T001707
CREATED:20240814T205900Z
LAST-MODIFIED:20241218T192139Z
UID:10002270-1725543000-1725548400@arborhospice.org
SUMMARY:LIVING ON - GENERAL LOSS (Virtual)
DESCRIPTION:The focus of Living On support groups is to express feelings and experiences related to the loss of a loved one in a supportive\, caring\, and non-judgmental environment. Grief and loss topics are addressed as they arise\, depending on the interests of those attending the group. Some virtual groups are facilitated by Hospice of Michigan staff. \nThis group meets virtually the 1st and 3rd Thursday of the month • 1:30pm – 3pm\nRSVP: Jackie Morris • 313-578-6328 • jmorris@hom.org
URL:https://arborhospice.org/event/living-on-general-loss-virtual-2/2024-09-05/
LOCATION:Meets Virtually
CATEGORIES:Grief Support
ORGANIZER;CN="Jackie Morris":MAILTO:jmorris@hom.org
END:VEVENT
BEGIN:VEVENT
DTSTART;TZID=America/Detroit:20240809T113000
DTEND;TZID=America/Detroit:20240809T130000
DTSTAMP:20260426T001707
CREATED:20240408T202821Z
LAST-MODIFIED:20240408T202821Z
UID:10001796-1723203000-1723208400@arborhospice.org
SUMMARY:Living On Grief Support Group (In Person)
DESCRIPTION:The focus of Living On support groups is to express feelings and experiences related to the loss of a loved one in a supportive\, caring\, and non-judgmental environment. Grief and loss topics are addressed as they arise\, depending on the interests of those attending the group. \nThis group\, facilitated by Hospice of Michigan staff\, meets in person the 2nd & 4th Friday of the month • 11:30am – 1pm at Woodhaven Community Center • 23101 Hall Rd.\, Woodhaven \nPlease RSVP with Jackie Morris • 313-578-6328 • jmorris@hom.org
URL:https://arborhospice.org/event/living-on-grief-support-group-in-person/2024-08-09/
LOCATION:Woodhaven Community Center\, 23101 Hall Road\, Woodhaven\, MI
CATEGORIES:Grief Support
ORGANIZER;CN="Jackie Morris":MAILTO:jmorris@hom.org
END:VEVENT
BEGIN:VEVENT
DTSTART;TZID=America/Detroit:20240726T113000
DTEND;TZID=America/Detroit:20240726T130000
DTSTAMP:20260426T001707
CREATED:20240408T202821Z
LAST-MODIFIED:20240408T202821Z
UID:10001795-1721993400-1721998800@arborhospice.org
SUMMARY:Living On Grief Support Group (In Person)
DESCRIPTION:The focus of Living On support groups is to express feelings and experiences related to the loss of a loved one in a supportive\, caring\, and non-judgmental environment. Grief and loss topics are addressed as they arise\, depending on the interests of those attending the group. \nThis group\, facilitated by Hospice of Michigan staff\, meets in person the 2nd & 4th Friday of the month • 11:30am – 1pm at Woodhaven Community Center • 23101 Hall Rd.\, Woodhaven \nPlease RSVP with Jackie Morris • 313-578-6328 • jmorris@hom.org
URL:https://arborhospice.org/event/living-on-grief-support-group-in-person/2024-07-26/
LOCATION:Woodhaven Community Center\, 23101 Hall Road\, Woodhaven\, MI
CATEGORIES:Grief Support
ORGANIZER;CN="Jackie Morris":MAILTO:jmorris@hom.org
END:VEVENT
BEGIN:VEVENT
DTSTART;TZID=America/Detroit:20240712T113000
DTEND;TZID=America/Detroit:20240712T130000
DTSTAMP:20260426T001707
CREATED:20240408T202821Z
LAST-MODIFIED:20240408T202821Z
UID:10001794-1720783800-1720789200@arborhospice.org
SUMMARY:Living On Grief Support Group (In Person)
DESCRIPTION:The focus of Living On support groups is to express feelings and experiences related to the loss of a loved one in a supportive\, caring\, and non-judgmental environment. Grief and loss topics are addressed as they arise\, depending on the interests of those attending the group. \nThis group\, facilitated by Hospice of Michigan staff\, meets in person the 2nd & 4th Friday of the month • 11:30am – 1pm at Woodhaven Community Center • 23101 Hall Rd.\, Woodhaven \nPlease RSVP with Jackie Morris • 313-578-6328 • jmorris@hom.org
URL:https://arborhospice.org/event/living-on-grief-support-group-in-person/2024-07-12/
LOCATION:Woodhaven Community Center\, 23101 Hall Road\, Woodhaven\, MI
CATEGORIES:Grief Support
ORGANIZER;CN="Jackie Morris":MAILTO:jmorris@hom.org
END:VEVENT
BEGIN:VEVENT
DTSTART;TZID=America/Detroit:20240628T113000
DTEND;TZID=America/Detroit:20240628T130000
DTSTAMP:20260426T001707
CREATED:20240408T202821Z
LAST-MODIFIED:20240408T202821Z
UID:10001793-1719574200-1719579600@arborhospice.org
SUMMARY:Living On Grief Support Group (In Person)
DESCRIPTION:The focus of Living On support groups is to express feelings and experiences related to the loss of a loved one in a supportive\, caring\, and non-judgmental environment. Grief and loss topics are addressed as they arise\, depending on the interests of those attending the group. \nThis group\, facilitated by Hospice of Michigan staff\, meets in person the 2nd & 4th Friday of the month • 11:30am – 1pm at Woodhaven Community Center • 23101 Hall Rd.\, Woodhaven \nPlease RSVP with Jackie Morris • 313-578-6328 • jmorris@hom.org
URL:https://arborhospice.org/event/living-on-grief-support-group-in-person/2024-06-28/
LOCATION:Woodhaven Community Center\, 23101 Hall Road\, Woodhaven\, MI
CATEGORIES:Grief Support
ORGANIZER;CN="Jackie Morris":MAILTO:jmorris@hom.org
END:VEVENT
BEGIN:VEVENT
DTSTART;TZID=America/Detroit:20240614T113000
DTEND;TZID=America/Detroit:20240614T130000
DTSTAMP:20260426T001707
CREATED:20240408T202821Z
LAST-MODIFIED:20240408T202821Z
UID:10001792-1718364600-1718370000@arborhospice.org
SUMMARY:Living On Grief Support Group (In Person)
DESCRIPTION:The focus of Living On support groups is to express feelings and experiences related to the loss of a loved one in a supportive\, caring\, and non-judgmental environment. Grief and loss topics are addressed as they arise\, depending on the interests of those attending the group. \nThis group\, facilitated by Hospice of Michigan staff\, meets in person the 2nd & 4th Friday of the month • 11:30am – 1pm at Woodhaven Community Center • 23101 Hall Rd.\, Woodhaven \nPlease RSVP with Jackie Morris • 313-578-6328 • jmorris@hom.org
URL:https://arborhospice.org/event/living-on-grief-support-group-in-person/2024-06-14/
LOCATION:Woodhaven Community Center\, 23101 Hall Road\, Woodhaven\, MI
CATEGORIES:Grief Support
ORGANIZER;CN="Jackie Morris":MAILTO:jmorris@hom.org
END:VEVENT
BEGIN:VEVENT
DTSTART;TZID=America/Detroit:20240524T113000
DTEND;TZID=America/Detroit:20240524T130000
DTSTAMP:20260426T001707
CREATED:20240408T202821Z
LAST-MODIFIED:20240408T202821Z
UID:10001791-1716550200-1716555600@arborhospice.org
SUMMARY:Living On Grief Support Group (In Person)
DESCRIPTION:The focus of Living On support groups is to express feelings and experiences related to the loss of a loved one in a supportive\, caring\, and non-judgmental environment. Grief and loss topics are addressed as they arise\, depending on the interests of those attending the group. \nThis group\, facilitated by Hospice of Michigan staff\, meets in person the 2nd & 4th Friday of the month • 11:30am – 1pm at Woodhaven Community Center • 23101 Hall Rd.\, Woodhaven \nPlease RSVP with Jackie Morris • 313-578-6328 • jmorris@hom.org
URL:https://arborhospice.org/event/living-on-grief-support-group-in-person/2024-05-24/
LOCATION:Woodhaven Community Center\, 23101 Hall Road\, Woodhaven\, MI
CATEGORIES:Grief Support
ORGANIZER;CN="Jackie Morris":MAILTO:jmorris@hom.org
END:VEVENT
BEGIN:VEVENT
DTSTART;TZID=America/Detroit:20240510T113000
DTEND;TZID=America/Detroit:20240510T130000
DTSTAMP:20260426T001707
CREATED:20240408T202821Z
LAST-MODIFIED:20240408T202821Z
UID:10001790-1715340600-1715346000@arborhospice.org
SUMMARY:Living On Grief Support Group (In Person)
DESCRIPTION:The focus of Living On support groups is to express feelings and experiences related to the loss of a loved one in a supportive\, caring\, and non-judgmental environment. Grief and loss topics are addressed as they arise\, depending on the interests of those attending the group. \nThis group\, facilitated by Hospice of Michigan staff\, meets in person the 2nd & 4th Friday of the month • 11:30am – 1pm at Woodhaven Community Center • 23101 Hall Rd.\, Woodhaven \nPlease RSVP with Jackie Morris • 313-578-6328 • jmorris@hom.org
URL:https://arborhospice.org/event/living-on-grief-support-group-in-person/2024-05-10/
LOCATION:Woodhaven Community Center\, 23101 Hall Road\, Woodhaven\, MI
CATEGORIES:Grief Support
ORGANIZER;CN="Jackie Morris":MAILTO:jmorris@hom.org
END:VEVENT
BEGIN:VEVENT
DTSTART;TZID=America/Detroit:20240426T113000
DTEND;TZID=America/Detroit:20240426T130000
DTSTAMP:20260426T001707
CREATED:20240408T202821Z
LAST-MODIFIED:20240408T202821Z
UID:10001789-1714131000-1714136400@arborhospice.org
SUMMARY:Living On Grief Support Group (In Person)
DESCRIPTION:The focus of Living On support groups is to express feelings and experiences related to the loss of a loved one in a supportive\, caring\, and non-judgmental environment. Grief and loss topics are addressed as they arise\, depending on the interests of those attending the group. \nThis group\, facilitated by Hospice of Michigan staff\, meets in person the 2nd & 4th Friday of the month • 11:30am – 1pm at Woodhaven Community Center • 23101 Hall Rd.\, Woodhaven \nPlease RSVP with Jackie Morris • 313-578-6328 • jmorris@hom.org
URL:https://arborhospice.org/event/living-on-grief-support-group-in-person/2024-04-26/
LOCATION:Woodhaven Community Center\, 23101 Hall Road\, Woodhaven\, MI
CATEGORIES:Grief Support
ORGANIZER;CN="Jackie Morris":MAILTO:jmorris@hom.org
END:VEVENT
BEGIN:VEVENT
DTSTART;TZID=America/Detroit:20240412T113000
DTEND;TZID=America/Detroit:20240412T130000
DTSTAMP:20260426T001707
CREATED:20240408T202821Z
LAST-MODIFIED:20240408T202821Z
UID:10001788-1712921400-1712926800@arborhospice.org
SUMMARY:Living On Grief Support Group (In Person)
DESCRIPTION:The focus of Living On support groups is to express feelings and experiences related to the loss of a loved one in a supportive\, caring\, and non-judgmental environment. Grief and loss topics are addressed as they arise\, depending on the interests of those attending the group. \nThis group\, facilitated by Hospice of Michigan staff\, meets in person the 2nd & 4th Friday of the month • 11:30am – 1pm at Woodhaven Community Center • 23101 Hall Rd.\, Woodhaven \nPlease RSVP with Jackie Morris • 313-578-6328 • jmorris@hom.org
URL:https://arborhospice.org/event/living-on-grief-support-group-in-person/2024-04-12/
LOCATION:Woodhaven Community Center\, 23101 Hall Road\, Woodhaven\, MI
CATEGORIES:Grief Support
ORGANIZER;CN="Jackie Morris":MAILTO:jmorris@hom.org
END:VEVENT
BEGIN:VEVENT
DTSTART;TZID=America/Detroit:20231207T080000
DTEND;TZID=America/Detroit:20231207T170000
DTSTAMP:20260426T001707
CREATED:20230105T201753Z
LAST-MODIFIED:20230131T155007Z
UID:10000407-1701936000-1701968400@arborhospice.org
SUMMARY:Living On (Virtual only)
DESCRIPTION:The focus of this Living On support group is to express feelings and experiences related to the loss of a loved one in a supportive\, caring\, and non-judgmental environment. Grief and loss topics are addressed as they arise\, depending on the interests of those attending the group. \nRSVP with Jackie Morris at 313.578.6328 or jmorris@hom.org
URL:https://arborhospice.org/event/living-on-virtual-only/2023-12-07/
CATEGORIES:Grief Support
ORGANIZER;CN="Jackie Morris":MAILTO:jmorris@hom.org
END:VEVENT
BEGIN:VEVENT
DTSTART;TZID=America/Detroit:20231102T080000
DTEND;TZID=America/Detroit:20231102T170000
DTSTAMP:20260426T001707
CREATED:20230105T201753Z
LAST-MODIFIED:20230131T155007Z
UID:10000406-1698912000-1698944400@arborhospice.org
SUMMARY:Living On (Virtual only)
DESCRIPTION:The focus of this Living On support group is to express feelings and experiences related to the loss of a loved one in a supportive\, caring\, and non-judgmental environment. Grief and loss topics are addressed as they arise\, depending on the interests of those attending the group. \nRSVP with Jackie Morris at 313.578.6328 or jmorris@hom.org
URL:https://arborhospice.org/event/living-on-virtual-only/2023-11-02/
CATEGORIES:Grief Support
ORGANIZER;CN="Jackie Morris":MAILTO:jmorris@hom.org
END:VEVENT
BEGIN:VEVENT
DTSTART;TZID=America/Detroit:20231005T080000
DTEND;TZID=America/Detroit:20231005T170000
DTSTAMP:20260426T001707
CREATED:20230105T201753Z
LAST-MODIFIED:20230131T155007Z
UID:10000405-1696492800-1696525200@arborhospice.org
SUMMARY:Living On (Virtual only)
DESCRIPTION:The focus of this Living On support group is to express feelings and experiences related to the loss of a loved one in a supportive\, caring\, and non-judgmental environment. Grief and loss topics are addressed as they arise\, depending on the interests of those attending the group. \nRSVP with Jackie Morris at 313.578.6328 or jmorris@hom.org
URL:https://arborhospice.org/event/living-on-virtual-only/2023-10-05/
CATEGORIES:Grief Support
ORGANIZER;CN="Jackie Morris":MAILTO:jmorris@hom.org
END:VEVENT
BEGIN:VEVENT
DTSTART;TZID=America/Detroit:20230907T080000
DTEND;TZID=America/Detroit:20230907T170000
DTSTAMP:20260426T001707
CREATED:20230105T201753Z
LAST-MODIFIED:20230131T155007Z
UID:10000404-1694073600-1694106000@arborhospice.org
SUMMARY:Living On (Virtual only)
DESCRIPTION:The focus of this Living On support group is to express feelings and experiences related to the loss of a loved one in a supportive\, caring\, and non-judgmental environment. Grief and loss topics are addressed as they arise\, depending on the interests of those attending the group. \nRSVP with Jackie Morris at 313.578.6328 or jmorris@hom.org
URL:https://arborhospice.org/event/living-on-virtual-only/2023-09-07/
CATEGORIES:Grief Support
ORGANIZER;CN="Jackie Morris":MAILTO:jmorris@hom.org
END:VEVENT
BEGIN:VEVENT
DTSTART;TZID=America/Detroit:20230817T133000
DTEND;TZID=America/Detroit:20230817T150000
DTSTAMP:20260426T001707
CREATED:20230808T163618Z
LAST-MODIFIED:20230808T163618Z
UID:10000966-1692279000-1692284400@arborhospice.org
SUMMARY:Living On (Virtual)
DESCRIPTION:The focus of Living On support groups is to express feelings and experiences related to the loss of the a loved one in a supportive\, caring and non-judgmental environment. Grief and loss topics are addressed as they arise\, depending on the interests of those attending the group. \nPlease RSVP with Jackie Morris at 313.578.6328 or jmorris@hom.org
URL:https://arborhospice.org/event/living-on-virtual-3/
LOCATION:Meets Virtually
CATEGORIES:Grief Support
ORGANIZER;CN="Jackie Morris":MAILTO:jmorris@hom.org
END:VEVENT
BEGIN:VEVENT
DTSTART;TZID=America/Detroit:20230803T080000
DTEND;TZID=America/Detroit:20230803T170000
DTSTAMP:20260426T001707
CREATED:20230105T201753Z
LAST-MODIFIED:20230131T155007Z
UID:10000403-1691049600-1691082000@arborhospice.org
SUMMARY:Living On (Virtual only)
DESCRIPTION:The focus of this Living On support group is to express feelings and experiences related to the loss of a loved one in a supportive\, caring\, and non-judgmental environment. Grief and loss topics are addressed as they arise\, depending on the interests of those attending the group. \nRSVP with Jackie Morris at 313.578.6328 or jmorris@hom.org
URL:https://arborhospice.org/event/living-on-virtual-only/2023-08-03/
CATEGORIES:Grief Support
ORGANIZER;CN="Jackie Morris":MAILTO:jmorris@hom.org
END:VEVENT
BEGIN:VEVENT
DTSTART;TZID=America/Detroit:20230711T180000
DTEND;TZID=America/Detroit:20230711T193000
DTSTAMP:20260426T001707
CREATED:20230105T211651Z
LAST-MODIFIED:20230131T153747Z
UID:10000478-1689098400-1689103800@arborhospice.org
SUMMARY:Hope After Loss - Children/Teens and Grief
DESCRIPTION:Please join us for this special presentation as we discuss children/teens and grief. This presentation explores what is normal for children and teens during the grief process\, strategies for coping\, suggestions for self-care and available community support. Registration is required. RSVP with Jackie Morris at 313.578.6328 or jmorris@hom.org
URL:https://arborhospice.org/event/hope-after-loss-children-teens-and-grief/
LOCATION:James H Cole Funeral Home\, 2624 West Grand Blvd\, Detroit\, MI
CATEGORIES:Grief Support
ORGANIZER;CN="Jackie Morris":MAILTO:jmorris@hom.org
END:VEVENT
BEGIN:VEVENT
DTSTART;TZID=America/Detroit:20230706T080000
DTEND;TZID=America/Detroit:20230706T170000
DTSTAMP:20260426T001707
CREATED:20230105T201753Z
LAST-MODIFIED:20230131T155007Z
UID:10000402-1688630400-1688662800@arborhospice.org
SUMMARY:Living On (Virtual only)
DESCRIPTION:The focus of this Living On support group is to express feelings and experiences related to the loss of a loved one in a supportive\, caring\, and non-judgmental environment. Grief and loss topics are addressed as they arise\, depending on the interests of those attending the group. \nRSVP with Jackie Morris at 313.578.6328 or jmorris@hom.org
URL:https://arborhospice.org/event/living-on-virtual-only/2023-07-06/
CATEGORIES:Grief Support
ORGANIZER;CN="Jackie Morris":MAILTO:jmorris@hom.org
END:VEVENT
BEGIN:VEVENT
DTSTART;TZID=America/Detroit:20230601T080000
DTEND;TZID=America/Detroit:20230601T170000
DTSTAMP:20260426T001707
CREATED:20230105T201753Z
LAST-MODIFIED:20230131T155007Z
UID:10000401-1685606400-1685638800@arborhospice.org
SUMMARY:Living On (Virtual only)
DESCRIPTION:The focus of this Living On support group is to express feelings and experiences related to the loss of a loved one in a supportive\, caring\, and non-judgmental environment. Grief and loss topics are addressed as they arise\, depending on the interests of those attending the group. \nRSVP with Jackie Morris at 313.578.6328 or jmorris@hom.org
URL:https://arborhospice.org/event/living-on-virtual-only/2023-06-01/
CATEGORIES:Grief Support
ORGANIZER;CN="Jackie Morris":MAILTO:jmorris@hom.org
END:VEVENT
BEGIN:VEVENT
DTSTART;TZID=America/Detroit:20230509T180000
DTEND;TZID=America/Detroit:20230509T193000
DTSTAMP:20260426T001707
CREATED:20230105T212334Z
LAST-MODIFIED:20230131T153832Z
UID:10000479-1683655200-1683660600@arborhospice.org
SUMMARY:Hope After Loss - Remembering Our Mothers and Fathers
DESCRIPTION:Please join us for this special time as we remember of mothers\, fathers\, or parent figures and discuss suggestions for self-care and strategies for coping through Mother’s Day and Father’s Day. Registration is required. RSVP with Jackie Morris at 313.578.6328 or jmorris@hom.org
URL:https://arborhospice.org/event/hope-after-loss-remembering-our-mothers-and-fathers/
LOCATION:James H Cole Funeral Home\, 2624 West Grand Blvd\, Detroit\, MI
CATEGORIES:Grief Support
ORGANIZER;CN="Jackie Morris":MAILTO:jmorris@hom.org
END:VEVENT
BEGIN:VEVENT
DTSTART;TZID=America/Detroit:20230504T080000
DTEND;TZID=America/Detroit:20230504T170000
DTSTAMP:20260426T001707
CREATED:20230105T201753Z
LAST-MODIFIED:20230131T155007Z
UID:10000400-1683187200-1683219600@arborhospice.org
SUMMARY:Living On (Virtual only)
DESCRIPTION:The focus of this Living On support group is to express feelings and experiences related to the loss of a loved one in a supportive\, caring\, and non-judgmental environment. Grief and loss topics are addressed as they arise\, depending on the interests of those attending the group. \nRSVP with Jackie Morris at 313.578.6328 or jmorris@hom.org
URL:https://arborhospice.org/event/living-on-virtual-only/2023-05-04/
CATEGORIES:Grief Support
ORGANIZER;CN="Jackie Morris":MAILTO:jmorris@hom.org
END:VEVENT
BEGIN:VEVENT
DTSTART;TZID=America/Detroit:20230426T180000
DTEND;TZID=America/Detroit:20230426T180000
DTSTAMP:20260426T001707
CREATED:20230105T213453Z
LAST-MODIFIED:20230131T153929Z
UID:10000722-1682532000-1682532000@arborhospice.org
SUMMARY:Journey Through Grief - General Loss (Virtual)
DESCRIPTION:This is a weekly support group in which we will explore the Six Needs of Mourning as described by Dr. Alan Wolfelt: Acknowledge the reality of the death\, Embrace the pain of the loss\, Remember the person who died\, Develop a new self-identity\, Search for meaning\, and Receive ongoing support from others. There will be time for discussion and sharing. No new members will be admitted to this group after the second week. Registration is required. RSVP with Jackie Morris at 313.578.6328 or jmorris@hom.org
URL:https://arborhospice.org/event/journey-through-grief-general-loss-virtual/2023-04-26/
CATEGORIES:Grief Support
ORGANIZER;CN="Jackie Morris":MAILTO:jmorris@hom.org
END:VEVENT
BEGIN:VEVENT
DTSTART;TZID=America/Detroit:20230419T180000
DTEND;TZID=America/Detroit:20230419T180000
DTSTAMP:20260426T001707
CREATED:20230105T213453Z
LAST-MODIFIED:20230131T153929Z
UID:10000721-1681927200-1681927200@arborhospice.org
SUMMARY:Journey Through Grief - General Loss (Virtual)
DESCRIPTION:This is a weekly support group in which we will explore the Six Needs of Mourning as described by Dr. Alan Wolfelt: Acknowledge the reality of the death\, Embrace the pain of the loss\, Remember the person who died\, Develop a new self-identity\, Search for meaning\, and Receive ongoing support from others. There will be time for discussion and sharing. No new members will be admitted to this group after the second week. Registration is required. RSVP with Jackie Morris at 313.578.6328 or jmorris@hom.org
URL:https://arborhospice.org/event/journey-through-grief-general-loss-virtual/2023-04-19/
CATEGORIES:Grief Support
ORGANIZER;CN="Jackie Morris":MAILTO:jmorris@hom.org
END:VEVENT
BEGIN:VEVENT
DTSTART;TZID=America/Detroit:20230412T180000
DTEND;TZID=America/Detroit:20230412T180000
DTSTAMP:20260426T001707
CREATED:20230105T213453Z
LAST-MODIFIED:20230131T153929Z
UID:10000720-1681322400-1681322400@arborhospice.org
SUMMARY:Journey Through Grief - General Loss (Virtual)
DESCRIPTION:This is a weekly support group in which we will explore the Six Needs of Mourning as described by Dr. Alan Wolfelt: Acknowledge the reality of the death\, Embrace the pain of the loss\, Remember the person who died\, Develop a new self-identity\, Search for meaning\, and Receive ongoing support from others. There will be time for discussion and sharing. No new members will be admitted to this group after the second week. Registration is required. RSVP with Jackie Morris at 313.578.6328 or jmorris@hom.org
URL:https://arborhospice.org/event/journey-through-grief-general-loss-virtual/2023-04-12/
CATEGORIES:Grief Support
ORGANIZER;CN="Jackie Morris":MAILTO:jmorris@hom.org
END:VEVENT
END:VCALENDAR