BEGIN:VCALENDAR
VERSION:2.0
PRODID:-//Arbor Hospice - ECPv6.15.20//NONSGML v1.0//EN
CALSCALE:GREGORIAN
METHOD:PUBLISH
X-WR-CALNAME:Arbor Hospice
X-ORIGINAL-URL:https://arborhospice.org
X-WR-CALDESC:Events for Arbor Hospice
REFRESH-INTERVAL;VALUE=DURATION:PT1H
X-Robots-Tag:noindex
X-PUBLISHED-TTL:PT1H
BEGIN:VTIMEZONE
TZID:America/Detroit
BEGIN:DAYLIGHT
TZOFFSETFROM:-0500
TZOFFSETTO:-0400
TZNAME:EDT
DTSTART:20250309T070000
END:DAYLIGHT
BEGIN:STANDARD
TZOFFSETFROM:-0400
TZOFFSETTO:-0500
TZNAME:EST
DTSTART:20251102T060000
END:STANDARD
BEGIN:DAYLIGHT
TZOFFSETFROM:-0500
TZOFFSETTO:-0400
TZNAME:EDT
DTSTART:20260308T070000
END:DAYLIGHT
BEGIN:STANDARD
TZOFFSETFROM:-0400
TZOFFSETTO:-0500
TZNAME:EST
DTSTART:20261101T060000
END:STANDARD
BEGIN:DAYLIGHT
TZOFFSETFROM:-0500
TZOFFSETTO:-0400
TZNAME:EDT
DTSTART:20270314T070000
END:DAYLIGHT
BEGIN:STANDARD
TZOFFSETFROM:-0400
TZOFFSETTO:-0500
TZNAME:EST
DTSTART:20271107T060000
END:STANDARD
BEGIN:DAYLIGHT
TZOFFSETFROM:-0500
TZOFFSETTO:-0400
TZNAME:EDT
DTSTART:20280312T070000
END:DAYLIGHT
BEGIN:STANDARD
TZOFFSETFROM:-0400
TZOFFSETTO:-0500
TZNAME:EST
DTSTART:20281105T060000
END:STANDARD
BEGIN:DAYLIGHT
TZOFFSETFROM:-0500
TZOFFSETTO:-0400
TZNAME:EDT
DTSTART:20290311T070000
END:DAYLIGHT
BEGIN:STANDARD
TZOFFSETFROM:-0400
TZOFFSETTO:-0500
TZNAME:EST
DTSTART:20291104T060000
END:STANDARD
END:VTIMEZONE
BEGIN:VEVENT
DTSTART;TZID=America/Detroit:20260505T173000
DTEND;TZID=America/Detroit:20260505T184500
DTSTAMP:20260423T173222
CREATED:20240814T210516Z
LAST-MODIFIED:20241218T155106Z
UID:10002357-1778002200-1778006700@arborhospice.org
SUMMARY:Living On - Sudden/Traumatic Loss (Virtual)
DESCRIPTION:An open\, ongoing group that meets monthly to discuss grief and loss as it pertains to the sudden and traumatic loss of a loved one.\nThis virtual group meets the 1st Tuesday of the month • 5:30pm – 6:45pm\nRSVP: Kjirsten Boeve • 231-929-1557 • kboeve@hom.org
URL:https://arborhospice.org/event/living-on-sudden-traumatic-loss-virtual/2026-05-05/
LOCATION:Meets Virtually
CATEGORIES:Grief Support
ORGANIZER;CN="Kjirsten Boeve":MAILTO:kboeve@hom.org
END:VEVENT
BEGIN:VEVENT
DTSTART;TZID=America/Detroit:20260602T173000
DTEND;TZID=America/Detroit:20260602T184500
DTSTAMP:20260423T173222
CREATED:20240814T210516Z
LAST-MODIFIED:20241218T155106Z
UID:10002358-1780421400-1780425900@arborhospice.org
SUMMARY:Living On - Sudden/Traumatic Loss (Virtual)
DESCRIPTION:An open\, ongoing group that meets monthly to discuss grief and loss as it pertains to the sudden and traumatic loss of a loved one.\nThis virtual group meets the 1st Tuesday of the month • 5:30pm – 6:45pm\nRSVP: Kjirsten Boeve • 231-929-1557 • kboeve@hom.org
URL:https://arborhospice.org/event/living-on-sudden-traumatic-loss-virtual/2026-06-02/
LOCATION:Meets Virtually
CATEGORIES:Grief Support
ORGANIZER;CN="Kjirsten Boeve":MAILTO:kboeve@hom.org
END:VEVENT
BEGIN:VEVENT
DTSTART;TZID=America/Detroit:20260707T173000
DTEND;TZID=America/Detroit:20260707T184500
DTSTAMP:20260423T173222
CREATED:20240814T210516Z
LAST-MODIFIED:20241218T155106Z
UID:10002359-1783445400-1783449900@arborhospice.org
SUMMARY:Living On - Sudden/Traumatic Loss (Virtual)
DESCRIPTION:An open\, ongoing group that meets monthly to discuss grief and loss as it pertains to the sudden and traumatic loss of a loved one.\nThis virtual group meets the 1st Tuesday of the month • 5:30pm – 6:45pm\nRSVP: Kjirsten Boeve • 231-929-1557 • kboeve@hom.org
URL:https://arborhospice.org/event/living-on-sudden-traumatic-loss-virtual/2026-07-07/
LOCATION:Meets Virtually
CATEGORIES:Grief Support
ORGANIZER;CN="Kjirsten Boeve":MAILTO:kboeve@hom.org
END:VEVENT
BEGIN:VEVENT
DTSTART;TZID=America/Detroit:20260804T173000
DTEND;TZID=America/Detroit:20260804T184500
DTSTAMP:20260423T173222
CREATED:20240814T210516Z
LAST-MODIFIED:20241218T155106Z
UID:10002360-1785864600-1785869100@arborhospice.org
SUMMARY:Living On - Sudden/Traumatic Loss (Virtual)
DESCRIPTION:An open\, ongoing group that meets monthly to discuss grief and loss as it pertains to the sudden and traumatic loss of a loved one.\nThis virtual group meets the 1st Tuesday of the month • 5:30pm – 6:45pm\nRSVP: Kjirsten Boeve • 231-929-1557 • kboeve@hom.org
URL:https://arborhospice.org/event/living-on-sudden-traumatic-loss-virtual/2026-08-04/
LOCATION:Meets Virtually
CATEGORIES:Grief Support
ORGANIZER;CN="Kjirsten Boeve":MAILTO:kboeve@hom.org
END:VEVENT
BEGIN:VEVENT
DTSTART;TZID=America/Detroit:20260901T173000
DTEND;TZID=America/Detroit:20260901T184500
DTSTAMP:20260423T173222
CREATED:20240814T210516Z
LAST-MODIFIED:20241218T155106Z
UID:10002361-1788283800-1788288300@arborhospice.org
SUMMARY:Living On - Sudden/Traumatic Loss (Virtual)
DESCRIPTION:An open\, ongoing group that meets monthly to discuss grief and loss as it pertains to the sudden and traumatic loss of a loved one.\nThis virtual group meets the 1st Tuesday of the month • 5:30pm – 6:45pm\nRSVP: Kjirsten Boeve • 231-929-1557 • kboeve@hom.org
URL:https://arborhospice.org/event/living-on-sudden-traumatic-loss-virtual/2026-09-01/
LOCATION:Meets Virtually
CATEGORIES:Grief Support
ORGANIZER;CN="Kjirsten Boeve":MAILTO:kboeve@hom.org
END:VEVENT
BEGIN:VEVENT
DTSTART;TZID=America/Detroit:20261006T173000
DTEND;TZID=America/Detroit:20261006T184500
DTSTAMP:20260423T173222
CREATED:20240814T210516Z
LAST-MODIFIED:20241218T155106Z
UID:10002362-1791307800-1791312300@arborhospice.org
SUMMARY:Living On - Sudden/Traumatic Loss (Virtual)
DESCRIPTION:An open\, ongoing group that meets monthly to discuss grief and loss as it pertains to the sudden and traumatic loss of a loved one.\nThis virtual group meets the 1st Tuesday of the month • 5:30pm – 6:45pm\nRSVP: Kjirsten Boeve • 231-929-1557 • kboeve@hom.org
URL:https://arborhospice.org/event/living-on-sudden-traumatic-loss-virtual/2026-10-06/
LOCATION:Meets Virtually
CATEGORIES:Grief Support
ORGANIZER;CN="Kjirsten Boeve":MAILTO:kboeve@hom.org
END:VEVENT
BEGIN:VEVENT
DTSTART;TZID=America/Detroit:20261103T173000
DTEND;TZID=America/Detroit:20261103T184500
DTSTAMP:20260423T173222
CREATED:20240814T210516Z
LAST-MODIFIED:20241218T155106Z
UID:10002363-1793727000-1793731500@arborhospice.org
SUMMARY:Living On - Sudden/Traumatic Loss (Virtual)
DESCRIPTION:An open\, ongoing group that meets monthly to discuss grief and loss as it pertains to the sudden and traumatic loss of a loved one.\nThis virtual group meets the 1st Tuesday of the month • 5:30pm – 6:45pm\nRSVP: Kjirsten Boeve • 231-929-1557 • kboeve@hom.org
URL:https://arborhospice.org/event/living-on-sudden-traumatic-loss-virtual/2026-11-03/
LOCATION:Meets Virtually
CATEGORIES:Grief Support
ORGANIZER;CN="Kjirsten Boeve":MAILTO:kboeve@hom.org
END:VEVENT
BEGIN:VEVENT
DTSTART;TZID=America/Detroit:20261201T173000
DTEND;TZID=America/Detroit:20261201T184500
DTSTAMP:20260423T173222
CREATED:20240814T210516Z
LAST-MODIFIED:20241218T155106Z
UID:10002364-1796146200-1796150700@arborhospice.org
SUMMARY:Living On - Sudden/Traumatic Loss (Virtual)
DESCRIPTION:An open\, ongoing group that meets monthly to discuss grief and loss as it pertains to the sudden and traumatic loss of a loved one.\nThis virtual group meets the 1st Tuesday of the month • 5:30pm – 6:45pm\nRSVP: Kjirsten Boeve • 231-929-1557 • kboeve@hom.org
URL:https://arborhospice.org/event/living-on-sudden-traumatic-loss-virtual/2026-12-01/
LOCATION:Meets Virtually
CATEGORIES:Grief Support
ORGANIZER;CN="Kjirsten Boeve":MAILTO:kboeve@hom.org
END:VEVENT
BEGIN:VEVENT
DTSTART;TZID=America/Detroit:20270105T173000
DTEND;TZID=America/Detroit:20270105T184500
DTSTAMP:20260423T173222
CREATED:20240814T210516Z
LAST-MODIFIED:20241218T155106Z
UID:10002365-1799170200-1799174700@arborhospice.org
SUMMARY:Living On - Sudden/Traumatic Loss (Virtual)
DESCRIPTION:An open\, ongoing group that meets monthly to discuss grief and loss as it pertains to the sudden and traumatic loss of a loved one.\nThis virtual group meets the 1st Tuesday of the month • 5:30pm – 6:45pm\nRSVP: Kjirsten Boeve • 231-929-1557 • kboeve@hom.org
URL:https://arborhospice.org/event/living-on-sudden-traumatic-loss-virtual/2027-01-05/
LOCATION:Meets Virtually
CATEGORIES:Grief Support
ORGANIZER;CN="Kjirsten Boeve":MAILTO:kboeve@hom.org
END:VEVENT
BEGIN:VEVENT
DTSTART;TZID=America/Detroit:20270202T173000
DTEND;TZID=America/Detroit:20270202T184500
DTSTAMP:20260423T173222
CREATED:20240814T210516Z
LAST-MODIFIED:20241218T155106Z
UID:10002366-1801589400-1801593900@arborhospice.org
SUMMARY:Living On - Sudden/Traumatic Loss (Virtual)
DESCRIPTION:An open\, ongoing group that meets monthly to discuss grief and loss as it pertains to the sudden and traumatic loss of a loved one.\nThis virtual group meets the 1st Tuesday of the month • 5:30pm – 6:45pm\nRSVP: Kjirsten Boeve • 231-929-1557 • kboeve@hom.org
URL:https://arborhospice.org/event/living-on-sudden-traumatic-loss-virtual/2027-02-02/
LOCATION:Meets Virtually
CATEGORIES:Grief Support
ORGANIZER;CN="Kjirsten Boeve":MAILTO:kboeve@hom.org
END:VEVENT
BEGIN:VEVENT
DTSTART;TZID=America/Detroit:20270302T173000
DTEND;TZID=America/Detroit:20270302T184500
DTSTAMP:20260423T173222
CREATED:20240814T210516Z
LAST-MODIFIED:20241218T155106Z
UID:10002367-1804008600-1804013100@arborhospice.org
SUMMARY:Living On - Sudden/Traumatic Loss (Virtual)
DESCRIPTION:An open\, ongoing group that meets monthly to discuss grief and loss as it pertains to the sudden and traumatic loss of a loved one.\nThis virtual group meets the 1st Tuesday of the month • 5:30pm – 6:45pm\nRSVP: Kjirsten Boeve • 231-929-1557 • kboeve@hom.org
URL:https://arborhospice.org/event/living-on-sudden-traumatic-loss-virtual/2027-03-02/
LOCATION:Meets Virtually
CATEGORIES:Grief Support
ORGANIZER;CN="Kjirsten Boeve":MAILTO:kboeve@hom.org
END:VEVENT
BEGIN:VEVENT
DTSTART;TZID=America/Detroit:20270406T173000
DTEND;TZID=America/Detroit:20270406T184500
DTSTAMP:20260423T173222
CREATED:20240814T210516Z
LAST-MODIFIED:20241218T155106Z
UID:10002368-1807032600-1807037100@arborhospice.org
SUMMARY:Living On - Sudden/Traumatic Loss (Virtual)
DESCRIPTION:An open\, ongoing group that meets monthly to discuss grief and loss as it pertains to the sudden and traumatic loss of a loved one.\nThis virtual group meets the 1st Tuesday of the month • 5:30pm – 6:45pm\nRSVP: Kjirsten Boeve • 231-929-1557 • kboeve@hom.org
URL:https://arborhospice.org/event/living-on-sudden-traumatic-loss-virtual/2027-04-06/
LOCATION:Meets Virtually
CATEGORIES:Grief Support
ORGANIZER;CN="Kjirsten Boeve":MAILTO:kboeve@hom.org
END:VEVENT
BEGIN:VEVENT
DTSTART;TZID=America/Detroit:20270504T173000
DTEND;TZID=America/Detroit:20270504T184500
DTSTAMP:20260423T173223
CREATED:20240814T210516Z
LAST-MODIFIED:20241218T155106Z
UID:10002369-1809451800-1809456300@arborhospice.org
SUMMARY:Living On - Sudden/Traumatic Loss (Virtual)
DESCRIPTION:An open\, ongoing group that meets monthly to discuss grief and loss as it pertains to the sudden and traumatic loss of a loved one.\nThis virtual group meets the 1st Tuesday of the month • 5:30pm – 6:45pm\nRSVP: Kjirsten Boeve • 231-929-1557 • kboeve@hom.org
URL:https://arborhospice.org/event/living-on-sudden-traumatic-loss-virtual/2027-05-04/
LOCATION:Meets Virtually
CATEGORIES:Grief Support
ORGANIZER;CN="Kjirsten Boeve":MAILTO:kboeve@hom.org
END:VEVENT
BEGIN:VEVENT
DTSTART;TZID=America/Detroit:20270601T173000
DTEND;TZID=America/Detroit:20270601T184500
DTSTAMP:20260423T173223
CREATED:20240814T210516Z
LAST-MODIFIED:20241218T155106Z
UID:10002370-1811871000-1811875500@arborhospice.org
SUMMARY:Living On - Sudden/Traumatic Loss (Virtual)
DESCRIPTION:An open\, ongoing group that meets monthly to discuss grief and loss as it pertains to the sudden and traumatic loss of a loved one.\nThis virtual group meets the 1st Tuesday of the month • 5:30pm – 6:45pm\nRSVP: Kjirsten Boeve • 231-929-1557 • kboeve@hom.org
URL:https://arborhospice.org/event/living-on-sudden-traumatic-loss-virtual/2027-06-01/
LOCATION:Meets Virtually
CATEGORIES:Grief Support
ORGANIZER;CN="Kjirsten Boeve":MAILTO:kboeve@hom.org
END:VEVENT
BEGIN:VEVENT
DTSTART;TZID=America/Detroit:20270706T173000
DTEND;TZID=America/Detroit:20270706T184500
DTSTAMP:20260423T173223
CREATED:20240814T210516Z
LAST-MODIFIED:20241218T155106Z
UID:10002371-1814895000-1814899500@arborhospice.org
SUMMARY:Living On - Sudden/Traumatic Loss (Virtual)
DESCRIPTION:An open\, ongoing group that meets monthly to discuss grief and loss as it pertains to the sudden and traumatic loss of a loved one.\nThis virtual group meets the 1st Tuesday of the month • 5:30pm – 6:45pm\nRSVP: Kjirsten Boeve • 231-929-1557 • kboeve@hom.org
URL:https://arborhospice.org/event/living-on-sudden-traumatic-loss-virtual/2027-07-06/
LOCATION:Meets Virtually
CATEGORIES:Grief Support
ORGANIZER;CN="Kjirsten Boeve":MAILTO:kboeve@hom.org
END:VEVENT
BEGIN:VEVENT
DTSTART;TZID=America/Detroit:20270803T173000
DTEND;TZID=America/Detroit:20270803T184500
DTSTAMP:20260423T173223
CREATED:20240814T210516Z
LAST-MODIFIED:20241218T155106Z
UID:10002372-1817314200-1817318700@arborhospice.org
SUMMARY:Living On - Sudden/Traumatic Loss (Virtual)
DESCRIPTION:An open\, ongoing group that meets monthly to discuss grief and loss as it pertains to the sudden and traumatic loss of a loved one.\nThis virtual group meets the 1st Tuesday of the month • 5:30pm – 6:45pm\nRSVP: Kjirsten Boeve • 231-929-1557 • kboeve@hom.org
URL:https://arborhospice.org/event/living-on-sudden-traumatic-loss-virtual/2027-08-03/
LOCATION:Meets Virtually
CATEGORIES:Grief Support
ORGANIZER;CN="Kjirsten Boeve":MAILTO:kboeve@hom.org
END:VEVENT
BEGIN:VEVENT
DTSTART;TZID=America/Detroit:20270907T173000
DTEND;TZID=America/Detroit:20270907T184500
DTSTAMP:20260423T173223
CREATED:20240814T210516Z
LAST-MODIFIED:20241218T155106Z
UID:10002373-1820338200-1820342700@arborhospice.org
SUMMARY:Living On - Sudden/Traumatic Loss (Virtual)
DESCRIPTION:An open\, ongoing group that meets monthly to discuss grief and loss as it pertains to the sudden and traumatic loss of a loved one.\nThis virtual group meets the 1st Tuesday of the month • 5:30pm – 6:45pm\nRSVP: Kjirsten Boeve • 231-929-1557 • kboeve@hom.org
URL:https://arborhospice.org/event/living-on-sudden-traumatic-loss-virtual/2027-09-07/
LOCATION:Meets Virtually
CATEGORIES:Grief Support
ORGANIZER;CN="Kjirsten Boeve":MAILTO:kboeve@hom.org
END:VEVENT
BEGIN:VEVENT
DTSTART;TZID=America/Detroit:20271005T173000
DTEND;TZID=America/Detroit:20271005T184500
DTSTAMP:20260423T173223
CREATED:20240814T210516Z
LAST-MODIFIED:20241218T155106Z
UID:10002374-1822757400-1822761900@arborhospice.org
SUMMARY:Living On - Sudden/Traumatic Loss (Virtual)
DESCRIPTION:An open\, ongoing group that meets monthly to discuss grief and loss as it pertains to the sudden and traumatic loss of a loved one.\nThis virtual group meets the 1st Tuesday of the month • 5:30pm – 6:45pm\nRSVP: Kjirsten Boeve • 231-929-1557 • kboeve@hom.org
URL:https://arborhospice.org/event/living-on-sudden-traumatic-loss-virtual/2027-10-05/
LOCATION:Meets Virtually
CATEGORIES:Grief Support
ORGANIZER;CN="Kjirsten Boeve":MAILTO:kboeve@hom.org
END:VEVENT
BEGIN:VEVENT
DTSTART;TZID=America/Detroit:20271102T173000
DTEND;TZID=America/Detroit:20271102T184500
DTSTAMP:20260423T173223
CREATED:20240814T210516Z
LAST-MODIFIED:20241218T155106Z
UID:10002375-1825176600-1825181100@arborhospice.org
SUMMARY:Living On - Sudden/Traumatic Loss (Virtual)
DESCRIPTION:An open\, ongoing group that meets monthly to discuss grief and loss as it pertains to the sudden and traumatic loss of a loved one.\nThis virtual group meets the 1st Tuesday of the month • 5:30pm – 6:45pm\nRSVP: Kjirsten Boeve • 231-929-1557 • kboeve@hom.org
URL:https://arborhospice.org/event/living-on-sudden-traumatic-loss-virtual/2027-11-02/
LOCATION:Meets Virtually
CATEGORIES:Grief Support
ORGANIZER;CN="Kjirsten Boeve":MAILTO:kboeve@hom.org
END:VEVENT
BEGIN:VEVENT
DTSTART;TZID=America/Detroit:20271207T173000
DTEND;TZID=America/Detroit:20271207T184500
DTSTAMP:20260423T173223
CREATED:20240814T210516Z
LAST-MODIFIED:20241218T155106Z
UID:10002376-1828200600-1828205100@arborhospice.org
SUMMARY:Living On - Sudden/Traumatic Loss (Virtual)
DESCRIPTION:An open\, ongoing group that meets monthly to discuss grief and loss as it pertains to the sudden and traumatic loss of a loved one.\nThis virtual group meets the 1st Tuesday of the month • 5:30pm – 6:45pm\nRSVP: Kjirsten Boeve • 231-929-1557 • kboeve@hom.org
URL:https://arborhospice.org/event/living-on-sudden-traumatic-loss-virtual/2027-12-07/
LOCATION:Meets Virtually
CATEGORIES:Grief Support
ORGANIZER;CN="Kjirsten Boeve":MAILTO:kboeve@hom.org
END:VEVENT
BEGIN:VEVENT
DTSTART;TZID=America/Detroit:20280104T173000
DTEND;TZID=America/Detroit:20280104T184500
DTSTAMP:20260423T173223
CREATED:20240814T210516Z
LAST-MODIFIED:20241218T155106Z
UID:10002377-1830619800-1830624300@arborhospice.org
SUMMARY:Living On - Sudden/Traumatic Loss (Virtual)
DESCRIPTION:An open\, ongoing group that meets monthly to discuss grief and loss as it pertains to the sudden and traumatic loss of a loved one.\nThis virtual group meets the 1st Tuesday of the month • 5:30pm – 6:45pm\nRSVP: Kjirsten Boeve • 231-929-1557 • kboeve@hom.org
URL:https://arborhospice.org/event/living-on-sudden-traumatic-loss-virtual/2028-01-04/
LOCATION:Meets Virtually
CATEGORIES:Grief Support
ORGANIZER;CN="Kjirsten Boeve":MAILTO:kboeve@hom.org
END:VEVENT
BEGIN:VEVENT
DTSTART;TZID=America/Detroit:20280201T173000
DTEND;TZID=America/Detroit:20280201T184500
DTSTAMP:20260423T173223
CREATED:20240814T210516Z
LAST-MODIFIED:20241218T155106Z
UID:10002378-1833039000-1833043500@arborhospice.org
SUMMARY:Living On - Sudden/Traumatic Loss (Virtual)
DESCRIPTION:An open\, ongoing group that meets monthly to discuss grief and loss as it pertains to the sudden and traumatic loss of a loved one.\nThis virtual group meets the 1st Tuesday of the month • 5:30pm – 6:45pm\nRSVP: Kjirsten Boeve • 231-929-1557 • kboeve@hom.org
URL:https://arborhospice.org/event/living-on-sudden-traumatic-loss-virtual/2028-02-01/
LOCATION:Meets Virtually
CATEGORIES:Grief Support
ORGANIZER;CN="Kjirsten Boeve":MAILTO:kboeve@hom.org
END:VEVENT
BEGIN:VEVENT
DTSTART;TZID=America/Detroit:20280307T173000
DTEND;TZID=America/Detroit:20280307T184500
DTSTAMP:20260423T173223
CREATED:20240814T210516Z
LAST-MODIFIED:20241218T155106Z
UID:10002379-1836063000-1836067500@arborhospice.org
SUMMARY:Living On - Sudden/Traumatic Loss (Virtual)
DESCRIPTION:An open\, ongoing group that meets monthly to discuss grief and loss as it pertains to the sudden and traumatic loss of a loved one.\nThis virtual group meets the 1st Tuesday of the month • 5:30pm – 6:45pm\nRSVP: Kjirsten Boeve • 231-929-1557 • kboeve@hom.org
URL:https://arborhospice.org/event/living-on-sudden-traumatic-loss-virtual/2028-03-07/
LOCATION:Meets Virtually
CATEGORIES:Grief Support
ORGANIZER;CN="Kjirsten Boeve":MAILTO:kboeve@hom.org
END:VEVENT
BEGIN:VEVENT
DTSTART;TZID=America/Detroit:20280404T173000
DTEND;TZID=America/Detroit:20280404T184500
DTSTAMP:20260423T173223
CREATED:20240814T210516Z
LAST-MODIFIED:20241218T155106Z
UID:10002380-1838482200-1838486700@arborhospice.org
SUMMARY:Living On - Sudden/Traumatic Loss (Virtual)
DESCRIPTION:An open\, ongoing group that meets monthly to discuss grief and loss as it pertains to the sudden and traumatic loss of a loved one.\nThis virtual group meets the 1st Tuesday of the month • 5:30pm – 6:45pm\nRSVP: Kjirsten Boeve • 231-929-1557 • kboeve@hom.org
URL:https://arborhospice.org/event/living-on-sudden-traumatic-loss-virtual/2028-04-04/
LOCATION:Meets Virtually
CATEGORIES:Grief Support
ORGANIZER;CN="Kjirsten Boeve":MAILTO:kboeve@hom.org
END:VEVENT
BEGIN:VEVENT
DTSTART;TZID=America/Detroit:20280502T173000
DTEND;TZID=America/Detroit:20280502T184500
DTSTAMP:20260423T173223
CREATED:20240814T210516Z
LAST-MODIFIED:20241218T155106Z
UID:10002381-1840901400-1840905900@arborhospice.org
SUMMARY:Living On - Sudden/Traumatic Loss (Virtual)
DESCRIPTION:An open\, ongoing group that meets monthly to discuss grief and loss as it pertains to the sudden and traumatic loss of a loved one.\nThis virtual group meets the 1st Tuesday of the month • 5:30pm – 6:45pm\nRSVP: Kjirsten Boeve • 231-929-1557 • kboeve@hom.org
URL:https://arborhospice.org/event/living-on-sudden-traumatic-loss-virtual/2028-05-02/
LOCATION:Meets Virtually
CATEGORIES:Grief Support
ORGANIZER;CN="Kjirsten Boeve":MAILTO:kboeve@hom.org
END:VEVENT
BEGIN:VEVENT
DTSTART;TZID=America/Detroit:20280606T173000
DTEND;TZID=America/Detroit:20280606T184500
DTSTAMP:20260423T173223
CREATED:20240814T210516Z
LAST-MODIFIED:20241218T155106Z
UID:10002382-1843925400-1843929900@arborhospice.org
SUMMARY:Living On - Sudden/Traumatic Loss (Virtual)
DESCRIPTION:An open\, ongoing group that meets monthly to discuss grief and loss as it pertains to the sudden and traumatic loss of a loved one.\nThis virtual group meets the 1st Tuesday of the month • 5:30pm – 6:45pm\nRSVP: Kjirsten Boeve • 231-929-1557 • kboeve@hom.org
URL:https://arborhospice.org/event/living-on-sudden-traumatic-loss-virtual/2028-06-06/
LOCATION:Meets Virtually
CATEGORIES:Grief Support
ORGANIZER;CN="Kjirsten Boeve":MAILTO:kboeve@hom.org
END:VEVENT
BEGIN:VEVENT
DTSTART;TZID=America/Detroit:20280704T173000
DTEND;TZID=America/Detroit:20280704T184500
DTSTAMP:20260423T173223
CREATED:20240814T210516Z
LAST-MODIFIED:20241218T155106Z
UID:10002383-1846344600-1846349100@arborhospice.org
SUMMARY:Living On - Sudden/Traumatic Loss (Virtual)
DESCRIPTION:An open\, ongoing group that meets monthly to discuss grief and loss as it pertains to the sudden and traumatic loss of a loved one.\nThis virtual group meets the 1st Tuesday of the month • 5:30pm – 6:45pm\nRSVP: Kjirsten Boeve • 231-929-1557 • kboeve@hom.org
URL:https://arborhospice.org/event/living-on-sudden-traumatic-loss-virtual/2028-07-04/
LOCATION:Meets Virtually
CATEGORIES:Grief Support
ORGANIZER;CN="Kjirsten Boeve":MAILTO:kboeve@hom.org
END:VEVENT
BEGIN:VEVENT
DTSTART;TZID=America/Detroit:20280801T173000
DTEND;TZID=America/Detroit:20280801T184500
DTSTAMP:20260423T173223
CREATED:20240814T210516Z
LAST-MODIFIED:20241218T155106Z
UID:10002384-1848763800-1848768300@arborhospice.org
SUMMARY:Living On - Sudden/Traumatic Loss (Virtual)
DESCRIPTION:An open\, ongoing group that meets monthly to discuss grief and loss as it pertains to the sudden and traumatic loss of a loved one.\nThis virtual group meets the 1st Tuesday of the month • 5:30pm – 6:45pm\nRSVP: Kjirsten Boeve • 231-929-1557 • kboeve@hom.org
URL:https://arborhospice.org/event/living-on-sudden-traumatic-loss-virtual/2028-08-01/
LOCATION:Meets Virtually
CATEGORIES:Grief Support
ORGANIZER;CN="Kjirsten Boeve":MAILTO:kboeve@hom.org
END:VEVENT
BEGIN:VEVENT
DTSTART;TZID=America/Detroit:20280905T173000
DTEND;TZID=America/Detroit:20280905T184500
DTSTAMP:20260423T173223
CREATED:20240814T210516Z
LAST-MODIFIED:20241218T155106Z
UID:10002385-1851787800-1851792300@arborhospice.org
SUMMARY:Living On - Sudden/Traumatic Loss (Virtual)
DESCRIPTION:An open\, ongoing group that meets monthly to discuss grief and loss as it pertains to the sudden and traumatic loss of a loved one.\nThis virtual group meets the 1st Tuesday of the month • 5:30pm – 6:45pm\nRSVP: Kjirsten Boeve • 231-929-1557 • kboeve@hom.org
URL:https://arborhospice.org/event/living-on-sudden-traumatic-loss-virtual/2028-09-05/
LOCATION:Meets Virtually
CATEGORIES:Grief Support
ORGANIZER;CN="Kjirsten Boeve":MAILTO:kboeve@hom.org
END:VEVENT
BEGIN:VEVENT
DTSTART;TZID=America/Detroit:20281003T173000
DTEND;TZID=America/Detroit:20281003T184500
DTSTAMP:20260423T173223
CREATED:20240814T210516Z
LAST-MODIFIED:20241218T155106Z
UID:10002386-1854207000-1854211500@arborhospice.org
SUMMARY:Living On - Sudden/Traumatic Loss (Virtual)
DESCRIPTION:An open\, ongoing group that meets monthly to discuss grief and loss as it pertains to the sudden and traumatic loss of a loved one.\nThis virtual group meets the 1st Tuesday of the month • 5:30pm – 6:45pm\nRSVP: Kjirsten Boeve • 231-929-1557 • kboeve@hom.org
URL:https://arborhospice.org/event/living-on-sudden-traumatic-loss-virtual/2028-10-03/
LOCATION:Meets Virtually
CATEGORIES:Grief Support
ORGANIZER;CN="Kjirsten Boeve":MAILTO:kboeve@hom.org
END:VEVENT
END:VCALENDAR